{"text_format":"1","workbook":"xlsx","n_sheets":4,"sheets":["INSTRUCTIONS","INPUT","FREQ SHIFT","Sheet3"],"not_rendered":{"charts":4,"images":0,"macros":1,"external_links":0,"defined_names":6,"comments":0,"pivot_tables":0},"unopened":[],"bounds":{"document_bytes":16777216,"sheet_cells":100000,"rows_first":2000,"rows_last":500,"rows_between":2000,"halvings":0,"cell_chars":16384,"cell_head_chars":4096},"cells_cut":4,"cells_raw":0,"read":"whole","date_system":"1900"}

{"sheet":"INSTRUCTIONS","index":0,"n_rows":19,"n_cols":3,"rows_kept":19,"cut":false,"hidden":false,"merged":[]}
["Miller Solar"]
["17395 Oak Rd. Atascadero, CA 93422"]
["SUNNY ISLAND ANALYSIS TOOL"]
[]
["Last Update",null,"2023-11-12"]
[]
["Description",null,"This spreadsheet tool is constructed to allow integrators to interpret log files from SMA Sunny Island Inverters"]
["Instructions",1,"Extract log files from SI inverter per instructions in the installation manual, Section 11.3"]
[null,2,"Clear all cells on the INPUT sheet."]
[null,3,"Open .log file for date in question with a text editor."]
[null,4,"Copy and paste the entire text from text editor at cell A1 on INPUT sheet."]
[null,5,"Parse the columns using Data/Text to Columns/Semicolon delimter."]
[null,6,"View results on the subsequent pages.  Adjust graphing start and stop time to zoom into time span to be analyzed."]
[]
["Disclaimers, limitations.",null,"This spreadhswet tool is authored by William Miller.  All rigts are reserved.  "]
[null,null,"This tool is always under construction and no gurantee is offered about its accuracy."]
[null,null,"Check back on our website for updates as additonal analysisi pages will be created over time."]
[null,null,"If any cells are locked it is to prevent damage to formulas.  There is no password."]
[null,null,"Please offer any feedback to me at william(at)millersolar.com"]

{"sheet":"INPUT","index":1,"n_rows":1437,"n_cols":300,"rows_kept":281,"cut":true,"hidden":false,"merged":[],"bounds":{"rows_first":125,"rows_last":31,"rows_between":125,"halvings":4}}
["#################",null,null,null,null,null,null,null,null,null,null,null,null,null,null,null,null,null,null,null,null,null,null,null,null,null,null,null,null,null,null,null,null,null,null,null,null,null,null,null,null,null,null,null,null,null,null,null,null,null,null,null,null,null,null,null,null,null,null,null,null,null,null,null,null,null,null,null,null,null,null,null,null,null,null,null,null,null,null,null,null,null,null,null,null,null,null,null,null,null,null,null,null,null,null,null,null,null,null,null,null,null,null,null,null,null,null,null,null,null,null,null,null,null,null,null,null,null,null,null,null,null,null,null,null,null,null,null,null,null,null,null,null,null,null,null,null,null,null,null,null,null,null,null,null,null,null,null,null,null,"#################"]
["#",null,null,null,null,null,null,null,null,null,null,null,null,null,null,null,null,null,null,null,null,null,null,null,null,null,null,null,null,null,null,null,null,null,null,null,null,null,null,null,null,null,null,null,null,null,null,null,null,null,null,null,null,null,null,null,null,null,null,null,null,null,null,null,null,null,null,null,null,null,null,null,null,null,null,null,null,null,null,null,null,null,null,null,null,null,null,null,null,null,null,null,null,null,null,null,null,null,null,null,null,null,null,null,null,null,null,null,null,null,null,null,null,null,null,null,null,null,null,null,null,null,null,null,null,null,null,null,null,null,null,null,null,null,null,null,null,null,null,null,null,null,null,null,null,null,null,null,null,null,"#"]
["# SI6048U - Log Data",null,null,null,null,null,null,null,null,null,null,null,null,null,null,null,null,null,null,null,null,null,null,null,null,null,null,null,null,null,null,null,null,null,null,null,null,null,null,null,null,null,null,null,null,null,null,null,null,null,null,null,null,null,null,null,null,null,null,null,null,null,null,null,null,null,null,null,null,null,null,null,null,null,null,null,null,null,null,null,null,null,null,null,null,null,null,null,null,null,null,null,null,null,null,null,null,null,null,null,null,null,null,null,null,null,null,null,null,null,null,null,null,null,null,null,null,null,null,null,null,null,null,null,null,null,null,null,null,null,null,null,null,null,null,null,null,null,null,null,null,null,null,null,null,null,null,null,null,null,"# SI6048U - Log Data"]
["#",null,null,null,null,null,null,null,null,null,null,null,null,null,null,null,null,null,null,null,null,null,null,null,null,null,null,null,null,null,null,null,null,null,null,null,null,null,null,null,null,null,null,null,null,null,null,null,null,null,null,null,null,null,null,null,null,null,null,null,null,null,null,null,null,null,null,null,null,null,null,null,null,null,null,null,null,null,null,null,null,null,null,null,null,null,null,null,null,null,null,null,null,null,null,null,null,null,null,null,null,null,null,null,null,null,null,null,null,null,null,null,null,null,null,null,null,null,null,null,null,null,null,null,null,null,null,null,null,null,null,null,null,null,null,null,null,null,null,null,null,null,null,null,null,null,null,null,null,null,"#"]
["#################",null,null,null,null,null,null,null,null,null,null,null,null,null,null,null,null,null,null,null,null,null,null,null,null,null,null,null,null,null,null,null,null,null,null,null,null,null,null,null,null,null,null,null,null,null,null,null,null,null,null,null,null,null,null,null,null,null,null,null,null,null,null,null,null,null,null,null,null,null,null,null,null,null,null,null,null,null,null,null,null,null,null,null,null,null,null,null,null,null,null,null,null,null,null,null,null,null,null,null,null,null,null,null,null,null,null,null,null,null,null,null,null,null,null,null,null,null,null,null,null,null,null,null,null,null,null,null,null,null,null,null,null,null,null,null,null,null,null,null,null,null,null,null,null,null,null,null,null,null,"#################"]
["#",null,null,null,null,null,null,null,null,null,null,null,null,null,null,null,null,null,null,null,null,null,null,null,null,null,null,null,null,null,null,null,null,null,null,null,null,null,null,null,null,null,null,null,null,null,null,null,null,null,null,null,null,null,null,null,null,null,null,null,null,null,null,null,null,null,null,null,null,null,null,null,null,null,null,null,null,null,null,null,null,null,null,null,null,null,null,null,null,null,null,null,null,null,null,null,null,null,null,null,null,null,null,null,null,null,null,null,null,null,null,null,null,null,null,null,null,null,null,null,null,null,null,null,null,null,null,null,null,null,null,null,null,null,null,null,null,null,null,null,null,null,null,null,null,null,null,null,null,null,"#"]
["# SN  :  1260024230",null,null,null,null,null,null,null,null,null,null,null,null,null,null,null,null,null,null,null,null,null,null,null,null,null,null,null,null,null,null,null,null,null,null,null,null,null,null,null,null,null,null,null,null,null,null,null,null,null,null,null,null,null,null,null,null,null,null,null,null,null,null,null,null,null,null,null,null,null,null,null,null,null,null,null,null,null,null,null,null,null,null,null,null,null,null,null,null,null,null,null,null,null,null,null,null,null,null,null,null,null,null,null,null,null,null,null,null,null,null,null,null,null,null,null,null,null,null,null,null,null,null,null,null,null,null,null,null,null,null,null,null,null,null,null,null,null,null,null,null,null,null,null,null,null,null,null,null,null,"# SN  :  1260024230"]
["# SN1 :  1260019947",null,null,null,null,null,null,null,null,null,null,null,null,null,null,null,null,null,null,null,null,null,null,null,null,null,null,null,null,null,null,null,null,null,null,null,null,null,null,null,null,null,null,null,null,null,null,null,null,null,null,null,null,null,null,null,null,null,null,null,null,null,null,null,null,null,null,null,null,null,null,null,null,null,null,null,null,null,null,null,null,null,null,null,null,null,null,null,null,null,null,null,null,null,null,null,null,null,null,null,null,null,null,null,null,null,null,null,null,null,null,null,null,null,null,null,null,null,null,null,null,null,null,null,null,null,null,null,null,null,null,null,null,null,null,null,null,null,null,null,null,null,null,null,null,null,null,null,null,null,"# SN1 :  1260019947"]
["# SN2 :  1260020075",null,null,null,null,null,null,null,null,null,null,null,null,null,null,null,null,null,null,null,null,null,null,null,null,null,null,null,null,null,null,null,null,null,null,null,null,null,null,null,null,null,null,null,null,null,null,null,null,null,null,null,null,null,null,null,null,null,null,null,null,null,null,null,null,null,null,null,null,null,null,null,null,null,null,null,null,null,null,null,null,null,null,null,null,null,null,null,null,null,null,null,null,null,null,null,null,null,null,null,null,null,null,null,null,null,null,null,null,null,null,null,null,null,null,null,null,null,null,null,null,null,null,null,null,null,null,null,null,null,null,null,null,null,null,null,null,null,null,null,null,null,null,null,null,null,null,null,null,null,"# SN2 :  1260020075"]
["# SN3 :  1260023569",null,null,null,null,null,null,null,null,null,null,null,null,null,null,null,null,null,null,null,null,null,null,null,null,null,null,null,null,null,null,null,null,null,null,null,null,null,null,null,null,null,null,null,null,null,null,null,null,null,null,null,null,null,null,null,null,null,null,null,null,null,null,null,null,null,null,null,null,null,null,null,null,null,null,null,null,null,null,null,null,null,null,null,null,null,null,null,null,null,null,null,null,null,null,null,null,null,null,null,null,null,null,null,null,null,null,null,null,null,null,null,null,null,null,null,null,null,null,null,null,null,null,null,null,null,null,null,null,null,null,null,null,null,null,null,null,null,null,null,null,null,null,null,null,null,null,null,null,null,"# SN3 :  1260023569"]
["#",null,null,null,null,null,null,null,null,null,null,null,null,null,null,null,null,null,null,null,null,null,null,null,null,null,null,null,null,null,null,null,null,null,null,null,null,null,null,null,null,null,null,null,null,null,null,null,null,null,null,null,null,null,null,null,null,null,null,null,null,null,null,null,null,null,null,null,null,null,null,null,null,null,null,null,null,null,null,null,null,null,null,null,null,null,null,null,null,null,null,null,null,null,null,null,null,null,null,null,null,null,null,null,null,null,null,null,null,null,null,null,null,null,null,null,null,null,null,null,null,null,null,null,null,null,null,null,null,null,null,null,null,null,null,null,null,null,null,null,null,null,null,null,null,null,null,null,null,null,"#"]
["TimeStamp","HsTmp (Max)","HsTmpSlv1 (Max)","HsTmpSlv2 (Max)","HsTmpSlv3 (Max)","TrfTmp (Max)","TrfTmpSlv1 (Max)","TrfTmpSlv2 (Max)","TrfTmpSlv3 (Max)","BatTmp (Max)","BatSoc (Avg)","Soh (Avg)","BatSocErr (Avg)","BatVtg (Min)","BatVtg (Max)","BatVtg (Avg)","BatChrgVtg (Avg)","TotBatCur (Min)","TotBatCur (Max)","TotBatCur (Avg)","InvVtg (Min)","InvVtg (Max)","InvVtg (Avg)","InvVtgSlv1 (Min)","InvVtgSlv1 (Max)","InvVtgSlv1 (Avg)","InvVtgSlv2 (Min)","InvVtgSlv2 (Max)","InvVtgSlv2 (Avg)","InvVtgSlv3 (Min)","InvVtgSlv3 (Max)","InvVtgSlv3 (Avg)","InvFrq (Min)","InvFrq (Max)","InvFrq (Avg)","InvCur (Max)","InvCurSlv1 (Max)","InvCurSlv2 (Max)","InvCurSlv3 (Max)","InvPwrAt (Min)","InvPwrAt (Max)","InvPwrAt (Avg)","InvPwrAtSlv1 (Min)","InvPwrAtSlv1 (Max)","InvPwrAtSlv1 (Avg)","InvPwrAtSlv2 (Min)","InvPwrAtSlv2 (Max)","InvPwrAtSlv2 (Avg)","InvPwrAtSlv3 (Min)","InvPwrAtSlv3 (Max)","InvPwrAtSlv3 (Avg)","InvPwrRt (Min)","InvPwrRt (Max)","InvPwrRt (Avg)","InvPwrRtSlv1 (Min)","InvPwrRtSlv1 (Max)","InvPwrRtSlv1 (Avg)","InvPwrRtSlv2 (Min)","InvPwrRtSlv2 (Max)","InvPwrRtSlv2 (Avg)","InvPwrRtSlv3 (Min)","InvPwrRtSlv3 (Max)","InvPwrRtSlv3 (Avg)","ExtVtg (Min)","ExtVtg (Max)","ExtVtg (Avg)","ExtVtgSlv1 (Min)","ExtVtgSlv1 (Max)","ExtVtgSlv1 (Avg)","ExtVtgSlv2 (Min)","ExtVtgSlv2 (Max)","ExtVtgSlv2 (Avg)","ExtVtgSlv3 (Min)","ExtVtgSlv3 (Max)","ExtVtgSlv3 (Avg)","ExtFrq (Min)","ExtFrq (Max)","ExtFrq (Avg)","ExtCur (Min)","ExtCur (Max)","ExtCur (Avg)","ExtCurSlv1 (Min)","ExtCurSlv1 (Max)","ExtCurSlv1 (Avg)","ExtCurSlv2 (Min)","ExtCurSlv2 (Max)","ExtCurSlv2 (Avg)","ExtCurSlv3 (Min)","ExtCurSlv3 (Max)","ExtCurSlv3 (Avg)","ExtPwrAt (Min)","ExtPwrAt (Max)","ExtPwrAt (Avg)","ExtPwrAtSlv1 (Min)","ExtPwrAtSlv1 (Max)","ExtPwrAtSlv1 (Avg)","ExtPwrAtSlv2 (Min)","ExtPwrAtSlv2 (Max)","ExtPwrAtSlv2 (Avg)","ExtPwrAtSlv3 (Min)","ExtPwrAtSlv3 (Max)","ExtPwrAtSlv3 (Avg)","ExtPwrRt (Min)","ExtPwrRt (Max)","ExtPwrRt (Avg)","ExtPwrRtSlv1 (Min)","ExtPwrRtSlv1 (Max)","ExtPwrRtSlv1 (Avg)","ExtPwrRtSlv2 (Min)","ExtPwrRtSlv2 (Max)","ExtPwrRtSlv2 (Avg)","ExtPwrRtSlv3 (Min)","ExtPwrRtSlv3 (Max)","ExtPwrRtSlv3 (Avg)","GnStt","GnDmdSrc","Rly1Stt","Rly2Stt","BatChrgOp","OpStt","RmgTmEqu (Min)","RmgTmFul (Min)","AptTmRmg","AhCntOut","Sic1Err","Sic2Err","Sic3Err","Sic4Err","Sic1Stt","Sic2Stt","Sic3Stt","Sic4Stt","Sic1PvVtg (Max)","Sic1PvVtg (Avg)","Sic2PvVtg (Max)","Sic2PvVtg (Avg)","Sic3PvVtg (Max)","Sic3PvVtg (Avg)","Sic4PvVtg (Max)","Sic4PvVtg (Avg)","Sic1PvPwr (Avg)","Sic2PvPwr (Avg)","Sic3PvPwr (Avg)","Sic4PvPwr (Avg)","ExtCurNom","InvChrgCurNom","TotLodPwr (Max)","TotLodPwr (Avg)","TotMccLodPwr (Max)","TotMccLodPwr (Avg)","TimeStamp","HsTmp (Max)","HsTmpSlv1 (Max)","HsTmpSlv2 (Max)","HsTmpSlv3 (Max)","TrfTmp (Max)","TrfTmpSlv1 (Max)","TrfTmpSlv2 (Max)","TrfTmpSlv3 (Max)","BatTmp (Max)","BatSoc (Avg)","Soh (Avg)","BatSocErr (Avg)","BatVtg (Min)","BatVtg (Max)","BatVtg (Avg)","BatChrgVtg (Avg)","TotBatCur (Min)","TotBatCur (Max)","TotBatCur (Avg)","InvVtg (Min)","InvVtg (Max)","InvVtg (Avg)","InvVtgSlv1 (Min)","InvVtgSlv1 (Max)","InvVtgSlv1 (Avg)","InvVtgSlv2 (Min)","InvVtgSlv2 (Max)","InvVtgSlv2 (Avg)","InvVtgSlv3 (Min)","InvVtgSlv3 (Max)","InvVtgSlv3 (Avg)","InvFrq (Min)","InvFrq (Max)","InvFrq (Avg)","InvCur (Max)","InvCurSlv1 (Max)","InvCurSlv2 (Max)","InvCurSlv3 (Max)","InvPwrAt (Min)","InvPwrAt (Max)","InvPwrAt (Avg)","InvPwrAtSlv1 (Min)","InvPwrAtSlv1 (Max)","InvPwrAtSlv1 (Avg)","InvPwrAtSlv2 (Min)","InvPwrAtSlv2 (Max)","InvPwrAtSlv2 (Avg)","InvPwrAtSlv3 (Min)","InvPwrAtSlv3 (Max)","InvPwrAtSlv3 (Avg)","InvPwrRt (Min)","InvPwrRt (Max)","InvPwrRt (Avg)","InvPwrRtSlv1 (Min)","InvPwrRtSlv1 (Max)","InvPwrRtSlv1 (Avg)","InvPwrRtSlv2 (Min)","InvPwrRtSlv2 (Max)","InvPwrRtSlv2 (Avg)","InvPwrRtSlv3 (Min)","InvPwrRtSlv3 (Max)","InvPwrRtSlv3 (Avg)","ExtVtg (Min)","ExtVtg (Max)","ExtVtg (Avg)","ExtVtgSlv1 (Min)","ExtVtgSlv1 (Max)","ExtVtgSlv1 (Avg)","ExtVtgSlv2 (Min)","ExtVtgSlv2 (Max)","ExtVtgSlv2 (Avg)","ExtVtgSlv3 (Min)","ExtVtgSlv3 (Max)","ExtVtgSlv3 (Avg)","ExtFrq (Min)","ExtFrq (Max)","ExtFrq (Avg)","ExtCur (Min)","ExtCur (Max)","ExtCur (Avg)","ExtCurSlv1 (Min)","ExtCurSlv1 (Max)","ExtCurSlv1 (Avg)","ExtCurSlv2 (Min)","ExtCurSlv2 (Max)","ExtCurSlv2 (Avg)","ExtCurSlv3 (Min)","ExtCurSlv3 (Max)","ExtCurSlv3 (Avg)","ExtPwrAt (Min)","ExtPwrAt (Max)","ExtPwrAt (Avg)","ExtPwrAtSlv1 (Min)","ExtPwrAtSlv1 (Max)","ExtPwrAtSlv1 (Avg)","ExtPwrAtSlv2 (Min)","ExtPwrAtSlv2 (Max)","ExtPwrAtSlv2 (Avg)","ExtPwrAtSlv3 (Min)","ExtPwrAtSlv3 (Max)","ExtPwrAtSlv3 (Avg)","ExtPwrRt (Min)","ExtPwrRt (Max)","ExtPwrRt (Avg)","ExtPwrRtSlv1 (Min)","ExtPwrRtSlv1 (Max)","ExtPwrRtSlv1 (Avg)","ExtPwrRtSlv2 (Min)","ExtPwrRtSlv2 (Max)","ExtPwrRtSlv2 (Avg)","ExtPwrRtSlv3 (Min)","ExtPwrRtSlv3 (Max)","ExtPwrRtSlv3 (Avg)","GnStt","GnDmdSrc","Rly1Stt","Rly2Stt","BatChrgOp","OpStt","RmgTmEqu (Min)","RmgTmFul (Min)","AptTmRmg","AhCntOut","Sic1Err","Sic2Err","Sic3Err","Sic4Err","Sic1Stt","Sic2Stt","Sic3Stt","Sic4Stt","Sic1PvVtg (Max)","Sic1PvVtg (Avg)","Sic2PvVtg (Max)","Sic2PvVtg (Avg)","Sic3PvVtg (Max)","Sic3PvVtg (Avg)","Sic4PvVtg (Max)","Sic4PvVtg (Avg)","Sic1PvPwr (Avg)","Sic2PvPwr (Avg)","Sic3PvPwr (Avg)","Sic4PvPwr (Avg)","ExtCurNom","InvChrgCurNom","TotLodPwr (Max)","TotLodPwr (Avg)","TotMccLodPwr (Max)","TotMccLodPwr (Avg)"]
["MM/DD/YYYY hh:mm:ss","degC","degC","degC","degC","degC","degC","degC","degC","degC","%","%","%","V","V","V","V","A","A","A","V","V","V","V","V","V","V","V","V","V","V","V","Hz","Hz","Hz","A","A","A","A","kW","kW","kW","kW","kW","kW","kW","kW","kW","kW","kW","kW","kVAr","kVAr","kVAr","kVAr","kVAr","kVAr","kVAr","kVAr","kVAr","kVAr","kVAr","kVAr","V","V","V","V","V","V","V","V","V","V","V","V","Hz","Hz","Hz","A","A","A","A","A","A","A","A","A","A","A","A","kW","kW","kW","kW","kW","kW","kW","kW","kW","kW","kW","kW","kVAr","kVAr","kVAr","kVAr","kVAr","kVAr","kVAr","kVAr","kVAr","kVAr","kVAr","kVAr",null,null,null,null,null,null,"d","d","hhmmss","Ah",null,null,null,null,null,null,null,null,"V","V","V","V","V","V","V","V","W","W","W","W","A","A","kW","kW","kW","kW","MM/DD/YYYY hh:mm:ss","degC","degC","degC","degC","degC","degC","degC","degC","degC","%","%","%","V","V","V","V","A","A","A","V","V","V","V","V","V","V","V","V","V","V","V","Hz","Hz","Hz","A","A","A","A","kW","kW","kW","kW","kW","kW","kW","kW","kW","kW","kW","kW","kVAr","kVAr","kVAr","kVAr","kVAr","kVAr","kVAr","kVAr","kVAr","kVAr","kVAr","kVAr","V","V","V","V","V","V","V","V","V","V","V","V","Hz","Hz","Hz","A","A","A","A","A","A","A","A","A","A","A","A","kW","kW","kW","kW","kW","kW","kW","kW","kW","kW","kW","kW","kVAr","kVAr","kVAr","kVAr","kVAr","kVAr","kVAr","kVAr","kVAr","kVAr","kVAr","kVAr",null,null,null,null,null,null,"d","d","hhmmss","Ah",null,null,null,null,null,null,null,null,"V","V","V","V","V","V","V","V","W","W","W","W","A","A","kW","kW","kW","kW"]
["2023-10-18T13:39:44",42,43,43,42,40,39,40,40,28.7,77.8,100,96.2,52.8,52.9,52.8,54.2,-131.9,-126.9,-129.6,122,122.3,122.1,119.6,119.8,119.6,122,122.2,122,119.5,119.7,119.5,60,60.1,60,15.8,15.8,15.8,15.8,-1.9,-1.6,-1.7,-1.9,-1.6,-1.7,-1.9,-1.7,-1.7,-1.9,-1.6,-1.7,-0.2,-0.1,-0.1,-0.2,-0.1,-0.1,-0.1,0.1,0,-0.1,0.1,0,122.1,122.5,122.2,119.5,120.2,119.8,121.8,122.3,122,119.3,120,119.6,60,60.1,60,13.7,16.100000000000001,15,15.5,17.899999999999999,16.8,13.3,15.5,14.5,11.6,13.4,12.3,1.7,2,1.8,1.9,2.1,2,1.6,1.9,1.7,1.4,1.6,1.4,-0.1,0.1,0,-0.1,0.1,0,-0.1,0.1,0,-0.1,0.1,0,6,1,1,2,1,1,179.5,29.5,"01:00:00",12537,0,0,0,0,0,0,0,0,0,0,0,0,0,0,0,0,0,0,0,0,30,48,0.4,0,0,0,"2023-10-20T00:00:45",35,38,37,37,46,45,45,44,27.3,79.599999999999994,100,1,53.2,53.2,53.2,53.8,27.2,30.2,29,120,120,120,120,120,120,120,120,120,119.9,120,119.9,59,59,59,2.6,4.8,2.7,4.5,0.1,0.2,0.1,0.5,0.6,0.5,0.2,0.3,0.2,0.5,0.5,0.5,-0.3,-0.2,-0.2,-0.1,-0.1,-0.1,-0.2,-0.2,-0.2,0,0,0,0.1,0.2,0.1,0.4,0.7,0.5,0.1,0.3,0.2,0.6,0.9,0.6,0,0,0,0.3,0.4,0.3,0.3,0.4,0.3,0.2,0.3,0.2,0.5,0.5,0.5,0,0,0,0,0,0,0,0,0,0,0,0,0,0,0,0,0,0,0,0,0,0,0,0,1,1,1,2,3,1,178.6,13.6,"00:00:00",263,0,0,0,0,0,0,0,0,0,0,0,0,0,0,0,0,0,0,0,0,30,48,1.5,1.4,0,0]
["2023-10-18T13:40:45",42,43,43,42,40,39,40,40,28.7,78.099999999999994,100,96.2,52.8,53,52.9,54.2,-131.19999999999999,-126,-129,122,122.2,122.1,119.5,119.8,119.6,122,122.2,122,119.5,119.8,119.6,60,60.1,60,15.8,15.7,16.100000000000001,15.5,-1.9,-1.6,-1.7,-1.9,-1.6,-1.7,-1.9,-1.6,-1.7,-1.8,-1.6,-1.7,-0.2,0,-0.1,-0.2,-0.1,-0.1,-0.1,0.1,0,-0.1,0.1,0,122,122.5,122.2,119.5,120.2,119.8,121.8,122.2,122,119.3,120,119.5,60,60.1,60,13.2,16.100000000000001,14.9,15,18.2,16.7,13.3,15.5,14.4,11.4,13.3,12.3,1.6,2,1.8,1.8,2.1,1.9,1.6,1.9,1.7,1.3,1.5,1.4,-0.1,0.1,0,-0.1,0.1,0,-0.2,0.1,0,-0.1,0.1,0,6,1,1,2,1,1,179.5,29.5,"01:00:00",12537,0,0,0,0,0,0,0,0,0,0,0,0,0,0,0,0,0,0,0,0,30,48,0.2,0,0,0,"2023-10-20T00:01:45",35,38,37,37,46,45,45,44,27.3,79.5,100,1,53.2,53.2,53.2,53.8,27.6,29.5,28.3,120,120,120,120,120,120,120,120,120,119.9,120,119.9,59,59,59,2.6,4.5999999999999996,2.7,4.2,0.2,0.2,0.2,0.5,0.5,0.5,0.2,0.3,0.2,0.5,0.5,0.5,-0.2,-0.2,-0.2,-0.1,-0.1,-0.1,-0.2,-0.2,-0.2,0,0,0,0.1,0.2,0.1,0.4,0.6,0.4,0.1,0.3,0.2,0.6,1,0.7,0,0,0,0.3,0.4,0.4,0.3,0.4,0.3,0.2,0.3,0.2,0.5,0.6,0.5,0,0,0,0,0,0,0,0,0,0,0,0,0,0,0,0,0,0,0,0,0,0,0,0,1,1,1,2,3,1,178.6,13.6,"00:00:00",264,0,0,0,0,0,0,0,0,0,0,0,0,0,0,0,0,0,0,0,0,30,48,1.5,1.4,0,0]
["2023-10-18T13:41:45",42,43,43,42,40,40,40,40,28.7,78.400000000000006,100,96.2,52.8,53,52.9,54.2,-131.5,-126.7,-129.1,122,122.2,122.1,119.6,119.8,119.6,122,122.2,122,119.5,119.8,119.6,60,60.1,60,15.6,15.7,15.8,15.5,-1.9,-1.6,-1.7,-1.9,-1.6,-1.7,-1.9,-1.6,-1.7,-1.9,-1.6,-1.7,-0.2,0,-0.1,-0.2,-0.1,-0.1,-0.1,0.1,0,-0.1,0.1,0,122,122.5,122.2,119.5,120.2,119.8,121.8,122.3,122,119.2,120,119.6,60,60.1,60,13.4,16,14.9,15.1,18,16.7,13.2,15.5,14.5,11.2,13.2,12.3,1.6,1.9,1.8,1.9,2.1,1.9,1.6,1.9,1.7,1.3,1.6,1.4,-0.1,0.1,0,-0.1,0.1,0,-0.1,0,0,-0.1,0,0,6,1,1,2,1,1,179.5,29.5,"01:00:00",12537,0,0,0,0,0,0,0,0,0,0,0,0,0,0,0,0,0,0,0,0,30,48,0.2,0,0,0,"2023-10-20T00:02:46",35,38,37,37,46,45,45,44,27.4,79.5,100,1,53.2,53.2,53.2,53.8,27.2,28.4,27.9,120,120,120,120,120,120,120,120,120,119.9,120,119.9,59,59,59,2.6,4.4000000000000004,2.7,4.0999999999999996,0.2,0.2,0.2,0.5,0.5,0.5,0.2,0.3,0.2,0.5,0.5,0.5,-0.3,-0.2,-0.2,-0.1,-0.1,-0.1,-0.2,-0.2,-0.2,0,0,0,0.1,0.2,0.1,0.4,0.6,0.4,0.1,0.3,0.1,0.6,0.9,0.7,0,0,0,0.3,0.4,0.3,0.3,0.4,0.3,0.3,0.3,0.3,0.5,0.6,0.5,0,0,0,0,0,0,0,0,0,0,0,0,0,0,0,0,0,0,0,0,0,0,0,0,1,1,1,2,3,1,178.6,13.6,"00:00:00",264,0,0,0,0,0,0,0,0,0,0,0,0,0,0,0,0,0,0,0,0,30,48,1.4,1.4,0,0]
["2023-10-18T13:42:46",42,43,43,42,40,40,40,40,28.8,78.7,100,96.2,52.8,53,52.9,54.2,-142,-117.6,-129.19999999999999,121.8,123,122.2,118.6,119.8,119.4,121.7,123,122.1,118.5,119.7,119.3,59.9,60.1,60,16.600000000000001,17.600000000000001,16.7,17.899999999999999,-2,-1.6,-1.7,-2.1,-1.5,-1.7,-2,-1.6,-1.8,-2.1,-1.4,-1.7,-0.3,0,-0.1,-0.2,-0.1,-0.1,-0.1,0.2,0,-0.1,0.1,0,122,123.4,122.4,118.5,120.2,119.6,121.8,123.1,122.1,118.4,120,119.4,59.9,60.1,60,13,16.899999999999999,15,14.5,20.2,16.8,12.8,16.3,14.5,9.9,15.2,12.3,1.6,2.1,1.8,1.7,2.4,2,1.6,2,1.7,1.2,1.7,1.4,-0.1,0.3,0,-0.1,0.2,0,-0.2,0,0,-0.1,0.1,0,6,1,1,2,1,1,179.5,29.5,"01:00:00",12537,0,0,0,0,0,0,0,0,0,0,0,0,0,0,0,0,0,0,0,0,30,48,0.2,0,0,0,"2023-10-20T00:03:46",35,38,37,37,46,45,45,44,27.4,79.5,100,1,53.2,53.2,53.2,53.8,26.9,27.7,27.3,120,120,120,120,120,120,120,120,120,119.9,120,119.9,59,59,59,2.6,4.3,2.7,3.9,0.2,0.2,0.2,0.5,0.5,0.5,0.2,0.3,0.2,0.4,0.5,0.4,-0.3,-0.2,-0.2,-0.1,-0.1,-0.1,-0.2,-0.2,-0.2,0,0,0,0.1,0.2,0.1,0.4,0.6,0.4,0.1,0.4,0.2,0.6,1,0.7,0,0,0,0.3,0.4,0.3,0.3,0.4,0.3,0.2,0.3,0.3,0.5,0.6,0.5,0,0,0,0,0,0,0,0,0,0,0,0,0,0,0,0,0,0,0,0,0,0,0,0,1,1,1,2,3,1,178.6,13.6,"00:00:00",265,0,0,0,0,0,0,0,0,0,0,0,0,0,0,0,0,0,0,0,0,30,48,1.4,1.4,0,0]
["2023-10-18T13:43:47",42,43,43,42,41,40,40,40,28.8,79,100,96.2,52.9,53,52.9,54.2,-132.1,-125.4,-128.4,121.7,122,121.8,119.3,119.5,119.3,121.7,121.9,121.8,119.2,119.4,119.3,60,60.2,60,15.7,15.7,15.6,15.4,-1.9,-1.6,-1.7,-1.9,-1.6,-1.7,-1.9,-1.7,-1.7,-1.9,-1.6,-1.7,-0.2,0,-0.1,-0.2,-0.1,-0.1,-0.1,0.1,0,-0.1,0.1,0,122.1,122.5,122.2,119.5,120.2,119.7,121.9,122.3,122,119.2,120,119.5,60,60.2,60.1,13.7,16,14.9,15.5,18,16.8,13.1,15.4,14.5,11.2,13,12.2,1.7,2,1.8,1.9,2.1,2,1.7,1.8,1.7,1.4,1.6,1.4,-0.1,0.1,0,-0.1,0.1,0,-0.1,0,0,-0.1,0.1,0,6,1,1,2,1,1,179.5,29.5,"01:00:00",12537,0,0,0,0,0,0,0,0,0,0,0,0,0,0,0,0,0,0,0,0,30,48,0.3,0,0,0,"2023-10-20T00:04:48",35,38,37,37,46,45,45,44,27.3,79.400000000000006,100,1,53.2,53.2,53.2,53.8,27.4,28.8,27.6,120,120,120,120,120,120,120,120,120,119.9,120,119.9,59,59,59,2.5,4.5,2.7,4.2,0.2,0.2,0.2,0.5,0.5,0.5,0.2,0.3,0.2,0.5,0.5,0.5,-0.2,-0.2,-0.2,-0.1,-0.1,-0.1,-0.2,-0.2,-0.2,0,0,0,0.1,0.3,0.1,0.3,0.6,0.4,0,0.3,0.1,0.6,0.9,0.7,0,0,0,0.3,0.4,0.3,0.3,0.4,0.3,0.3,0.3,0.3,0.5,0.6,0.5,0,0,0,0,0,0,0,0,0,0,0,0,0,0,0,0,0,0,0,0,0,0,0,0,1,1,1,2,3,1,178.6,13.6,"00:00:00",265,0,0,0,0,0,0,0,0,0,0,0,0,0,0,0,0,0,0,0,0,30,48,1.5,1.4,0,0]
["2023-10-18T13:44:48",43,43,43,42,41,40,40,40,28.8,79.3,100,96.2,52.9,53,52.9,54.2,-131.1,-125.9,-128.4,121.8,122,121.8,119.3,119.5,119.4,121.7,121.9,121.8,119.3,119.4,119.3,60,60.1,60,15.8,15.9,15.8,15.6,-1.9,-1.6,-1.7,-1.9,-1.6,-1.7,-1.9,-1.7,-1.7,-1.8,-1.6,-1.7,-0.2,0,-0.1,-0.2,-0.1,-0.1,-0.1,0.1,0,-0.1,0.1,0,122.1,122.5,122.2,119.5,120.2,119.8,121.9,122.3,122,119.2,120,119.5,60,60.1,60,13.6,16.2,15,15.4,18,16.8,13.2,15.5,14.5,11.3,13.4,12.2,1.7,2,1.8,1.9,2.1,2,1.6,1.9,1.7,1.3,1.5,1.4,-0.1,0.1,0,-0.1,0.1,0,-0.1,0.1,0,-0.1,0.1,0,6,1,1,2,1,1,179.5,29.5,"01:00:00",12537,0,0,0,0,0,0,0,0,0,0,0,0,0,0,0,0,0,0,0,0,30,48,0.3,0,0,0,"2023-10-20T00:05:49",35,38,37,37,45,45,45,44,27.3,79.400000000000006,100,1,53.2,53.2,53.2,53.8,27.8,29.5,28.6,120,120,120,120,120,120,120,120,120,119.9,120,119.9,59,59,59,2.5,4.5999999999999996,2.7,4.2,0.1,0.2,0.1,0.5,0.5,0.5,0.2,0.3,0.2,0.5,0.5,0.5,-0.3,-0.2,-0.2,-0.1,-0.1,-0.1,-0.2,-0.2,-0.2,0,0,0,0,0.3,0.1,0.4,0.7,0.5,0.1,0.4,0.1,0.6,0.9,0.7,0,0,0,0.3,0.4,0.3,0.3,0.4,0.3,0.3,0.3,0.3,0.5,0.6,0.5,0,0,0,0,0,0,0,0,0,0,0,0,0,0,0,0,0,0,0,0,0,0,0,0,1,1,1,2,3,1,178.6,13.6,"00:00:00",266,0,0,0,0,0,0,0,0,0,0,0,0,0,0,0,0,0,0,0,0,30,48,1.5,1.4,0,0]
["2023-10-18T13:45:51",43,44,43,42,41,40,40,40,28.8,79.599999999999994,100,96.2,52.9,53.1,53,54.2,-130.69999999999999,-126,-128.30000000000001,121.8,122,121.9,119.3,119.5,119.3,121.8,122,121.8,119.2,119.4,119.3,60,60.1,60,15.6,15.9,15.6,15.6,-1.9,-1.6,-1.7,-1.9,-1.6,-1.7,-1.9,-1.7,-1.7,-1.9,-1.6,-1.7,-0.2,-0.1,-0.1,-0.2,-0.1,-0.1,-0.1,0,0,-0.1,0.1,0,122.1,122.7,122.2,119.5,120.1,119.8,121.9,122.3,122,119.2,120,119.5,60,60.1,60,13.7,16,14.9,15.1,18.2,16.7,13.2,15.6,14.5,11,13.1,12.2,1.7,2,1.8,1.8,2.1,1.9,1.6,1.9,1.7,1.4,1.6,1.4,-0.1,0.1,0,-0.1,0.1,0,-0.1,0.1,0,-0.1,0,0,6,1,1,2,1,1,179.5,29.5,"01:00:00",12537,0,0,0,0,0,0,0,0,0,0,0,0,0,0,0,0,0,0,0,0,30,48,0.2,0,0,0,"2023-10-20T00:06:50",35,38,37,37,45,45,45,44,27.3,79.3,100,1,53.2,53.2,53.2,53.8,26.6,28.5,27.4,120,120,120,120,120,120,120,120,120,119.9,120,119.9,59,59,59,2.5,4.5,2.6,4.2,0.1,0.2,0.1,0.5,0.5,0.5,0.2,0.2,0.2,0.5,0.5,0.5,-0.3,-0.2,-0.2,-0.1,-0.1,-0.1,-0.2,-0.2,-0.2,0,0,0,0.1,0.3,0.1,0.4,0.6,0.4,0.1,0.3,0.1,0.6,0.9,0.7,0,0,0,0.3,0.4,0.3,0.3,0.4,0.3,0.3,0.3,0.3,0.5,0.6,0.5,0,0,0,0,0,0,0,0,0,0,0,0,0,0,0,0,0,0,0,0,0,0,0,0,1,1,1,2,3,1,178.6,13.6,"00:00:00",266,0,0,0,0,0,0,0,0,0,0,0,0,0,0,0,0,0,0,0,0,30,48,1.4,1.3,0,0]
["2023-10-18T13:46:51",43,44,43,42,41,40,40,40,28.8,79.900000000000006,100,96.2,52.9,53.1,53,54.2,-130.69999999999999,-125.6,-128.6,121.8,122,121.8,119.3,119.6,119.4,121.7,122,121.8,119.3,119.5,119.3,60,60.1,60,15.9,15.7,15.5,15.6,-1.9,-1.6,-1.7,-1.9,-1.6,-1.7,-1.9,-1.7,-1.8,-1.9,-1.6,-1.7,-0.2,0,-0.1,-0.2,-0.1,-0.1,-0.1,0.1,0,-0.1,0.1,0,122.1,122.5,122.2,119.5,120.2,119.8,121.8,122.3,122,119.2,120,119.6,60,60.1,60,13.4,16.3,15,14.6,17.8,16.8,13.3,15.7,14.5,11.2,13.1,12.3,1.6,2,1.8,1.7,2.2000000000000002,1.9,1.6,1.9,1.7,1.3,1.6,1.4,-0.1,0.1,0,-0.1,0.1,0,-0.2,0,0,-0.1,0,0,6,1,1,2,1,1,179.5,29.5,"01:00:00",12537,0,0,0,0,0,0,0,0,0,0,0,0,0,0,0,0,0,0,0,0,30,48,0.4,0,0,0,"2023-10-20T00:07:50",35,38,37,37,46,45,45,44,27.3,79.3,100,1,53.2,53.2,53.2,53.8,27.6,29.7,28.4,120,120,120,120,120,120,120,120,120,119.9,120,119.9,59,59,59,2.5,4.7,2.7,4.3,0.2,0.2,0.2,0.5,0.6,0.5,0.2,0.3,0.2,0.5,0.5,0.5,-0.3,-0.2,-0.2,-0.1,-0.1,-0.1,-0.2,-0.2,-0.2,0,0,0,0.1,0.2,0.1,0.4,0.6,0.4,0.1,0.3,0.1,0.6,0.9,0.7,0,0,0,0.3,0.4,0.3,0.3,0.4,0.3,0.3,0.3,0.3,0.5,0.6,0.5,0,0,0,0,0,0,0,0,0,0,0,0,0,0,0,0,0,0,0,0,0,0,0,0,1,1,1,2,3,1,178.6,13.6,"00:00:00",267,0,0,0,0,0,0,0,0,0,0,0,0,0,0,0,0,0,0,0,0,30,48,1.5,1.4,0,0]
["2023-10-18T13:47:52",43,44,43,42,41,40,41,41,28.8,80.2,100,96.2,52.9,53.1,53,54.2,-130.5,-125.6,-128.19999999999999,121.8,122,121.8,119.3,119.5,119.4,121.7,121.9,121.8,119.3,119.5,119.3,60,60.1,60,15.6,15.7,15.6,15.6,-1.9,-1.6,-1.7,-1.9,-1.6,-1.7,-1.9,-1.6,-1.7,-1.9,-1.6,-1.7,-0.2,0,-0.1,-0.2,-0.1,-0.1,-0.1,0.1,0,-0.1,0.1,0,122,122.5,122.2,119.5,120.2,119.8,121.8,122.2,122,119.2,120,119.6,60,60.1,60,13.4,16,14.9,15.2,18,16.8,13.2,15.5,14.5,11.5,13.2,12.3,1.6,1.9,1.8,1.8,2.2000000000000002,2,1.7,1.9,1.7,1.4,1.6,1.4,-0.1,0.1,0,-0.1,0.1,0,-0.1,0,0,-0.1,0,0,6,1,1,2,1,1,179.5,29.5,"01:00:00",12537,0,0,0,0,0,0,0,0,0,0,0,0,0,0,0,0,0,0,0,0,30,48,0.4,0,0,0,"2023-10-20T00:08:51",35,38,37,37,45,45,45,44,27.3,79.2,100,1,53.2,53.2,53.2,53.8,27.7,29.8,28.8,120,120,120,120,120,120,120,120,120,119.9,120,119.9,59,59,59,2.6,4.7,2.7,4.3,0.2,0.2,0.2,0.5,0.6,0.5,0.3,0.3,0.3,0.5,0.5,0.5,-0.2,-0.2,-0.2,-0.1,-0.1,-0.1,-0.2,-0.2,-0.2,0,0,0,0.1,0.3,0.1,0.4,0.6,0.4,0.1,0.3,0.1,0.6,0.9,0.7,0,0,0,0.3,0.4,0.3,0.3,0.4,0.3,0.3,0.3,0.3,0.5,0.6,0.5,0,0,0,0,0,0,0,0,0,0,0,0,0,0,0,0,0,0,0,0,0,0,0,0,1,1,1,2,3,1,178.6,13.6,"00:00:00",267,0,0,0,0,0,0,0,0,0,0,0,0,0,0,0,0,0,0,0,0,30,48,1.5,1.4,0,0]
["2023-10-18T13:48:53",43,44,43,43,41,40,41,41,28.8,80.5,100,96.2,53,53.1,53,54.2,-131.1,-126.5,-128.4,121.8,122,121.8,119.4,119.5,119.4,121.7,121.9,121.8,119.3,119.5,119.3,60,60.1,60,15.7,15.9,15.8,15.7,-1.9,-1.6,-1.7,-1.9,-1.6,-1.7,-1.9,-1.6,-1.7,-1.9,-1.6,-1.7,-0.2,0,-0.1,-0.2,-0.1,-0.1,-0.1,0,0,-0.1,0,0,122,122.5,122.2,119.6,120.2,119.8,121.8,122.3,122,119.3,120,119.6,60,60.1,60,13.7,16,14.9,15.4,18.2,16.8,13.3,15.6,14.5,11.3,13.2,12.3,1.7,1.9,1.8,1.9,2.2000000000000002,2,1.6,1.9,1.7,1.3,1.6,1.4,-0.1,0.1,0,-0.1,0.1,0,-0.1,0.1,0,-0.1,0,0,6,1,1,2,1,1,179.5,29.5,"01:00:00",12537,0,0,0,0,0,0,0,0,0,0,0,0,0,0,0,0,0,0,0,0,30,48,0.3,0,0,0,"2023-10-20T00:09:52",35,38,37,37,45,45,45,44,27.3,79.2,100,1,53.2,53.2,53.2,53.8,26.3,27.7,26.9,120,120,120,120,120,120,120,120,120,119.9,120,119.9,59,59,59,2.6,4.0999999999999996,2.7,3.8,0.2,0.2,0.2,0.5,0.5,0.5,0.2,0.3,0.2,0.4,0.5,0.4,-0.2,-0.2,-0.2,-0.1,-0.1,-0.1,-0.2,-0.2,-0.2,0,0,0,0.1,0.3,0.1,0.3,0.6,0.4,0,0.3,0.2,0.6,0.9,0.7,0,0,0,0.3,0.4,0.3,0.3,0.4,0.3,0.2,0.3,0.3,0.5,0.6,0.5,0,0,0,0,0,0,0,0,0,0,0,0,0,0,0,0,0,0,0,0,0,0,0,0,1,1,1,2,3,1,178.6,13.6,"00:00:00",268,0,0,0,0,0,0,0,0,0,0,0,0,0,0,0,0,0,0,0,0,30,48,1.4,1.3,0,0]
["2023-10-18T13:49:54",43,44,43,43,41,40,41,41,28.8,80.8,100,96.2,53,53.1,53,54.2,-130.80000000000001,-125.9,-128.19999999999999,121.8,122,121.8,119.3,119.5,119.4,121.7,121.9,121.8,119.3,119.5,119.3,60,60.1,60,15.7,15.8,16,15.6,-1.9,-1.6,-1.7,-1.9,-1.6,-1.7,-1.9,-1.6,-1.7,-1.8,-1.6,-1.7,-0.2,0,-0.1,-0.2,-0.1,-0.1,-0.1,0.1,0,-0.1,0.1,0,122,122.5,122.2,119.5,120.2,119.8,121.8,122.3,122,119.3,120,119.6,60,60.1,60,13.6,16.100000000000001,14.9,15.3,18.2,16.8,13.4,15.3,14.5,11.4,13.2,12.3,1.7,2,1.8,1.8,2.2000000000000002,2,1.6,1.9,1.7,1.4,1.6,1.4,-0.1,0.1,0,-0.1,0.1,0,-0.1,0.1,0,-0.1,0.1,0,6,1,1,2,1,1,179.5,29.5,"01:00:00",12537,0,0,0,0,0,0,0,0,0,0,0,0,0,0,0,0,0,0,0,0,30,48,0.2,0,0,0,"2023-10-20T00:10:52",35,37,37,37,46,45,45,44,27.3,79.099999999999994,100,1,53.2,53.2,53.2,53.8,25.9,28,26.9,120,120,120,120,120,120,120,120,120,119.9,120,119.9,59,59,59,2.5,4.4000000000000004,2.6,4.0999999999999996,0.2,0.2,0.2,0.5,0.5,0.5,0.2,0.3,0.2,0.4,0.5,0.4,-0.3,-0.2,-0.2,-0.1,-0.1,-0.1,-0.2,-0.2,-0.2,0,0,0,0.1,0.2,0.1,0.4,0.7,0.5,0.1,0.4,0.2,0.6,1,0.7,0,0,0,0.3,0.4,0.3,0.3,0.4,0.3,0.2,0.3,0.3,0.5,0.6,0.5,0,0,0,0,0,0,0,0,0,0,0,0,0,0,0,0,0,0,0,0,0,0,0,0,1,1,1,2,3,1,178.6,13.6,"00:00:00",268,0,0,0,0,0,0,0,0,0,0,0,0,0,0,0,0,0,0,0,0,30,48,1.4,1.3,0,0]
["2023-10-18T13:50:55",43,44,43,43,42,41,41,41,28.8,81.099999999999994,100,96.2,53,53.2,53.1,54.2,-130.5,-125.9,-128.19999999999999,121.8,122,121.9,119.3,119.5,119.3,121.8,122,121.8,119.3,119.5,119.3,60,60.1,60,15.7,15.8,15.8,15.6,-1.9,-1.6,-1.7,-1.9,-1.6,-1.7,-1.9,-1.7,-1.7,-1.8,-1.6,-1.7,-0.2,0,-0.1,-0.2,-0.1,-0.1,-0.1,0.1,0,-0.1,0.1,0,122.1,122.5,122.2,119.4,120.2,119.7,121.9,122.3,122,119.2,120,119.5,60,60.1,60,13.5,16.100000000000001,14.9,15.4,18.100000000000001,16.8,13.2,15.5,14.5,11.2,13.3,12.3,1.7,2,1.8,1.8,2.1,1.9,1.6,1.9,1.7,1.4,1.6,1.4,-0.1,0.1,0,-0.1,0.1,0,-0.1,0,0,-0.1,0,0,6,1,1,2,1,1,179.5,29.5,"01:00:00",12537,0,0,0,0,0,0,0,0,0,0,0,0,0,0,0,0,0,0,0,0,30,48,0.3,0,0,0,"2023-10-20T00:11:53",35,38,37,37,46,45,45,44,27.3,79.099999999999994,100,1,53.2,53.2,53.2,53.8,27.1,28,27.4,120,120,120,120,120,120,120,120,120,119.9,120,119.9,59,59,59,2.5,4.5,2.5,4.0999999999999996,0.1,0.2,0.1,0.5,0.5,0.5,0.2,0.2,0.2,0.5,0.5,0.5,-0.3,-0.2,-0.2,-0.1,-0.1,-0.1,-0.2,-0.2,-0.2,0,0,0,0.1,0.2,0.1,0.3,0.7,0.4,0.1,0.4,0.2,0.6,0.9,0.6,0,0,0,0.3,0.4,0.3,0.3,0.4,0.3,0.2,0.3,0.2,0.5,0.5,0.5,0,0,0,0,0,0,0,0,0,0,0,0,0,0,0,0,0,0,0,0,0,0,0,0,1,1,1,2,3,1,178.6,13.6,"00:00:00",268,0,0,0,0,0,0,0,0,0,0,0,0,0,0,0,0,0,0,0,0,30,48,1.4,1.4,0,0]
["2023-10-18T13:51:55",43,44,44,43,42,41,41,41,28.8,81.400000000000006,100,96.2,53,53.2,53.1,54.2,-131.1,-125.9,-128.19999999999999,121.8,122,121.9,119.3,119.6,119.4,121.7,122,121.8,119.2,119.5,119.3,60,60.1,60,15.7,15.8,15.8,15.5,-1.9,-1.6,-1.7,-1.8,-1.6,-1.7,-1.9,-1.6,-1.7,-1.9,-1.6,-1.7,-0.2,0,-0.1,-0.2,-0.1,-0.1,-0.1,0.1,0,-0.1,0.1,0,122.1,122.5,122.2,119.5,120.2,119.7,121.9,122.3,122,119.2,120,119.5,60,60.1,60,13.9,16.100000000000001,14.9,15.3,18.100000000000001,16.7,13.5,15.4,14.5,11.1,13.3,12.3,1.7,2,1.8,1.8,2.2000000000000002,1.9,1.6,1.9,1.7,1.3,1.6,1.4,-0.1,0.1,0,-0.1,0.1,0,-0.2,0,0,-0.1,0.1,0,6,1,1,2,1,1,179.5,29.5,"01:00:00",12537,0,0,0,0,0,0,0,0,0,0,0,0,0,0,0,0,0,0,0,0,30,48,0.4,0,0,0,"2023-10-20T00:12:54",35,38,37,37,45,45,45,44,27.3,79.099999999999994,100,1,53.2,53.2,53.2,53.8,27.7,29.1,28.5,120,120,120,120,120,120,120,120,120,119.9,120,119.9,59,59,59,2.6,4.5999999999999996,2.6,4.2,0.2,0.2,0.2,0.5,0.5,0.5,0.2,0.2,0.2,0.5,0.5,0.5,-0.3,-0.2,-0.2,-0.1,-0.1,-0.1,-0.2,-0.2,-0.2,0,0,0,0.1,0.3,0.1,0.3,0.7,0.5,0.1,0.3,0.2,0.6,0.9,0.7,0,0,0,0.3,0.4,0.3,0.3,0.4,0.3,0.3,0.3,0.3,0.5,0.6,0.5,0,0,0,0,0,0,0,0,0,0,0,0,0,0,0,0,0,0,0,0,0,0,0,0,1,1,1,2,3,1,178.6,13.6,"00:00:00",269,0,0,0,0,0,0,0,0,0,0,0,0,0,0,0,0,0,0,0,0,30,48,1.5,1.4,0,0]
["2023-10-18T13:52:56",43,44,44,43,42,41,41,41,28.8,81.7,100,96.2,53.1,53.2,53.1,54.2,-131.1,-125.6,-128.30000000000001,121.9,122,121.9,119.3,119.5,119.3,121.8,122,121.8,119.2,119.4,119.3,60,60.1,60,15.5,15.7,15.6,15.5,-1.9,-1.6,-1.7,-1.8,-1.6,-1.7,-1.9,-1.7,-1.7,-1.8,-1.6,-1.7,-0.2,-0.1,-0.1,-0.2,-0.1,-0.1,-0.1,0,0,-0.1,0.1,0,122.1,122.6,122.3,119.4,120.1,119.7,121.9,122.3,122,119.2,120,119.5,60,60.1,60,13.6,15.9,14.9,15.5,17.899999999999999,16.8,13.5,15.5,14.5,11.2,13.1,12.3,1.7,1.9,1.8,1.9,2.1,2,1.7,1.9,1.7,1.4,1.6,1.4,-0.1,0.1,0,-0.1,0.1,0,-0.1,0.1,0,-0.1,0,0,6,1,1,2,1,1,179.5,29.5,"01:00:00",12537,0,0,0,0,0,0,0,0,0,0,0,0,0,0,0,0,0,0,0,0,30,48,0.2,0,0,0,"2023-10-20T00:13:55",35,38,37,37,45,45,45,44,27.3,79,100,1,53.2,53.2,53.2,53.8,28.4,30,29.3,120,120,120,120,120,120,120,120,120,119.9,120,119.9,59,59,59,2.6,4.5999999999999996,2.7,4.3,0.2,0.2,0.2,0.5,0.5,0.5,0.2,0.3,0.2,0.5,0.5,0.5,-0.3,-0.2,-0.2,-0.1,-0.1,-0.1,-0.2,-0.2,-0.2,0,0,0,0.1,0.3,0.1,0.3,0.6,0.5,0.1,0.3,0.1,0.6,1,0.7,0,0,0,0.3,0.4,0.3,0.3,0.4,0.3,0.3,0.3,0.3,0.5,0.6,0.5,0,0,0,0,0,0,0,0,0,0,0,0,0,0,0,0,0,0,0,0,0,0,0,0,1,1,1,2,3,1,178.6,13.6,"00:00:00",269,0,0,0,0,0,0,0,0,0,0,0,0,0,0,0,0,0,0,0,0,30,48,1.5,1.4,0,0]
["2023-10-18T13:53:57",43,44,44,43,42,41,41,41,28.8,82,100,96.2,53.1,53.2,53.1,54.2,-131.69999999999999,-125.4,-128.30000000000001,121.7,122,121.8,119.3,119.5,119.4,121.7,122,121.8,119.3,119.5,119.3,60,60.1,60,15.7,15.8,15.9,15.6,-1.9,-1.6,-1.7,-1.8,-1.6,-1.7,-1.9,-1.7,-1.7,-1.9,-1.6,-1.7,-0.2,-0.1,-0.1,-0.2,-0.1,-0.1,-0.1,0.1,0,-0.1,0.1,0,122,122.5,122.2,119.4,120.1,119.8,121.8,122.3,122,119.2,120.1,119.5,60,60.1,60,13.7,16.100000000000001,14.9,15.2,18.100000000000001,16.8,13.6,15.5,14.5,11.5,13.4,12.3,1.7,2,1.8,1.8,2.2000000000000002,1.9,1.7,1.9,1.7,1.4,1.6,1.4,-0.1,0.1,0,-0.1,0.1,0,-0.1,0,0,-0.1,0.1,0,6,1,1,2,1,1,179.5,29.5,"01:00:00",12537,0,0,0,0,0,0,0,0,0,0,0,0,0,0,0,0,0,0,0,0,30,48,0.3,0,0,0,"2023-10-20T00:14:57",35,38,37,37,45,45,45,44,27.3,79,100,1,53.1,53.2,53.2,53.8,25.9,30.4,28.4,120,120,120,120,120,120,120,120,120,119.9,120,119.9,59,59,59,2.6,4.8,2.6,4.4000000000000004,0.2,0.2,0.2,0.5,0.6,0.5,0.2,0.3,0.2,0.4,0.5,0.4,-0.3,-0.2,-0.2,-0.1,-0.1,-0.1,-0.2,-0.2,-0.2,0,0,0,0.1,0.2,0.1,0.4,0.7,0.4,0.1,0.4,0.2,0.6,0.9,0.7,0,0,0,0.3,0.4,0.3,0.3,0.4,0.3,0.2,0.3,0.2,0.5,0.6,0.5,0,0,0,0,0,0,0,0,0,0,0,0,0,0,0,0,0,0,0,0,0,0,0,0,1,1,1,2,3,1,178.6,13.6,"00:00:00",270,0,0,0,0,0,0,0,0,0,0,0,0,0,0,0,0,0,0,0,0,30,48,1.5,1.3,0,0]
["2023-10-18T13:54:57",43,44,44,43,42,41,41,41,28.8,82.3,100,96.2,53.1,53.2,53.1,54.2,-130.69999999999999,-124.9,-128,121.7,121.9,121.8,119.3,119.5,119.4,121.7,121.9,121.7,119.3,119.5,119.3,60,60.1,60,15.7,15.7,15.6,15.6,-1.9,-1.6,-1.7,-1.8,-1.6,-1.7,-1.9,-1.7,-1.7,-1.9,-1.6,-1.7,-0.2,-0.1,-0.1,-0.2,-0.1,-0.1,-0.1,0.1,0,-0.1,0,0,122,122.5,122.2,119.5,120.1,119.8,121.8,122.2,122,119.3,120,119.6,60,60.1,60.1,13.6,16,14.9,15.3,18.2,16.8,13.3,15.6,14.5,11.3,13.2,12.3,1.7,2,1.8,1.8,2.1,2,1.6,1.9,1.7,1.3,1.6,1.4,-0.1,0.1,0,-0.1,0.1,0,-0.1,0,0,-0.1,0,0,6,1,1,2,1,1,179.5,29.5,"01:00:00",12537,0,0,0,0,0,0,0,0,0,0,0,0,0,0,0,0,0,0,0,0,30,48,0.4,0,0,0,"2023-10-20T00:15:57",35,37,37,37,45,45,45,44,27.3,78.900000000000006,100,1,53.2,53.2,53.2,53.8,25.4,26.2,25.6,120,120,120,120,120,120,120,120,120,119.9,120,119.9,59,59,59,2.6,4.0999999999999996,2.5,3.7,0.2,0.2,0.2,0.5,0.5,0.5,0.2,0.2,0.2,0.4,0.4,0.4,-0.3,-0.2,-0.2,-0.1,-0.1,-0.1,-0.2,-0.2,-0.2,0,0,0,0.1,0.3,0.1,0.4,0.6,0.4,0.1,0.4,0.2,0.6,0.9,0.6,0,0,0,0.3,0.4,0.3,0.3,0.4,0.3,0.2,0.3,0.3,0.5,0.5,0.5,0,0,0,0,0,0,0,0,0,0,0,0,0,0,0,0,0,0,0,0,0,0,0,0,1,1,1,2,3,1,178.6,13.6,"00:00:00",270,0,0,0,0,0,0,0,0,0,0,0,0,0,0,0,0,0,0,0,0,30,48,1.3,1.3,0,0]
["2023-10-18T13:55:58",43,44,44,43,42,41,42,42,28.8,82.6,100,96.2,53.1,53.2,53.1,54.2,-130.80000000000001,-125,-128,121.6,121.9,121.7,119.4,119.6,119.5,121.6,121.8,121.7,119.3,119.6,119.4,60,60.1,60,15.8,15.8,15.9,15.5,-1.9,-1.6,-1.7,-1.9,-1.6,-1.7,-1.9,-1.6,-1.7,-1.8,-1.6,-1.7,-0.2,0,-0.1,-0.2,-0.1,-0.1,-0.1,0.1,0,-0.1,0.1,0,122,122.4,122.1,119.6,120.3,119.9,121.8,122.2,121.9,119.3,120.1,119.7,60,60.1,60.1,13.5,16.100000000000001,14.9,15.2,17.899999999999999,16.7,13.1,15.4,14.5,11.4,13.2,12.3,1.6,2,1.8,1.8,2.1,1.9,1.6,1.9,1.7,1.4,1.6,1.4,-0.1,0.1,0,-0.1,0.1,0,-0.1,0,0,-0.1,0,0,6,1,1,2,1,1,179.5,29.5,"01:00:00",12537,0,0,0,0,0,0,0,0,0,0,0,0,0,0,0,0,0,0,0,0,30,48,0.3,0,0,0,"2023-10-20T00:16:58",35,38,37,37,45,45,45,44,27.3,78.900000000000006,100,1,53.2,53.2,53.2,53.8,25.9,29.6,28.3,120,120,120,120,120,120,120,120,120,119.9,120,119.9,59,59,59,2.6,4.5999999999999996,2.7,4.2,0.2,0.2,0.2,0.5,0.5,0.5,0.2,0.3,0.2,0.4,0.5,0.4,-0.3,-0.2,-0.2,-0.1,-0.1,-0.1,-0.2,-0.2,-0.2,0,0,0,0.1,0.2,0.1,0.3,0.7,0.4,0.1,0.3,0.1,0.6,1,0.6,0,0,0,0.3,0.4,0.3,0.3,0.4,0.3,0.3,0.3,0.3,0.5,0.5,0.5,0,0,0,0,0,0,0,0,0,0,0,0,0,0,0,0,0,0,0,0,0,0,0,0,1,1,1,2,3,1,178.6,13.6,"00:00:00",271,0,0,0,0,0,0,0,0,0,0,0,0,0,0,0,0,0,0,0,0,30,48,1.5,1.4,0,0]
["2023-10-18T13:56:59",43,44,44,43,42,41,42,42,28.8,82.9,100,96.2,53.1,53.2,53.1,54.2,-130.80000000000001,-125.3,-128.1,121.7,121.9,121.7,119.4,119.6,119.5,121.7,121.8,121.7,119.4,119.6,119.4,60,60.1,60,15.6,15.6,15.9,15.7,-1.9,-1.6,-1.7,-1.8,-1.6,-1.7,-1.9,-1.7,-1.8,-1.8,-1.6,-1.7,-0.2,-0.1,-0.1,-0.2,-0.1,-0.1,-0.1,0.1,0,-0.1,0,0,121.9,122.4,122.1,119.6,120.2,119.9,121.7,122.2,121.9,119.3,120.1,119.7,60,60.1,60,13.6,16,14.9,15.5,17.899999999999999,16.8,13.3,15.5,14.5,11.3,13.2,12.3,1.7,1.9,1.8,1.9,2.1,2,1.6,1.9,1.7,1.4,1.6,1.4,-0.1,0.1,0,-0.1,0.2,0,-0.2,0,0,-0.1,0,0,6,1,1,2,1,1,179.5,29.5,"01:00:00",12537,0,0,0,0,0,0,0,0,0,0,0,0,0,0,0,0,0,0,0,0,30,48,0.2,0,0,0,"2023-10-20T00:17:58",35,38,37,37,45,45,45,44,27.3,78.8,100,1,53.2,53.2,53.2,53.8,28,29.8,29,120,120,120,120,120,120,120,120,120,119.9,120,119.9,59,59,59,2.6,4.5999999999999996,2.7,4.3,0.2,0.2,0.2,0.5,0.6,0.5,0.2,0.3,0.2,0.5,0.5,0.5,-0.3,-0.2,-0.2,-0.1,-0.1,-0.1,-0.2,-0.2,-0.2,0,0,0,0.1,0.2,0.1,0.4,0.7,0.4,0.1,0.4,0.1,0.6,1,0.7,0,0,0,0.3,0.4,0.3,0.3,0.4,0.3,0.3,0.3,0.3,0.5,0.6,0.5,0,0,0,0,0,0,0,0,0,0,0,0,0,0,0,0,0,0,0,0,0,0,0,0,1,1,1,2,3,1,178.6,13.6,"00:00:00",271,0,0,0,0,0,0,0,0,0,0,0,0,0,0,0,0,0,0,0,0,30,48,1.5,1.4,0,0]
["2023-10-18T13:58:00",44,44,44,43,42,42,42,42,28.8,83.2,100,96.2,53.1,53.3,53.2,54.2,-130.5,-125.6,-127.8,121.7,121.9,121.8,119.4,119.6,119.4,121.7,121.9,121.8,119.4,119.5,119.4,60,60.1,60,15.6,15.7,15.7,15.7,-1.9,-1.6,-1.7,-1.9,-1.6,-1.7,-1.9,-1.6,-1.7,-1.9,-1.6,-1.7,-0.2,-0.1,-0.1,-0.2,-0.1,-0.1,-0.1,0.1,0,-0.1,0.1,0,122,122.5,122.2,119.6,120.2,119.8,121.8,122.2,121.9,119.3,120,119.6,60,60.1,60,13.5,16,14.9,15.2,17.899999999999999,16.7,13.3,15.6,14.5,11.2,13.2,12.3,1.6,1.9,1.8,1.8,2.1,2,1.6,1.9,1.7,1.4,1.6,1.4,-0.1,0.1,0,-0.1,0.1,0,-0.1,0,0,-0.1,0,0,6,1,1,2,1,1,179.5,29.5,"01:00:00",12537,0,0,0,0,0,0,0,0,0,0,0,0,0,0,0,0,0,0,0,0,30,48,0.3,0,0,0,"2023-10-20T00:18:59",35,38,37,37,45,45,45,44,27.3,78.8,100,1,53.2,53.2,53.2,53.8,27.2,28.3,27.7,120,120,120,120,120,120,120,120,120,119.9,120,119.9,59,59,59,2.5,4.5,2.5,4.2,0.1,0.2,0.1,0.5,0.5,0.5,0.2,0.2,0.2,0.5,0.5,0.5,-0.3,-0.2,-0.2,-0.1,-0.1,-0.1,-0.2,-0.2,-0.2,0,0,0,0.1,0.3,0.1,0.3,0.6,0.4,0.1,0.3,0.1,0.6,0.9,0.6,0,0,0,0.3,0.4,0.3,0.3,0.4,0.3,0.2,0.3,0.3,0.5,0.5,0.5,0,0,0,0,0,0,0,0,0,0,0,0,0,0,0,0,0,0,0,0,0,0,0,0,1,1,1,2,3,1,178.6,13.6,"00:00:00",272,0,0,0,0,0,0,0,0,0,0,0,0,0,0,0,0,0,0,0,0,30,48,1.4,1.4,0,0]
["2023-10-18T13:59:01",44,45,44,43,43,42,42,42,28.8,83.5,100,96.2,53.1,53.3,53.2,54.2,-130.19999999999999,-125.9,-128,121.7,122,121.8,119.4,119.6,119.5,121.7,121.9,121.8,119.4,119.5,119.4,60,60.1,60,15.6,15.7,15.7,15.5,-1.9,-1.6,-1.7,-1.8,-1.6,-1.7,-1.9,-1.6,-1.7,-1.8,-1.6,-1.7,-0.2,-0.1,-0.1,-0.2,-0.1,-0.1,-0.1,0.1,0,-0.1,0.1,0,122,122.5,122.2,119.5,120.2,119.8,121.8,122.2,122,119.2,120.1,119.6,60,60.1,60,13.8,16,15,15.5,18,16.8,13.5,15.6,14.5,11,13.2,12.3,1.7,2,1.8,1.8,2.1,1.9,1.6,1.9,1.7,1.4,1.6,1.4,-0.1,0.1,0,-0.1,0.1,0,-0.1,0.1,0,-0.1,0.1,0,6,1,1,2,1,1,179.5,29.5,"01:00:00",12537,0,0,0,0,0,0,0,0,0,0,0,0,0,0,0,0,0,0,0,0,30,48,0.4,0,0,0,"2023-10-20T00:20:00",35,38,37,37,45,45,45,44,27.3,78.7,100,1,53.2,53.2,53.2,53.8,26.4,27.6,27.1,120,120,120,120,120,120,120,120,120,119.9,120,120,59,59,59,2.5,4.4000000000000004,2.6,4,0.1,0.2,0.1,0.5,0.5,0.5,0.2,0.3,0.2,0.4,0.5,0.4,-0.3,-0.2,-0.2,-0.1,-0.1,-0.1,-0.2,-0.2,-0.2,0,0,0,0.1,0.3,0.1,0.4,0.6,0.4,0.1,0.3,0.1,0.6,0.8,0.6,0,0,0,0.3,0.4,0.3,0.3,0.4,0.3,0.3,0.3,0.3,0.5,0.5,0.5,0,0,0,0,0,0,0,0,0,0,0,0,0,0,0,0,0,0,0,0,0,0,0,0,1,1,1,2,3,1,178.6,13.6,"00:00:00",272,0,0,0,0,0,0,0,0,0,0,0,0,0,0,0,0,0,0,0,0,30,48,1.4,1.3,0,0]
["2023-10-18T14:00:01",44,45,44,43,43,42,42,42,28.8,83.8,100,96.2,53.2,53.3,53.2,54.2,-130.5,-125,-127.9,121.7,121.9,121.8,119.4,119.6,119.5,121.7,121.9,121.7,119.4,119.6,119.4,60,60.1,60,15.7,15.7,15.7,15.6,-1.9,-1.6,-1.7,-1.9,-1.6,-1.7,-1.9,-1.6,-1.7,-1.8,-1.6,-1.7,-0.2,0,-0.1,-0.2,-0.1,-0.1,-0.1,0.1,0,-0.1,0.1,0,121.9,122.4,122.1,119.6,120.3,119.8,121.7,122.2,121.9,119.3,120.1,119.6,60,60.1,60,13.5,16.100000000000001,14.9,15.4,18.2,16.8,13.1,15.6,14.5,11.2,13,12.2,1.6,2,1.8,1.9,2.2000000000000002,2,1.6,1.9,1.7,1.3,1.6,1.4,-0.1,0.1,0,-0.1,0.1,0,-0.1,0.1,0,-0.1,0.1,0,6,1,1,2,1,1,179.5,29.5,"01:00:00",12537,0,0,0,0,0,0,0,0,0,0,0,0,0,0,0,0,0,0,0,0,30,48,0.3,0,0,0,"2023-10-20T00:21:00",35,38,37,37,45,45,45,44,27.3,78.7,100,1,53.2,53.2,53.2,53.8,27,29,28,120,120,120,120,120,120,120,120,120,119.9,120,119.9,59,59,59,2.6,4.5,2.6,4.2,0.2,0.2,0.2,0.5,0.5,0.5,0.2,0.3,0.2,0.5,0.5,0.5,-0.3,-0.2,-0.2,-0.1,-0.1,-0.1,-0.2,-0.2,-0.2,0,0,0,0.1,0.2,0.1,0.4,0.6,0.4,0.1,0.3,0.1,0.6,0.9,0.6,0,0,0,0.3,0.4,0.3,0.3,0.4,0.3,0.2,0.3,0.3,0.5,0.6,0.5,0,0,0,0,0,0,0,0,0,0,0,0,0,0,0,0,0,0,0,0,0,0,0,0,1,1,1,2,3,1,178.6,13.6,"00:00:00",273,0,0,0,0,0,0,0,0,0,0,0,0,0,0,0,0,0,0,0,0,30,48,1.5,1.4,0,0]
["2023-10-18T14:01:02",44,45,44,43,43,42,42,42,28.9,84.1,100,96.2,53.2,53.3,53.2,54.2,-129.9,-125.8,-127.9,121.7,121.9,121.7,119.4,119.6,119.5,121.6,121.9,121.7,119.3,119.6,119.4,60,60.1,60,15.7,15.6,15.7,15.3,-1.9,-1.6,-1.7,-1.9,-1.6,-1.7,-1.9,-1.7,-1.7,-1.9,-1.6,-1.7,-0.2,0,-0.1,-0.2,-0.1,-0.1,-0.1,0.1,0,-0.1,0.1,0,122,122.4,122.1,119.6,120.3,119.9,121.8,122.2,121.9,119.4,120.1,119.6,60,60.1,60,13.7,16,14.9,15.4,17.899999999999999,16.8,13.5,15.4,14.5,11.1,13.3,12.2,1.7,2,1.8,1.9,2.1,2,1.6,1.9,1.7,1.3,1.6,1.4,-0.1,0.1,0,-0.1,0.1,0,-0.1,0,0,-0.1,0.1,0,6,1,1,2,1,1,179.5,29.5,"01:00:00",12537,0,0,0,0,0,0,0,0,0,0,0,0,0,0,0,0,0,0,0,0,30,48,0.3,0,0,0,"2023-10-20T00:22:01",35,37,37,37,45,45,45,44,27.3,78.7,100,1,53.2,53.2,53.2,53.8,26.5,28.4,27.2,120,120,120,120,120,120,120,120,120,119.9,120,119.9,59,59,59,2.6,4.4000000000000004,2.6,4,0.2,0.2,0.2,0.5,0.5,0.5,0.2,0.3,0.2,0.4,0.5,0.4,-0.3,-0.2,-0.2,-0.1,-0.1,-0.1,-0.2,-0.2,-0.2,0,0,0,0.1,0.3,0.1,0.3,0.5,0.4,0.1,0.3,0.2,0.5,0.8,0.6,0,0,0,0.3,0.4,0.3,0.3,0.4,0.3,0.2,0.3,0.2,0.5,0.5,0.5,0,0,0,0,0,0,0,0,0,0,0,0,0,0,0,0,0,0,0,0,0,0,0,0,1,1,1,2,3,1,178.6,13.6,"00:00:00",273,0,0,0,0,0,0,0,0,0,0,0,0,0,0,0,0,0,0,0,0,30,48,1.4,1.3,0,0]
["2023-10-18T14:02:03",44,45,44,43,43,42,42,42,28.9,84.4,100,96.2,53.2,53.3,53.2,54.2,-130.69999999999999,-125.4,-127.9,121.6,121.9,121.7,119.5,119.7,119.5,121.6,121.9,121.7,119.4,119.6,119.5,60,60.1,60,15.7,15.8,15.7,15.6,-1.9,-1.6,-1.7,-1.9,-1.6,-1.7,-1.9,-1.7,-1.7,-1.8,-1.6,-1.7,-0.2,-0.1,-0.1,-0.2,-0.1,-0.1,-0.1,0,0,-0.1,0.1,0,121.9,122.4,122.1,119.7,120.4,119.9,121.7,122.1,121.9,119.4,120.1,119.7,60,60.1,60,13.2,16.2,14.9,15.4,17.8,16.8,12.7,15.4,14.5,11.2,13.3,12.2,1.6,2,1.8,1.8,2.2000000000000002,2,1.7,1.9,1.7,1.4,1.6,1.4,-0.1,0.1,0,-0.1,0.1,0,-0.1,0.1,0,-0.1,0.1,0,6,1,1,2,1,1,179.5,29.5,"01:00:00",12537,0,0,0,0,0,0,0,0,0,0,0,0,0,0,0,0,0,0,0,0,30,48,0.3,0,0,0,"2023-10-20T00:23:02",35,37,37,37,45,45,45,44,27.3,78.599999999999994,100,1,53.2,53.2,53.2,53.8,26.9,27.7,27.1,120,120,120,120,120,120,120,120,120,119.9,120,119.9,59,59,59,2.6,4.3,2.6,3.9,0.2,0.2,0.2,0.5,0.5,0.5,0.2,0.3,0.2,0.4,0.5,0.4,-0.3,-0.2,-0.2,-0.1,-0.1,-0.1,-0.2,-0.2,-0.2,0,0,0,0.1,0.3,0.1,0.3,0.6,0.4,0.1,0.3,0.2,0.5,0.8,0.6,0,0,0,0.3,0.4,0.3,0.3,0.4,0.3,0.2,0.3,0.2,0.5,0.5,0.5,0,0,0,0,0,0,0,0,0,0,0,0,0,0,0,0,0,0,0,0,0,0,0,0,1,1,1,2,3,1,178.6,13.6,"00:00:00",274,0,0,0,0,0,0,0,0,0,0,0,0,0,0,0,0,0,0,0,0,30,48,1.4,1.4,0,0]
["2023-10-18T14:03:04",44,45,44,43,43,42,42,43,28.9,84.7,100,96.2,53.2,53.3,53.2,54.2,-130.19999999999999,-125.9,-127.8,121.7,121.9,121.8,119.4,119.6,119.5,121.7,121.9,121.7,119.4,119.6,119.4,60,60.1,60,15.6,15.8,15.9,15.5,-1.9,-1.6,-1.7,-1.9,-1.6,-1.7,-1.9,-1.7,-1.7,-1.8,-1.6,-1.7,-0.2,0,-0.1,-0.2,-0.1,-0.1,-0.1,0.1,0,-0.1,0,0,122,122.4,122.1,119.6,120.3,119.9,121.8,122.2,121.9,119.3,120.1,119.7,60,60.1,60,13.7,16,14.9,15.3,18.100000000000001,16.7,13.2,15.5,14.5,11.1,13.1,12.2,1.7,1.9,1.8,1.8,2.2000000000000002,2,1.6,1.9,1.7,1.4,1.6,1.4,-0.1,0.1,0,-0.1,0.1,0,-0.1,0,0,-0.1,0,0,6,1,1,2,1,1,179.5,29.5,"01:00:00",12537,0,0,0,0,0,0,0,0,0,0,0,0,0,0,0,0,0,0,0,0,30,48,0.4,0,0,0,"2023-10-20T00:24:05",35,37,37,37,45,45,45,44,27.3,78.599999999999994,100,1,53.2,53.2,53.2,53.8,25.5,26.3,26,120,120,120,120,120,120,120,120,120,119.9,120,119.9,59,59,59,2.6,4,2.6,3.6,0.2,0.2,0.2,0.4,0.5,0.4,0.2,0.2,0.2,0.4,0.4,0.4,-0.3,-0.2,-0.2,-0.1,-0.1,-0.1,-0.2,-0.2,-0.2,0,0,0,0.1,0.3,0.2,0.4,0.6,0.4,0.1,0.4,0.2,0.6,0.9,0.7,0,0,0,0.3,0.4,0.3,0.3,0.4,0.3,0.2,0.3,0.2,0.5,0.5,0.5,0,0,0,0,0,0,0,0,0,0,0,0,0,0,0,0,0,0,0,0,0,0,0,0,1,1,1,2,3,1,178.6,13.6,"00:00:00",274,0,0,0,0,0,0,0,0,0,0,0,0,0,0,0,0,0,0,0,0,30,48,1.3,1.3,0,0]
["2023-10-18T14:04:05",44,45,44,44,43,42,43,43,28.9,85,100,96.2,53.2,53.3,53.2,54.2,-130.1,-125.2,-127.7,121.7,122,121.8,119.4,119.7,119.5,121.7,121.9,121.8,119.4,119.6,119.4,60,60.1,60,15.7,15.7,15.5,15.5,-1.9,-1.6,-1.7,-1.9,-1.6,-1.7,-1.9,-1.6,-1.7,-1.9,-1.6,-1.7,-0.2,0,-0.1,-0.2,-0.1,-0.1,-0.1,0.1,0,-0.1,0.1,0,122,122.5,122.2,119.6,120.2,119.8,121.7,122.3,122,119.3,120.1,119.6,60,60.1,60,13.7,16,14.9,15.6,18,16.8,13.3,15.4,14.5,11.3,13.4,12.3,1.7,2,1.8,1.9,2.1,1.9,1.6,1.9,1.7,1.4,1.5,1.4,-0.1,0.1,0,-0.1,0.1,0,-0.1,0,0,-0.1,0,0,6,1,1,2,1,1,179.5,29.5,"01:00:00",12537,0,0,0,0,0,0,0,0,0,0,0,0,0,0,0,0,0,0,0,0,30,48,0.3,0,0,0,"2023-10-20T00:25:06",35,37,37,37,45,45,45,44,27.3,78.5,100,1,53.2,53.2,53.2,53.8,25,26.2,25.4,120,120,120,120,120,120,120,120,120,119.9,120,119.9,59,59,59,2.6,3.9,2.6,3.6,0.2,0.2,0.2,0.4,0.5,0.4,0.2,0.3,0.2,0.4,0.4,0.4,-0.3,-0.2,-0.2,-0.1,-0.1,-0.1,-0.2,-0.2,-0.2,0,0,0,0.1,0.3,0.1,0.4,0.6,0.4,0.1,0.3,0.2,0.6,0.9,0.6,0,0,0,0.3,0.4,0.3,0.3,0.4,0.3,0.2,0.3,0.2,0.5,0.5,0.5,0,0,0,0,0,0,0,0,0,0,0,0,0,0,0,0,0,0,0,0,0,0,0,0,1,1,1,2,3,1,178.6,13.6,"00:00:00",274,0,0,0,0,0,0,0,0,0,0,0,0,0,0,0,0,0,0,0,0,30,48,1.3,1.3,0,0]
["2023-10-18T14:05:05",44,45,44,44,43,42,43,43,28.9,85.3,100,96.2,53.2,53.4,53.3,54.2,-130.1,-125.6,-127.9,121.7,122,121.8,119.4,119.6,119.5,121.7,121.9,121.8,119.4,119.6,119.4,60,60.1,60,15.7,15.5,15.7,15.6,-1.9,-1.6,-1.7,-1.9,-1.6,-1.7,-1.9,-1.7,-1.7,-1.8,-1.6,-1.7,-0.2,0,-0.1,-0.2,-0.1,-0.1,-0.1,0,0,-0.1,0.1,0,122,122.5,122.2,119.5,120.3,119.9,121.8,122.2,121.9,119.3,120,119.6,60,60.1,60,13.6,16.100000000000001,14.9,15.5,17.8,16.8,13.5,15.4,14.5,11.3,13.2,12.3,1.7,2,1.8,1.9,2.1,2,1.6,1.9,1.7,1.4,1.6,1.4,-0.1,0.1,0,-0.1,0.1,0,-0.1,0,0,-0.1,0,0,6,1,1,2,1,1,179.5,29.5,"01:00:00",12537,0,0,0,0,0,0,0,0,0,0,0,0,0,0,0,0,0,0,0,0,30,48,0.2,0,0,0,"2023-10-20T00:26:06",35,37,37,37,45,45,45,44,27.3,78.5,100,1,53.2,53.2,53.2,53.8,25.4,27.1,26.1,120,120,120,120,120,120,120,120,120,119.9,120,119.9,59,59,59,2.6,4.2,2.6,3.8,0.2,0.2,0.2,0.5,0.5,0.5,0.2,0.3,0.2,0.4,0.5,0.4,-0.3,-0.2,-0.2,-0.1,-0.1,-0.1,-0.2,-0.2,-0.2,0,0,0,0.1,0.3,0.1,0.4,0.6,0.4,0.1,0.4,0.2,0.6,0.9,0.6,0,0,0,0.3,0.4,0.3,0.3,0.4,0.3,0.2,0.3,0.2,0.5,0.5,0.5,0,0,0,0,0,0,0,0,0,0,0,0,0,0,0,0,0,0,0,0,0,0,0,0,1,1,1,2,3,1,178.6,13.6,"00:00:00",275,0,0,0,0,0,0,0,0,0,0,0,0,0,0,0,0,0,0,0,0,30,48,1.4,1.3,0,0]
["2023-10-18T14:06:07",44,45,44,44,43,42,43,43,28.9,85.6,100,96.2,53.2,53.4,53.3,54.2,-130.1,-125.4,-127.6,121.8,122,121.8,119.4,119.6,119.4,121.7,121.9,121.8,119.3,119.5,119.4,60,60.1,60,15.8,15.8,15.9,15.7,-1.9,-1.6,-1.7,-1.9,-1.6,-1.7,-1.9,-1.6,-1.7,-1.9,-1.6,-1.7,-0.2,0,-0.1,-0.2,0,-0.1,-0.1,0.1,0,-0.1,0.1,0,122,122.5,122.2,119.6,120.2,119.8,121.8,122.3,122,119.3,120,119.6,60,60.1,60,13.7,16.2,14.9,15.1,17.899999999999999,16.7,13.5,15.6,14.5,11.3,13.3,12.3,1.7,2,1.8,1.8,2.2000000000000002,2,1.6,1.9,1.7,1.3,1.6,1.4,-0.1,0.1,0,-0.1,0.1,0,-0.1,0.1,0,-0.1,0.1,0,6,1,1,2,1,1,179.5,29.5,"01:00:00",12537,0,0,0,0,0,0,0,0,0,0,0,0,0,0,0,0,0,0,0,0,30,48,0.3,0,0,0,"2023-10-20T00:27:07",35,37,37,37,45,45,45,44,27.3,78.400000000000006,100,1,53.1,53.2,53.2,53.8,25.3,36,26.3,120,120,120,119.9,120,120,120,120,120,119.8,120,119.9,59,59,59,2.5,9.9,2.6,9.4,0.2,0.2,0.2,0.4,1.1000000000000001,0.5,0.2,0.2,0.2,0.4,1,0.4,-0.3,-0.2,-0.2,-0.1,0.3,-0.1,-0.2,-0.2,-0.2,0,0.4,0,0.1,0.2,0.1,0.3,0.5,0.4,0.1,0.4,0.2,0.6,0.9,0.7,0,0,0,0.3,0.4,0.3,0.3,0.4,0.3,0.2,0.3,0.2,0.5,0.6,0.5,0,0,0,0,0,0,0,0,0,0,0,0,0,0,0,0,0,0,0,0,0,0,0,0,1,1,1,2,3,1,178.6,13.6,"00:00:00",275,0,0,0,0,0,0,0,0,0,0,0,0,0,0,0,0,0,0,0,0,30,48,2.6,1.3,0,0]
["2023-10-18T14:07:08",44,45,44,44,43,43,43,43,29,85.9,100,96.2,53.3,53.4,53.3,54.2,-130.19999999999999,-124.7,-128,121.7,121.9,121.7,119.4,119.6,119.5,121.6,121.9,121.7,119.4,119.5,119.4,60,60.1,60,15.7,15.7,15.9,15.6,-1.9,-1.6,-1.7,-1.9,-1.6,-1.7,-1.9,-1.6,-1.7,-1.9,-1.6,-1.7,-0.2,0,-0.1,-0.2,-0.1,-0.1,-0.1,0.1,0,-0.1,0.1,0,122,122.5,122.2,119.6,120.2,119.9,121.8,122.2,121.9,119.4,120,119.7,60,60.1,60,13.4,16,15,15.5,18,16.8,13,15.4,14.5,11.3,13.2,12.3,1.6,2,1.8,1.9,2.1,2,1.6,1.9,1.7,1.3,1.6,1.4,-0.1,0.1,0,-0.1,0.1,0,-0.1,0.1,0,-0.1,0,0,6,1,1,2,1,1,179.5,29.5,"01:00:00",12537,0,0,0,0,0,0,0,0,0,0,0,0,0,0,0,0,0,0,0,0,30,48,0.3,0,0,0,"2023-10-20T00:28:08",35,37,37,37,45,45,45,44,27.3,78.400000000000006,100,1,53.2,53.2,53.2,53.8,25.4,26.9,26.1,120,120,120,120,120,120,120,120,120,119.9,120,119.9,59,59,59,2.5,4.0999999999999996,2.6,3.7,0.2,0.2,0.2,0.4,0.5,0.4,0.2,0.2,0.2,0.4,0.4,0.4,-0.3,-0.2,-0.2,-0.1,-0.1,-0.1,-0.2,-0.2,-0.2,0,0,0,0.1,0.2,0.1,0.4,0.7,0.4,0.1,0.4,0.2,0.6,1,0.7,0,0,0,0.3,0.4,0.3,0.3,0.4,0.3,0.2,0.3,0.2,0.5,0.6,0.5,0,0,0,0,0,0,0,0,0,0,0,0,0,0,0,0,0,0,0,0,0,0,0,0,1,1,1,2,3,1,178.6,13.6,"00:00:00",276,0,0,0,0,0,0,0,0,0,0,0,0,0,0,0,0,0,0,0,0,30,48,1.4,1.3,0,0]
["2023-10-18T14:08:09",44,45,45,44,43,43,43,43,29,86.2,100,96.2,53.3,53.4,53.3,54.2,-130.1,-125.2,-127.6,121.6,121.8,121.7,119.5,119.7,119.5,121.6,121.8,121.7,119.4,119.6,119.5,60,60.1,60,15.7,15.8,15.8,15.4,-1.9,-1.6,-1.7,-1.9,-1.6,-1.7,-1.9,-1.6,-1.7,-1.8,-1.6,-1.7,-0.2,0,-0.1,-0.2,-0.1,-0.1,-0.1,0.1,0,-0.1,0.1,0,121.9,122.4,122.1,119.7,120.3,119.9,121.7,122.2,121.9,119.4,120.1,119.7,60,60.1,60.1,13.8,16.100000000000001,14.9,15.6,18.100000000000001,16.8,13.5,15.4,14.5,11.1,13.1,12.2,1.7,2,1.8,1.8,2.2000000000000002,2,1.6,1.9,1.7,1.4,1.6,1.4,-0.1,0.1,0,-0.1,0.1,0,-0.2,0,0,-0.1,0,0,6,1,1,2,1,1,179.5,29.5,"01:00:00",12537,0,0,0,0,0,0,0,0,0,0,0,0,0,0,0,0,0,0,0,0,30,48,0.3,0,0,0,"2023-10-20T00:29:09",35,37,37,37,45,45,45,44,27.3,78.400000000000006,100,1,53.2,53.2,53.2,53.8,25.5,27.9,27,120,120,120,120,120,120,120,120,120,120,120,120,59,59,59,2.6,4.2,2.7,3.8,0.2,0.2,0.2,0.4,0.5,0.4,0.2,0.3,0.2,0.4,0.5,0.4,-0.2,-0.2,-0.2,-0.1,-0.1,-0.1,-0.2,-0.2,-0.2,0,0,0,0.1,0.2,0.1,0.4,0.7,0.4,0.1,0.4,0.2,0.6,1,0.8,0,0,0,0.3,0.4,0.3,0.3,0.4,0.3,0.2,0.3,0.2,0.5,0.6,0.5,0,0,0,0,0,0,0,0,0,0,0,0,0,0,0,0,0,0,0,0,0,0,0,0,1,1,1,2,3,1,178.6,13.6,"00:00:00",276,0,0,0,0,0,0,0,0,0,0,0,0,0,0,0,0,0,0,0,0,30,48,1.4,1.3,0,0]
["2023-10-18T14:09:09",45,45,45,44,44,43,43,43,29,86.5,100,96.2,53.3,53.4,53.3,54.2,-130.1,-124.9,-127.4,121.7,121.9,121.7,119.5,119.7,119.5,121.6,121.9,121.7,119.4,119.7,119.5,60,60.1,60,15.7,15.6,15.8,15.4,-1.9,-1.6,-1.7,-1.8,-1.6,-1.7,-1.9,-1.7,-1.7,-1.8,-1.6,-1.7,-0.2,0,-0.1,-0.2,-0.1,-0.1,-0.1,0.1,0,-0.1,0.1,0,121.9,122.4,122.1,119.6,120.4,119.9,121.7,122.2,121.9,119.4,120.1,119.7,60,60.1,60,13.5,16,14.9,15.4,18.100000000000001,16.7,13,15.6,14.5,11.2,13.2,12.2,1.6,1.9,1.8,1.8,2.1,1.9,1.6,1.9,1.7,1.3,1.6,1.4,-0.1,0.1,0,-0.1,0.1,0,-0.1,0.1,0,-0.1,0.1,0,6,1,1,2,1,1,179.5,29.5,"01:00:00",12537,0,0,0,0,0,0,0,0,0,0,0,0,0,0,0,0,0,0,0,0,30,48,0.3,0,0,0,"2023-10-20T00:30:09",35,37,37,37,45,45,45,44,27.3,78.3,100,1,53,53.2,53.1,53.8,27,39.6,29.6,119.8,120,120,120,120,120,119.9,120,120,120,120,120,58.8,59,59,7.7,4.0999999999999996,10.4,3.8,0.2,0.8,0.2,0.5,0.5,0.5,0.3,0.8,0.3,0.4,0.5,0.4,-0.2,0.2,-0.2,-0.1,-0.1,-0.1,-0.2,0.1,-0.1,0,0,0,0.1,0.3,0.1,0.4,0.5,0.4,0.1,0.4,0.2,0.6,0.9,0.7,0,0,0,0.3,0.4,0.3,0.3,0.4,0.3,0.2,0.3,0.2,0.5,0.6,0.5,0,0,0,0,0,0,0,0,0,0,0,0,0,0,0,0,0,0,0,0,0,0,0,0,1,1,1,2,3,1,178.6,13.6,"00:00:00",277,0,0,0,0,0,0,0,0,0,0,0,0,0,0,0,0,0,0,0,0,30,48,2.4,1.5,0,0]
["2023-10-18T14:10:10",45,45,45,44,44,43,43,43,29,86.8,100,96.2,53.3,53.4,53.3,54.2,-130.5,-124.8,-127.7,121.7,121.9,121.8,119.4,119.6,119.5,121.7,121.9,121.8,119.4,119.6,119.4,60,60.1,60,15.7,15.8,15.8,15.6,-1.9,-1.6,-1.7,-1.9,-1.6,-1.7,-1.9,-1.6,-1.7,-1.9,-1.6,-1.7,-0.2,0,-0.1,-0.2,-0.1,-0.1,-0.1,0,0,-0.1,0.1,0,122,122.5,122.2,119.6,120.2,119.9,121.8,122.3,121.9,119.3,120,119.6,60,60.1,60,13.7,16,15,15.1,18.100000000000001,16.8,13.2,15.6,14.5,11.4,13.3,12.3,1.7,1.9,1.8,1.8,2.2000000000000002,2,1.6,1.9,1.7,1.4,1.6,1.4,-0.1,0.1,0,-0.1,0.1,0,-0.1,0.1,0,-0.1,0.1,0,6,1,1,2,1,1,179.5,29.5,"01:00:00",12537,0,0,0,0,0,0,0,0,0,0,0,0,0,0,0,0,0,0,0,0,30,48,0.3,0,0,0,"2023-10-20T00:31:10",35,37,37,37,45,45,45,44,27.2,78.2,100,1,53.1,53.1,53.1,53.8,39.5,41.1,40.299999999999997,120,120,120,120,120,120,120,120,120,120,120,120,59,59,59,4.0999999999999996,4.3,5.4,4,0.5,0.5,0.5,0.5,0.5,0.5,0.6,0.6,0.6,0.4,0.5,0.4,-0.1,-0.1,-0.1,-0.1,-0.1,-0.1,-0.1,-0.1,-0.1,0,0,0,0.1,0.3,0.1,0.3,0.7,0.4,0.1,0.3,0.2,0.6,1,0.7,0,0,0,0.3,0.4,0.3,0.3,0.4,0.3,0.2,0.3,0.2,0.5,0.6,0.5,0,0,0,0,0,0,0,0,0,0,0,0,0,0,0,0,0,0,0,0,0,0,0,0,1,1,1,2,3,1,178.6,13.6,"00:00:00",277,0,0,0,0,0,0,0,0,0,0,0,0,0,0,0,0,0,0,0,0,30,48,2.1,2,0,0]
["2023-10-18T14:11:11",45,46,45,44,44,43,43,43,29.1,87.1,100,96.2,53.3,53.4,53.3,54.2,-130.19999999999999,-124.5,-127.7,121.7,121.9,121.7,119.5,119.7,119.5,121.7,121.8,121.7,119.4,119.6,119.5,60,60.1,60,15.5,15.6,15.7,15.6,-1.9,-1.6,-1.7,-1.9,-1.6,-1.7,-1.9,-1.7,-1.7,-1.9,-1.6,-1.7,-0.2,0,-0.1,-0.2,-0.1,-0.1,-0.1,0.1,0,-0.1,0.1,0,122,122.5,122.1,119.7,120.3,119.9,121.8,122.2,121.9,119.3,120.1,119.7,60,60.1,60,13.4,15.8,14.9,15.3,18,16.8,13.3,15.4,14.5,11.2,13.2,12.3,1.6,1.9,1.8,1.8,2.1,1.9,1.6,1.8,1.7,1.3,1.6,1.4,-0.1,0.1,0,-0.1,0.1,0,-0.1,0.1,0,-0.1,0,0,6,1,1,2,1,1,179.5,29.5,"01:00:00",12537,0,0,0,0,0,0,0,0,0,0,0,0,0,0,0,0,0,0,0,0,30,48,0.2,0,0,0,"2023-10-20T00:32:11",35,37,37,37,45,44,45,44,27.3,78.2,100,1,53.1,53.1,53.1,53.8,39.700000000000003,41.5,40.700000000000003,120,120,120,120,120,120,120,120,120,120,120,120,59,59,59,4.2,4.4000000000000004,5.4,4,0.5,0.5,0.5,0.5,0.5,0.5,0.6,0.6,0.6,0.4,0.5,0.5,-0.1,-0.1,-0.1,-0.1,-0.1,-0.1,-0.1,-0.1,-0.1,0,0,0,0.1,0.2,0.1,0.4,0.7,0.5,0,0.3,0.2,0.6,1,0.7,0,0,0,0.3,0.4,0.3,0.3,0.4,0.3,0.2,0.3,0.2,0.5,0.6,0.5,0,0,0,0,0,0,0,0,0,0,0,0,0,0,0,0,0,0,0,0,0,0,0,0,1,1,1,2,3,1,178.6,13.6,"00:00:00",278,0,0,0,0,0,0,0,0,0,0,0,0,0,0,0,0,0,0,0,0,30,48,2.1,2,0,0]
["2023-10-18T14:12:11",45,46,45,44,44,43,43,43,29.1,87.4,100,96.2,52.9,53.4,53,54.2,-129.9,0.4,-43.2,0.4,121.9,39.200000000000003,0.4,119.7,39.200000000000003,0.2,121.8,39.5,0.1,119.6,39,0,60.1,19,15.4,15.6,15.7,15.3,-1.9,0,-0.5,-1.9,0,-0.5,-1.9,0,-0.5,-1.8,0,-0.5,-0.2,0,0,-0.2,0,0,-0.1,0,0,-0.1,0.1,0,122,122.6,122.3,119.7,122,120.2,121.8,122.4,122.1,118.8,120.5,120,60,61.3,60.1,0.4,15.8,5,0.4,17.899999999999999,5.7,0.3,15.6,4.9000000000000004,0.6,13.1,4.4000000000000004,0,1.9,0.5,0,2.1,0.6,0,1.9,0.5,0,1.5,0.4,-0.1,0.1,0,-0.1,0.1,0,-0.1,0,0,-0.1,0,0,1,1,1,2,1,1,179.5,29.5,"01:00:00",12537,0,0,0,0,0,0,0,0,0,0,0,0,0,0,0,0,0,0,0,0,30,48,0.3,0,0,0,"2023-10-20T00:33:11",35,37,37,37,45,45,45,44,27.2,78.099999999999994,100,1,53.1,53.1,53.1,53.8,41.5,42.9,42.1,120,120,120,120,120,120,120,120,120,120,120,120,59,59,59,4.7,4.3,6,4,0.5,0.5,0.5,0.5,0.5,0.5,0.6,0.7,0.6,0.4,0.5,0.4,-0.1,-0.1,-0.1,-0.1,-0.1,-0.1,-0.1,-0.1,-0.1,0,0,0,0.1,0.3,0.1,0.4,0.6,0.4,0.1,0.4,0.2,0.5,0.9,0.7,0,0,0,0.3,0.4,0.3,0.3,0.4,0.3,0.2,0.3,0.2,0.5,0.6,0.5,0,0,0,0,0,0,0,0,0,0,0,0,0,0,0,0,0,0,0,0,0,0,0,0,1,1,1,2,3,1,178.6,13.6,"00:00:00",279,0,0,0,0,0,0,0,0,0,0,0,0,0,0,0,0,0,0,0,0,30,48,2.2000000000000002,2.1,0,0]
["2023-10-18T14:15:26",41,42,42,41,43,43,43,43,29.1,50,100,50,52.7,52.8,52.8,57.2,0.1,2,1,0.4,120.1,90.1,0.4,120.2,89.5,0.2,120.1,89.6,0,120.1,89.4,0,60,45.9,2.1,30.9,1,33.6,0,0,0,0,0,0,0,0,0,0,0,0,-0.3,0,-0.1,-0.2,0,-0.1,-0.1,0,0,-2.7,0,-0.1,122.3,122.9,122.4,120.2,120.7,120.4,122,122.4,122.1,119.9,120.6,120.2,57.3,60.2,60,0.3,0.4,0.3,0.4,0.4,0.4,0.3,0.3,0.3,0.6,0.6,0.6,0,0,0,0,0,0,0,0,0,0,0,0,0,0,0,0,0,0,0,0,0,0,0,0,4,2,2,1,2,1,180,14,"05:00:00",0,0,0,0,0,0,0,0,0,0,0,0,0,0,0,0,0,0,0,0,0,30,48,0,0,0,0,"2023-10-20T00:34:13",36,37,37,37,45,45,45,44,27.3,78.099999999999994,100,1,53.1,53.1,53.1,53.8,41,42.4,41.8,120,120,120,120,120,120,120,120,120,119.9,120,119.9,59,59,59,4.7,4,6,3.6,0.5,0.6,0.5,0.4,0.5,0.4,0.7,0.7,0.7,0.4,0.4,0.4,-0.1,-0.1,-0.1,-0.1,-0.1,-0.1,-0.1,-0.1,-0.1,0,0,0,0.1,0.2,0.1,0.4,0.7,0.4,0,0.3,0.1,0.6,0.9,0.7,0,0,0,0.3,0.4,0.3,0.3,0.4,0.3,0.2,0.3,0.3,0.5,0.5,0.5,0,0,0,0,0,0,0,0,0,0,0,0,0,0,0,0,0,0,0,0,0,0,0,0,1,1,1,2,3,1,178.6,13.6,"00:00:00",279,0,0,0,0,0,0,0,0,0,0,0,0,0,0,0,0,0,0,0,0,30,48,2.2000000000000002,2.1,0,0]
["2023-10-18T14:16:27",41,42,42,41,43,43,43,43,29.1,50,100,50,52.7,53.4,52.8,57.2,-156.4,1.6,-17.600000000000001,120,122.4,120.9,119.2,120.5,120,119.9,122.3,120.8,119.3,120.3,119.9,59.4,60,59.9,19,19.3,19.100000000000001,19.100000000000001,-2.2999999999999998,0,-0.3,-2.2999999999999998,0,-0.3,-2.2999999999999998,0,-0.3,-2.2999999999999998,0,-0.3,-0.5,0.1,-0.2,-0.4,0,-0.2,-0.4,0.1,-0.1,-0.5,0.2,-0.1,121.8,122.7,122.4,119.7,121,120.3,121.5,122.5,122.1,119.5,120.8,120.1,59.4,60.2,59.9,0.3,19.2,2.9,0.4,23.3,3.4,0.3,19.100000000000001,2.7,0.5,15.2,2.2999999999999998,0,2.2999999999999998,0.3,0,2.7,0.3,0,2.2999999999999998,0.3,0,1.8,0.2,-0.3,0.4,0,-0.3,0.6,0,-0.2,0.2,0,-0.3,0.1,0,6,2,2,2,2,1,180,14,"05:00:00",0,0,0,0,0,0,0,0,0,0,0,0,0,0,0,0,0,0,0,0,0,30,48,0.8,0,0,0,"2023-10-20T00:35:14",36,37,37,37,45,45,45,44,27.3,78,100,1,53,53.1,53,53.8,41.9,44.5,43.1,120,120,120,120,120,120,120,120,120,119.9,120,119.9,59,59,59,4.5999999999999996,4.5999999999999996,6,4.2,0.5,0.5,0.5,0.5,0.5,0.5,0.7,0.7,0.7,0.4,0.5,0.4,-0.1,-0.1,-0.1,-0.1,-0.1,-0.1,-0.1,-0.1,-0.1,0,0,0,0.1,0.3,0.1,0.4,0.7,0.4,0.1,0.3,0.1,0.6,0.9,0.7,0,0,0,0.3,0.4,0.3,0.3,0.4,0.3,0.3,0.3,0.3,0.5,0.5,0.5,0,0,0,0,0,0,0,0,0,0,0,0,0,0,0,0,0,0,0,0,0,0,0,0,1,1,1,2,3,1,178.6,13.6,"00:00:00",280,0,0,0,0,0,0,0,0,0,0,0,0,0,0,0,0,0,0,0,0,30,48,2.2999999999999998,2.1,0,0]
["2023-10-18T14:17:27",43,43,43,42,43,43,43,43,29,50,100,50,53.2,53.4,53.2,57.2,-150.9,-108.4,-127,121.2,122.1,121.7,119.4,120.4,119.7,121.2,122,121.7,119.4,120.3,119.7,60,60.2,60.1,16.600000000000001,17.5,17.100000000000001,16.600000000000001,-2,-1.4,-1.7,-2.1,-1.3,-1.7,-2.2000000000000002,-1.4,-1.7,-2.1,-1.4,-1.7,-0.2,0,-0.1,-0.2,0,0,-0.1,0.1,0,-0.1,0.2,0,121.5,122.5,122,119.6,120.8,120,121.2,122.2,121.8,119.4,120.6,119.8,60,60.2,60.1,13.4,17.2,15,15.4,22.1,17.7,12.5,17.600000000000001,14.6,10.7,15.4,12.4,1.6,2.1,1.8,1.9,2.6,2.1,1.5,2,1.7,1.3,1.8,1.4,-0.1,0.1,0,-0.1,0.2,0,-0.1,0.1,0,-0.1,0.1,0,6,2,2,2,2,1,180,14,"05:00:00",0,0,0,0,0,0,0,0,0,0,0,0,0,0,0,0,0,0,0,0,0,30,48,1.6,0.2,0,0,"2023-10-20T00:36:15",36,37,37,37,45,44,45,44,27.3,77.900000000000006,100,1,53,53.1,53,53.8,42.6,44.4,43.4,120,120,120,120,120,120,120,120,120,119.9,120,119.9,59,59,59,4.5,4.5,5.9,4.0999999999999996,0.5,0.5,0.5,0.5,0.5,0.5,0.7,0.7,0.7,0.5,0.5,0.5,-0.1,-0.1,-0.1,-0.1,-0.1,-0.1,-0.1,-0.1,-0.1,0,0,0,0.1,0.3,0.1,0.4,0.7,0.5,0.1,0.3,0.1,0.6,0.8,0.6,0,0,0,0.3,0.4,0.3,0.3,0.4,0.3,0.3,0.3,0.3,0.5,0.5,0.5,0,0,0,0,0,0,0,0,0,0,0,0,0,0,0,0,0,0,0,0,0,0,0,0,1,1,1,2,3,1,178.6,13.6,"00:00:00",281,0,0,0,0,0,0,0,0,0,0,0,0,0,0,0,0,0,0,0,0,30,48,2.2999999999999998,2.2000000000000002,0,0]
["2023-10-18T14:18:28",43,43,43,42,44,43,43,43,29,50.2,100,50,52.4,53.3,52.9,57.2,-113.8,90.4,-22.6,83.3,121.5,117.8,82.5,120.5,117.3,84.5,121.4,117.7,82.5,120.4,117.3,56.1,60.2,59.8,17.899999999999999,19.7,21.5,24.4,-1.7,1.4,-0.3,-1.6,1.5,-0.2,-1.7,1.4,-0.3,-1.6,1.5,-0.2,-0.3,1.4,-0.1,-0.1,1.1000000000000001,0,-0.3,1.8,0,-0.7,2.1,0.1,0.2,137.9,107.4,0.4,137.30000000000001,86.9,0.1,137.6,87.7,0.6,136.9,87.1,0,62.9,44,0.3,19,7.4,0.3,21.4,9.4,0.3,22.3,7.1,0.5,17.399999999999999,7,-1.2,1.9,0.5,-1.2,2.5,0.8,-1.3,1.8,0.4,-0.9,1.7,0.5,-1.8,0.1,-0.1,-1.9,0,-0.1,-1.9,0,-0.1,-1.7,0,-0.1,4,2,2,2,2,2,180,14,"05:00:00",0,0,0,0,0,0,0,0,0,0,0,0,0,0,0,0,0,0,0,0,0,30,48,4,1.3,0,0,"2023-10-20T00:37:15",36,37,37,37,45,45,45,44,27.3,77.8,100,1.1000000000000001,53,53.1,53,53.8,42.6,44.3,43.7,120,120,120,120,120,120,120,120,120,119.9,120,119.9,59,59,59,4.5,4.5,5.9,4.2,0.5,0.5,0.5,0.5,0.5,0.5,0.7,0.7,0.7,0.5,0.5,0.5,-0.1,-0.1,-0.1,-0.1,-0.1,-0.1,-0.1,-0.1,-0.1,0,0,0,0.1,0.2,0.1,0.4,0.6,0.4,0.1,0.3,0.1,0.5,0.9,0.6,0,0,0,0.3,0.4,0.3,0.3,0.4,0.3,0.3,0.3,0.3,0.5,0.5,0.5,0,0,0,0,0,0,0,0,0,0,0,0,0,0,0,0,0,0,0,0,0,0,0,0,1,1,1,2,3,1,178.6,13.6,"00:00:00",282,0,0,0,0,0,0,0,0,0,0,0,0,0,0,0,0,0,0,0,0,30,48,2.2999999999999998,2.2000000000000002,0,0]
["2023-10-18T14:19:29",42,43,43,42,44,43,43,43,29,50.2,100,50,52.7,52.7,52.7,57.2,27.8,30.4,28.6,120,121.6,120.2,120,120.9,120.1,119.9,121.5,120.1,119.9,120.9,120,59.8,60,60,2.5,4.5,2.4,4.2,0.2,0.2,0.2,0.5,0.5,0.5,0.3,0.3,0.3,0.4,0.5,0.4,-0.2,-0.1,-0.1,-0.1,0,-0.1,-0.1,0,0,0,0,0,121.6,121.9,121.7,121,121.5,121.2,121.3,121.6,121.4,120.7,121.3,120.9,59.9,60,59.9,0.4,1.3,0.4,0.4,0.4,0.4,0.3,0.3,0.3,0.5,0.6,0.5,0,0.1,0,0,0,0,0,0,0,0,0,0,0,0.2,0,0,0,0,0,0,0,0,0,0,5,2,2,2,2,2,180,14,"05:00:00",0,0,0,0,0,0,0,0,0,0,0,0,0,0,0,0,0,0,0,0,0,30,48,1.5,1.4,0,0,"2023-10-20T00:38:16",36,37,38,37,45,44,45,44,27.3,77.8,100,1.1000000000000001,53,53.1,53,53.8,41.1,43.5,42,120,120,120,120,120,120,120,120,120,119.9,120,119.9,59,59,59,4.5999999999999996,4.3,6,4,0.5,0.5,0.5,0.4,0.5,0.4,0.7,0.7,0.7,0.4,0.5,0.4,-0.1,-0.1,-0.1,-0.1,-0.1,-0.1,-0.1,-0.1,-0.1,0,0,0,0.1,0.3,0.2,0.4,0.6,0.4,0.1,0.3,0.1,0.6,0.9,0.6,0,0,0,0.3,0.4,0.3,0.3,0.4,0.3,0.2,0.3,0.3,0.5,0.6,0.5,0,0,0,0,0,0,0,0,0,0,0,0,0,0,0,0,0,0,0,0,0,0,0,0,1,1,1,2,3,1,178.6,13.6,"00:00:00",282,0,0,0,0,0,0,0,0,0,0,0,0,0,0,0,0,0,0,0,0,30,48,2.2000000000000002,2.1,0,0]
["2023-10-18T14:20:30",42,43,43,42,44,43,43,43,29.1,50.2,100,50,52.7,53.3,53.1,57.2,-131.5,24.7,-99.5,121.2,121.8,121.4,119.9,121,120.3,121.1,121.8,121.4,119.9,121.1,120.2,59.4,60.2,59.9,15.9,15.6,16.100000000000001,15.9,-1.9,0.2,-1.4,-1.9,0.3,-1.3,-1.9,0.2,-1.4,-1.9,0.3,-1.3,-0.1,0,0,-0.1,0,0,0,0.1,0,0,0.2,0.1,121.5,121.9,121.6,120.1,121,120.5,121.3,121.7,121.4,120,121,120.2,59.4,60.2,59.9,1.3,18.899999999999999,14.6,2.6,24.4,18.399999999999999,0.7,17.100000000000001,12.7,1.5,15.8,12.7,0.1,2.2999999999999998,1.7,0.2,2.9,2.2000000000000002,-0.1,2,1.5,0.1,1.9,1.5,0,0.1,0,-0.1,0.1,0,-0.1,0,-0.1,-0.2,0,0,6,2,2,2,2,2,180,14,"05:00:00",0,0,0,0,0,0,0,0,0,0,0,0,0,0,0,0,0,0,0,0,0,30,48,1.8,1.4,0,0,"2023-10-20T00:39:17",36,37,38,37,45,44,45,44,27.3,77.7,100,1.1000000000000001,53,53.1,53.1,53.8,41.3,42.8,41.8,120,120,120,120,120,120,120,120,120,119.9,120,119.9,59,59,59,4.5,4.5,5.9,4.0999999999999996,0.5,0.5,0.5,0.5,0.5,0.5,0.7,0.7,0.7,0.4,0.5,0.4,-0.1,-0.1,-0.1,-0.1,-0.1,-0.1,-0.1,-0.1,-0.1,0,0,0,0.1,0.3,0.1,0.4,0.6,0.4,0.1,0.3,0.1,0.5,0.9,0.6,0,0,0,0.3,0.4,0.3,0.3,0.4,0.3,0.3,0.3,0.3,0.5,0.5,0.5,0,0,0,0,0,0,0,0,0,0,0,0,0,0,0,0,0,0,0,0,0,0,0,0,1,1,1,2,3,1,178.6,13.6,"00:00:00",283,0,0,0,0,0,0,0,0,0,0,0,0,0,0,0,0,0,0,0,0,30,48,2.2000000000000002,2.1,0,0]
["2023-10-18T14:21:30",42,43,43,42,44,43,43,43,29.1,50.4,100,50,53.2,53.3,53.2,57.2,-107.1,-101.1,-103.9,121.4,121.6,121.5,120.3,120.5,120.4,121.4,121.6,121.5,120.3,120.4,120.3,60,60.1,60,12.9,13,12.9,12.8,-1.6,-1.3,-1.4,-1.5,-1.3,-1.4,-1.6,-1.3,-1.4,-1.5,-1.3,-1.4,0,0,0,0,0,0,0,0.1,0,0.1,0.1,0.1,121.5,121.9,121.6,120.2,120.8,120.4,121.3,121.7,121.4,120,120.6,120.2,60,60.1,60,13.7,16.2,14.9,17.2,20,18.600000000000001,11.7,13.9,12.9,12,14.1,13.2,1.7,2,1.8,2.1,2.4,2.2000000000000002,1.5,1.7,1.5,1.5,1.7,1.5,0,0,0,-0.1,0,0,-0.1,-0.1,-0.1,-0.1,0,0,6,2,2,2,2,2,180,14,"05:00:00",0,0,0,0,0,0,0,0,0,0,0,0,0,0,0,0,0,0,0,0,0,30,48,1.9,1.4,0,0,"2023-10-20T00:40:18",36,37,38,37,45,44,45,44,27.3,77.599999999999994,100,1.1000000000000001,53,53.1,53,53.8,40.799999999999997,43,41.5,120,120,120,120,120,120,120,120,120,119.9,120,119.9,59,59,59,4.4000000000000004,4.5,5.8,4.0999999999999996,0.5,0.5,0.5,0.5,0.5,0.5,0.7,0.7,0.7,0.4,0.5,0.4,-0.1,-0.1,-0.1,-0.1,-0.1,-0.1,-0.1,-0.1,-0.1,0,0,0,0.1,0.3,0.1,0.4,0.8,0.5,0.1,0.3,0.1,0.6,0.9,0.7,0,0,0,0.3,0.4,0.3,0.3,0.4,0.3,0.2,0.3,0.3,0.5,0.6,0.5,0,0,0,0,0,0,0,0,0,0,0,0,0,0,0,0,0,0,0,0,0,0,0,0,1,1,1,2,3,1,178.6,13.6,"00:00:00",284,0,0,0,0,0,0,0,0,0,0,0,0,0,0,0,0,0,0,0,0,30,48,2.2000000000000002,2.1,0,0]
["2023-10-18T14:22:31",42,43,43,42,44,43,43,43,29.2,50.5,100,50,53.2,53.3,53.2,57.2,-105.2,-99.7,-102.4,121.4,121.6,121.5,120.3,120.5,120.4,121.4,121.6,121.5,120.3,120.5,120.3,60,60.1,60,12.8,13,13.1,13.1,-1.6,-1.3,-1.4,-1.6,-1.3,-1.3,-1.6,-1.3,-1.4,-1.5,-1.3,-1.3,0,0,0,0,0,0,0,0.1,0,0.1,0.1,0.1,121.4,121.9,121.6,120.2,120.8,120.5,121.2,121.6,121.4,120,120.6,120.2,60,60.1,60,13.9,16.3,15,17.3,19.8,18.5,11.7,14,12.9,12.5,14.2,13.2,1.7,2,1.8,2.1,2.4,2.2000000000000002,1.4,1.7,1.5,1.5,1.7,1.5,0,0,0,0,0,0,-0.1,-0.1,-0.1,-0.1,0,0,6,2,2,2,2,2,180,14,"05:00:00",0,0,0,0,0,0,0,0,0,0,0,0,0,0,0,0,0,0,0,0,0,30,48,1.8,1.5,0,0,"2023-10-20T00:41:18",36,37,38,37,45,44,45,44,27.3,77.599999999999994,100,1.1000000000000001,53,53.1,53,53.8,41.6,42.8,42.1,120,120,120,120,120,120,120,120,120,119.9,120,119.9,59,59,59,4.5,4.2,5.9,3.8,0.5,0.5,0.5,0.5,0.5,0.5,0.7,0.7,0.7,0.4,0.5,0.4,-0.1,-0.1,-0.1,-0.1,-0.1,-0.1,-0.1,-0.1,-0.1,0,0,0,0.1,0.3,0.1,0.4,0.7,0.5,0.1,0.3,0.1,0.6,0.9,0.7,0,0,0,0.3,0.4,0.3,0.3,0.4,0.3,0.2,0.3,0.3,0.5,0.6,0.5,0,0,0,0,0,0,0,0,0,0,0,0,0,0,0,0,0,0,0,0,0,0,0,0,1,1,1,2,3,1,178.6,13.6,"00:00:00",284,0,0,0,0,0,0,0,0,0,0,0,0,0,0,0,0,0,0,0,0,30,48,2.2000000000000002,2.1,0,0]
["2023-10-18T14:23:34",43,43,43,42,44,43,43,43,29.2,50.7,100,50,53.2,53.3,53.2,57.2,-107,-100.3,-103.6,121.4,121.5,121.4,120.4,120.6,120.4,121.4,121.5,121.4,120.3,120.5,120.4,60,60.1,60,12.9,12.9,13.1,12.9,-1.6,-1.3,-1.4,-1.5,-1.3,-1.4,-1.6,-1.3,-1.4,-1.5,-1.3,-1.4,0,0,0,0,0,0,0,0.1,0,0.1,0.1,0.1,121.4,121.8,121.5,120.3,121,120.5,121.2,121.6,121.3,120,120.7,120.3,60,60.1,60,13.6,16,14.9,16.600000000000001,19.2,17.899999999999999,11.8,14.1,13,11.7,13.8,12.8,1.7,1.9,1.8,2,2.2999999999999998,2.1,1.4,1.7,1.5,1.4,1.6,1.5,0,0.1,0,0,0,0,-0.1,0,-0.1,-0.1,0,0,6,2,2,2,2,2,180,14,"05:00:00",0,0,0,0,0,0,0,0,0,0,0,0,0,0,0,0,0,0,0,0,0,30,48,1.7,1.3,0,0,"2023-10-20T00:42:19",36,37,38,37,45,44,45,44,27.3,77.5,100,1.1000000000000001,53,53.1,53,53.8,42.3,43.8,43.1,120,120,120,120,120,120,120,120,120,119.9,120,119.9,59,59,59,4.5999999999999996,4.4000000000000004,6,4,0.5,0.5,0.5,0.5,0.5,0.5,0.7,0.7,0.7,0.4,0.5,0.4,-0.1,-0.1,-0.1,-0.1,-0.1,-0.1,-0.1,-0.1,-0.1,0,0,0,0.1,0.3,0.2,0.4,0.7,0.5,0.1,0.4,0.1,0.6,0.9,0.6,0,0,0,0.3,0.4,0.3,0.3,0.4,0.3,0.3,0.3,0.3,0.5,0.5,0.5,0,0,0,0,0,0,0,0,0,0,0,0,0,0,0,0,0,0,0,0,0,0,0,0,1,1,1,2,3,1,178.6,13.6,"00:00:00",285,0,0,0,0,0,0,0,0,0,0,0,0,0,0,0,0,0,0,0,0,30,48,2.2000000000000002,2.2000000000000002,0,0]
["2023-10-18T14:24:34",43,43,43,42,44,43,43,43,29.2,50.9,100,50,53.2,53.4,53.3,57.2,-118.5,-93.3,-105.6,121.2,122.1,121.4,120,120.6,120.3,121.1,122,121.4,119.9,120.5,120.2,59.8,60.2,60,13.9,15.1,13.8,14.8,-1.7,-1.2,-1.4,-1.8,-1.1000000000000001,-1.4,-1.7,-1.2,-1.4,-1.8,-1,-1.4,-0.3,0.1,0,0,0.3,0,0,0.2,0,0.1,0.4,0.1,121.4,122.2,121.6,119.9,120.9,120.4,121.2,122,121.4,119.7,120.6,120.2,59.9,60.2,60,13.2,17,15,17.399999999999999,23.4,19.399999999999999,11.7,14.9,13.1,11.4,16.399999999999999,13.3,1.6,2.1,1.8,2,2.8,2.2999999999999998,1.3,1.8,1.5,1.4,1.9,1.5,-0.1,0.5,0,-0.2,0,0,-0.2,0,-0.1,-0.2,0.1,0,6,2,2,2,2,1,180,14,"05:00:00",0,0,0,0,0,0,0,0,0,0,0,0,0,0,0,0,0,0,0,0,0,30,48,2.4,1.5,0,0,"2023-10-20T00:43:20",36,37,38,37,45,44,45,44,27.3,77.400000000000006,100,1.1000000000000001,53,53.1,53,53.8,39.799999999999997,42.7,41.4,120,120,120,120,120,120,120,120,120,119.9,120,119.9,59,59,59,4.5,4.2,5.9,3.8,0.5,0.5,0.5,0.4,0.5,0.4,0.7,0.7,0.7,0.4,0.5,0.4,-0.1,-0.1,-0.1,-0.1,-0.1,-0.1,-0.1,-0.1,-0.1,0,0,0,0.1,0.3,0.1,0.4,0.7,0.4,0.1,0.3,0.1,0.6,0.9,0.6,0,0,0,0.3,0.4,0.3,0.3,0.4,0.3,0.2,0.3,0.3,0.5,0.5,0.5,0,0,0,0,0,0,0,0,0,0,0,0,0,0,0,0,0,0,0,0,0,0,0,0,1,1,1,2,3,1,178.6,13.6,"00:00:00",286,0,0,0,0,0,0,0,0,0,0,0,0,0,0,0,0,0,0,0,0,30,48,2.2000000000000002,2,0,0]
["2023-10-18T14:25:35",43,43,43,42,44,43,43,43,29.2,51,100,50,53.1,53.4,53.2,57.2,-107.5,-52.6,-73.3,120.3,122.3,121.2,119.8,121.5,120.9,120.3,122.3,121.1,119.8,121.5,120.8,59.8,60.3,60,15.9,13.9,16,14,-1.9,-1.1000000000000001,-1.4,-1.5,0,-0.5,-1.9,-1.2,-1.4,-1.5,0,-0.5,-0.4,0.1,0,-0.1,0.6,0.4,0,0.2,0,0.1,0.9,0.5,120.5,122.6,121.4,119.6,121.7,120.8,120.4,122.4,121.2,119.3,121.4,120.5,59.8,60.3,60.1,12.5,19,14.9,10.6,28.4,17.3,11.2,16.8,13.2,6.5,19.3,11,1.4,2.2999999999999998,1.8,1.3,3.4,2,1.3,2,1.5,0.8,2.2999999999999998,1.3,-0.2,0.4,0,-0.1,0.7,0,-0.3,-0.1,-0.1,-0.2,0.4,0,6,2,2,2,2,1,180,14,"05:00:00",0,0,0,0,0,0,0,0,0,0,0,0,0,0,0,0,0,0,0,0,0,30,48,3.7,2.7,0,0,"2023-10-20T00:44:22",36,37,38,37,45,44,45,44,27.2,77.400000000000006,100,1.1000000000000001,53,53.1,53,53.8,40,42.3,41.4,120,120,120,120,120,120,120,120,120,119.9,120,119.9,59,59,59,4.5,4.2,5.8,3.9,0.5,0.5,0.5,0.4,0.5,0.4,0.7,0.7,0.7,0.4,0.5,0.4,-0.1,-0.1,-0.1,-0.1,-0.1,-0.1,-0.1,-0.1,-0.1,0,0,0,0.1,0.3,0.1,0.4,0.6,0.4,0.1,0.3,0.1,0.6,0.9,0.7,0,0,0,0.3,0.4,0.3,0.3,0.4,0.3,0.3,0.3,0.3,0.5,0.5,0.5,0,0,0,0,0,0,0,0,0,0,0,0,0,0,0,0,0,0,0,0,0,0,0,0,1,1,1,2,3,1,178.6,13.6,"00:00:00",286,0,0,0,0,0,0,0,0,0,0,0,0,0,0,0,0,0,0,0,0,30,48,2.2000000000000002,2.1,0,0]
["2023-10-18T14:26:36",43,43,43,42,44,43,44,43,29.2,51.1,100,50,53.2,53.3,53.2,57.2,-91.1,-84.9,-88.4,121,121.2,121.1,120.8,121,120.8,121.1,121.2,121.1,120.8,121,120.8,59.9,60.1,60,13.2,9,13.2,9,-1.6,-1.3,-1.4,-1.1000000000000001,-0.9,-0.9,-1.6,-1.3,-1.4,-1.1000000000000001,-0.9,-0.9,0,0,0,0,0,0,0,0.1,0.1,0.1,0.1,0.1,121.1,121.5,121.2,120.7,121.3,120.9,120.9,121.2,121,120.5,121.1,120.7,60,60.1,60,13.5,16.100000000000001,14.9,13.8,15.9,14.9,11.8,14.3,13,8.6999999999999993,10.1,9.4,1.6,2,1.8,1.7,1.9,1.8,1.4,1.7,1.5,1,1.2,1.1000000000000001,0,0,0,0,0,0,-0.1,-0.1,-0.1,-0.1,0,0,6,2,2,2,2,1,180,14,"05:00:00",0,0,0,0,0,0,0,0,0,0,0,0,0,0,0,0,0,0,0,0,0,30,48,1.8,1.4,0,0,"2023-10-20T00:45:23",36,37,38,37,45,44,45,44,27.2,77.3,100,1.1000000000000001,53,53.1,53,53.8,41.2,46.4,44.1,119.9,120,120,120,120,120,119.9,120,120,119.9,120,119.9,59,59,59,5.6,4.3,7.2,4,0.5,0.7,0.5,0.5,0.5,0.5,0.7,0.9,0.7,0.4,0.5,0.4,-0.1,0.1,0,-0.1,-0.1,-0.1,-0.1,0.1,0,0,0,0,0.1,0.3,0.1,0.4,0.6,0.4,0.1,0.3,0.1,0.6,0.9,0.6,0,0,0,0.3,0.4,0.3,0.3,0.4,0.3,0.2,0.3,0.3,0.5,0.5,0.5,0,0,0,0,0,0,0,0,0,0,0,0,0,0,0,0,0,0,0,0,0,0,0,0,1,1,1,2,3,1,178.6,13.6,"00:00:00",287,0,0,0,0,0,0,0,0,0,0,0,0,0,0,0,0,0,0,0,0,30,48,2.4,2.2000000000000002,0,0]
["2023-10-18T14:27:36",43,43,43,42,44,43,44,43,29.2,51.3,100,50,53.2,53.3,53.2,57.2,-90.9,-86.2,-88.8,121,121.2,121.1,120.8,121,120.8,121,121.2,121.1,120.7,120.9,120.8,60,60.1,60,12.9,9.5,13.1,9.5,-1.6,-1.3,-1.4,-1.2,-0.9,-1,-1.5,-1.2,-1.4,-1.1000000000000001,-0.9,-1,0,0,0,0,0,0,0,0.1,0.1,0.1,0.1,0.1,121.1,121.5,121.2,120.7,121.3,120.9,120.9,121.3,121,120.4,121.2,120.7,60,60.1,60,13.7,16.100000000000001,15,13.7,16,15,11.6,14.1,13,8.8000000000000007,10.199999999999999,9.5,1.7,2,1.8,1.7,1.9,1.7,1.4,1.7,1.5,1.1000000000000001,1.2,1.1000000000000001,0,0,0,0,0,0,-0.1,-0.1,-0.1,-0.1,0,0,6,2,2,2,2,1,180,14,"05:00:00",0,0,0,0,0,0,0,0,0,0,0,0,0,0,0,0,0,0,0,0,0,30,48,1.7,1.4,0,0,"2023-10-20T00:46:24",36,37,38,37,45,44,45,44,27.2,77.2,100,1.1000000000000001,53,53,53,53.8,44.8,46.6,45.8,120,120,120,120,120,120,120,120,120,119.9,120,119.9,59,59,59,5,4.4000000000000004,6.7,4,0.6,0.6,0.6,0.5,0.5,0.5,0.8,0.8,0.8,0.5,0.5,0.5,0,0,0,-0.1,-0.1,-0.1,0,0,0,0,0,0,0.1,0.3,0.1,0.4,0.6,0.4,0,0.3,0.1,0.6,0.9,0.6,0,0,0,0.3,0.4,0.3,0.3,0.4,0.3,0.3,0.3,0.3,0.5,0.5,0.5,0,0,0,0,0,0,0,0,0,0,0,0,0,0,0,0,0,0,0,0,0,0,0,0,1,1,1,2,3,1,178.6,13.6,"00:00:00",288,0,0,0,0,0,0,0,0,0,0,0,0,0,0,0,0,0,0,0,0,30,48,2.4,2.2999999999999998,0,0]
["2023-10-18T14:28:37",43,43,43,42,44,43,44,43,29.2,51.4,100,50,53.2,53.3,53.2,57.2,-92.4,-86.5,-89.3,121.1,121.2,121.1,120.8,120.9,120.8,121,121.2,121.1,120.7,120.9,120.8,60,60.1,60,12.9,9.6999999999999993,12.9,9.6,-1.6,-1.2,-1.4,-1.1000000000000001,-0.9,-1,-1.6,-1.3,-1.4,-1.1000000000000001,-0.9,-1,-0.1,0,0,0,0,0,0,0.1,0.1,0.1,0.1,0.1,121.1,121.5,121.2,120.7,121.3,120.9,120.9,121.2,121,120.4,121.1,120.7,60,60.1,60,13.5,16.100000000000001,14.9,13.7,15.9,14.9,11.7,14.2,13,9,10.4,9.6,1.6,1.9,1.8,1.7,1.9,1.8,1.4,1.7,1.5,1.1000000000000001,1.2,1.1000000000000001,0,0,0,0,0,0,-0.1,-0.1,-0.1,-0.1,0,0,6,2,2,2,2,1,180,14,"05:00:00",0,0,0,0,0,0,0,0,0,0,0,0,0,0,0,0,0,0,0,0,0,30,48,1.7,1.4,0,0,"2023-10-20T00:47:25",36,37,38,37,45,44,45,44,27.2,77.2,100,1.1000000000000001,53,53.1,53,53.8,43.3,44.9,43.8,120,120,120,120,120,120,120,120,120,119.9,120,119.9,59,59,59,4.7,4.3,6.4,3.9,0.5,0.6,0.5,0.5,0.5,0.5,0.7,0.8,0.7,0.4,0.5,0.4,0,0,0,-0.1,-0.1,-0.1,0,0,0,0,0,0,0.1,0.3,0.1,0.4,0.6,0.4,0,0.3,0.1,0.6,0.9,0.6,0,0,0,0.3,0.4,0.3,0.3,0.4,0.3,0.3,0.3,0.3,0.5,0.5,0.5,0,0,0,0,0,0,0,0,0,0,0,0,0,0,0,0,0,0,0,0,0,0,0,0,1,1,1,2,3,1,178.6,13.6,"00:00:00",289,0,0,0,0,0,0,0,0,0,0,0,0,0,0,0,0,0,0,0,0,30,48,2.2999999999999998,2.2000000000000002,0,0]
["2023-10-18T14:29:37",43,43,43,42,44,43,44,43,29.2,51.5,100,50,53.2,53.3,53.2,57.2,-92.8,-79.2,-89.5,120.9,121.9,121.1,120.7,121.4,120.8,120.8,121.8,121.1,120.8,121.3,120.8,59.9,60.1,60,13.9,9.5,14.1,9.4,-1.7,-1.2,-1.4,-1.1000000000000001,-0.6,-0.9,-1.6,-1.3,-1.4,-1.1000000000000001,-0.8,-0.9,-0.3,0.2,0,0,0.4,0,-0.3,0.4,0,0,0.5,0.1,120.9,122.2,121.2,120.5,121.3,120.9,120.7,122,121,120.4,121.1,120.7,59.9,60.1,60,12.4,16.899999999999999,15,14,18.5,15,11.1,14.9,13.1,9,11.3,9.6999999999999993,1.5,2,1.8,1.7,2.1,1.8,1.4,1.7,1.5,1.1000000000000001,1.4,1.1000000000000001,-0.3,0.4,0,-0.1,0,0,-0.4,0.2,-0.1,-0.2,0.2,0,6,2,2,2,2,1,180,14,"05:00:00",0,0,0,0,0,0,0,0,0,0,0,0,0,0,0,0,0,0,0,0,0,30,48,2.8,1.4,0,0,"2023-10-20T00:48:25",36,37,38,37,45,44,45,44,27.1,77.099999999999994,100,1.1000000000000001,53,53.1,53,53.8,43.3,45.6,43.8,120,120,120,120,120,120,120,120,120,119.9,120,119.9,59,59,59,4.9000000000000004,4.3,6.6,3.9,0.6,0.6,0.6,0.5,0.5,0.5,0.8,0.8,0.8,0.4,0.5,0.4,0,0,0,-0.1,-0.1,-0.1,0,0,0,0,0,0,0.1,0.3,0.2,0.4,0.7,0.5,0,0.3,0.1,0.5,0.8,0.6,0,0,0,0.3,0.4,0.3,0.3,0.4,0.3,0.2,0.3,0.3,0.5,0.5,0.5,0,0,0,0,0,0,0,0,0,0,0,0,0,0,0,0,0,0,0,0,0,0,0,0,1,1,1,2,3,1,178.6,13.6,"00:00:00",289,0,0,0,0,0,0,0,0,0,0,0,0,0,0,0,0,0,0,0,0,30,48,2.2999999999999998,2.2000000000000002,0,0]
["2023-10-18T14:30:38",43,43,44,42,44,43,44,43,29.2,51.7,100,50,53.2,53.3,53.3,57.2,-91,-86.9,-88.8,121,121.2,121.1,120.8,121,120.8,121,121.2,121.1,120.8,120.9,120.8,60,60.1,60,13.5,8.9,13.5,8.8000000000000007,-1.6,-1.3,-1.4,-1.1000000000000001,-0.9,-0.9,-1.6,-1.3,-1.4,-1.1000000000000001,-0.9,-0.9,-0.1,0,0,0,0,0,0,0.1,0.1,0,0.1,0.1,121.1,121.5,121.2,120.7,121.3,120.9,120.9,121.3,121,120.4,121.2,120.7,60,60.1,60,13.4,16.399999999999999,14.9,14,16.100000000000001,14.9,12,14.5,13.1,9,10.3,9.6,1.6,2,1.8,1.7,1.9,1.7,1.4,1.7,1.5,1.1000000000000001,1.2,1.1000000000000001,0,0,0,0,0,0,-0.1,0,-0.1,-0.1,0,0,6,2,2,2,2,1,180,14,"05:00:00",0,0,0,0,0,0,0,0,0,0,0,0,0,0,0,0,0,0,0,0,0,30,48,1.8,1.4,0,0,"2023-10-20T00:49:26",36,37,38,37,45,44,45,44,27.2,77,100,1.1000000000000001,53,53.1,53,53.8,44.7,46.5,45.5,120,120,120,120,120,120,120,120,120,119.9,120,119.9,59,59,59,5,4.4000000000000004,6.6,4.0999999999999996,0.6,0.6,0.6,0.5,0.5,0.5,0.8,0.8,0.8,0.4,0.5,0.4,0,0,0,-0.1,-0.1,-0.1,0,0,0,0,0,0,0.1,0.3,0.1,0.4,0.7,0.5,0,0.3,0.1,0.6,0.9,0.6,0,0,0,0.3,0.4,0.3,0.3,0.4,0.3,0.3,0.3,0.3,0.5,0.5,0.5,0,0,0,0,0,0,0,0,0,0,0,0,0,0,0,0,0,0,0,0,0,0,0,0,1,1,1,2,3,1,178.6,13.6,"00:00:00",290,0,0,0,0,0,0,0,0,0,0,0,0,0,0,0,0,0,0,0,0,30,48,2.4,2.2999999999999998,0,0]
["2023-10-18T14:31:39",43,42,44,41,44,43,44,43,29.3,51.8,100,50,53.3,53.4,53.3,57.2,-94.1,-87.5,-91,121,121.2,121.1,120.8,121,120.8,121,121.2,121.1,120.7,121,120.8,60,60.1,60,13.2,9.6999999999999993,13.3,9.6,-1.6,-1.3,-1.4,-1.2,-0.9,-1,-1.6,-1.3,-1.4,-1.2,-0.9,-1,0,0,0,0,0,0,0,0.1,0,0.1,0.1,0.1,121.1,121.4,121.2,120.7,121.3,120.9,120.9,121.2,121,120.5,121.1,120.7,60,60.1,60,13.6,16.2,14.9,14,15.9,14.9,11.8,14.4,13.2,9.1,10.4,9.6999999999999993,1.6,2,1.8,1.7,1.9,1.8,1.4,1.7,1.5,1.1000000000000001,1.2,1.1000000000000001,0,0,0,0,0,0,-0.1,-0.1,-0.1,-0.1,0,0,6,2,2,2,2,1,180,14,"05:00:00",0,0,0,0,0,0,0,0,0,0,0,0,0,0,0,0,0,0,0,0,0,30,48,1.7,1.3,0,0,"2023-10-20T00:50:26",36,37,38,37,45,44,45,44,27.1,77,100,1.1000000000000001,53,53.1,53,53.8,44,45.1,44.3,120,120,120,120,120,120,120,120,120,119.9,120,119.9,59,59,59,5,4,6.6,3.7,0.6,0.6,0.6,0.5,0.5,0.5,0.8,0.8,0.8,0.4,0.4,0.4,0,0,0,-0.1,-0.1,-0.1,0,0,0,0,0,0,0.1,0.3,0.1,0.4,0.7,0.5,0,0.3,0.1,0.6,0.9,0.7,0,0,0,0.3,0.4,0.3,0.3,0.4,0.3,0.3,0.3,0.3,0.5,0.6,0.5,0,0,0,0,0,0,0,0,0,0,0,0,0,0,0,0,0,0,0,0,0,0,0,0,1,1,1,2,3,1,178.6,13.6,"00:00:00",291,0,0,0,0,0,0,0,0,0,0,0,0,0,0,0,0,0,0,0,0,30,48,2.2999999999999998,2.2000000000000002,0,0]
["2023-10-18T14:32:39",43,42,44,41,44,43,44,43,29.3,52,100,50,53.3,53.4,53.3,57.2,-93.3,-85,-90.2,121.1,121.2,121.1,120.8,120.9,120.8,121,121.2,121.1,120.7,120.9,120.8,60,60.1,60,13.1,9.6999999999999993,13.1,9.9,-1.6,-1.2,-1.4,-1.2,-0.9,-1,-1.6,-1.3,-1.4,-1.2,-0.9,-1,-0.1,0,0,0,0,0,0,0.1,0,0,0.1,0.1,121.1,121.5,121.2,120.7,121.3,120.9,120.9,121.3,121,120.4,121.2,120.7,60,60.1,60,13.4,16.2,14.9,14,16.2,15,11.5,14.3,13.1,9.1,10.4,9.6999999999999993,1.6,2,1.8,1.7,1.9,1.8,1.5,1.7,1.5,1.1000000000000001,1.3,1.1000000000000001,0,0.1,0,0,0,0,-0.1,-0.1,-0.1,-0.1,0,0,6,2,2,2,2,1,180,14,"05:00:00",0,0,0,0,0,0,0,0,0,0,0,0,0,0,0,0,0,0,0,0,0,30,48,1.9,1.4,0,0,"2023-10-20T00:51:27",36,37,38,37,45,44,45,44,27.2,76.900000000000006,100,1.1000000000000001,53,53.1,53,53.8,44,45.6,44.8,120,120,120,120,120,120,120,120,120,119.9,120,119.9,59,59,59,4.9000000000000004,4.3,6.5,4,0.6,0.6,0.6,0.5,0.5,0.5,0.8,0.8,0.8,0.4,0.5,0.4,0,0,0,-0.1,-0.1,-0.1,0,0,0,0,0,0,0.1,0.3,0.1,0.4,0.7,0.5,0.1,0.3,0.1,0.6,0.9,0.7,0,0,0,0.3,0.4,0.3,0.3,0.4,0.3,0.3,0.3,0.3,0.5,0.5,0.5,0,0,0,0,0,0,0,0,0,0,0,0,0,0,0,0,0,0,0,0,0,0,0,0,1,1,1,2,3,1,178.6,13.6,"00:00:00",292,0,0,0,0,0,0,0,0,0,0,0,0,0,0,0,0,0,0,0,0,30,48,2.2999999999999998,2.2000000000000002,0,0]
["2023-10-18T14:33:41",43,42,44,41,44,43,44,43,29.3,52.1,100,50,53.3,53.4,53.3,57.2,-90.4,-85.2,-87.9,121.1,121.3,121.1,120.7,120.9,120.8,121,121.2,121.1,120.7,120.9,120.7,60,60.1,60,12.9,9,13.1,9,-1.6,-1.2,-1.4,-1.1000000000000001,-0.9,-0.9,-1.6,-1.2,-1.4,-1.1000000000000001,-0.9,-0.9,-0.1,0.1,0,-0.1,0,0,0,0.2,0.1,0,0.1,0.1,121.1,121.5,121.3,120.7,121.3,120.9,120.9,121.3,121,120.4,121.1,120.7,60,60.1,60,13.6,16.2,15,13.6,16.100000000000001,15,12,14.1,13.1,9,10.3,9.6,1.6,2,1.8,1.7,1.9,1.8,1.4,1.7,1.5,1.1000000000000001,1.2,1.1000000000000001,0,0.1,0,0,0,0,-0.2,-0.1,-0.1,-0.1,0,0,6,2,2,2,2,1,180,14,"05:00:00",0,0,0,0,0,0,0,0,0,0,0,0,0,0,0,0,0,0,0,0,0,30,48,1.7,1.4,0,0,"2023-10-20T00:52:28",36,37,38,37,45,44,45,44,27.1,76.8,100,1.1000000000000001,53,53.1,53,53.8,44,45.5,44.4,120,120,120,120,120,120,120,120,120,119.9,120,119.9,59,59,59,4.8,4.3,6.5,3.9,0.6,0.6,0.6,0.5,0.5,0.5,0.8,0.8,0.8,0.4,0.5,0.4,0,0,0,-0.1,-0.1,-0.1,0,0,0,0,0,0,0.1,0.3,0.1,0.4,0.6,0.4,0,0.3,0.1,0.6,0.9,0.6,0,0,0,0.3,0.4,0.3,0.3,0.4,0.3,0.3,0.3,0.3,0.5,0.5,0.5,0,0,0,0,0,0,0,0,0,0,0,0,0,0,0,0,0,0,0,0,0,0,0,0,1,1,1,2,3,1,178.6,13.6,"00:00:00",292,0,0,0,0,0,0,0,0,0,0,0,0,0,0,0,0,0,0,0,0,30,48,2.2999999999999998,2.2000000000000002,0,0]
["2023-10-18T14:34:41",43,42,44,41,44,43,44,43,29.3,52.2,100,50,53.2,53.4,53.3,57.2,-91.1,-79.2,-86,121,122.2,121.5,120.2,121.4,120.6,121,122.1,121.4,119.9,121.2,120.5,59.9,60.1,60,13,9.4,13.1,9.3000000000000007,-1.6,-0.8,-1.3,-1.1000000000000001,-0.9,-0.9,-1.6,-1.1000000000000001,-1.3,-1.1000000000000001,-0.9,-1,-0.4,0.6,0.2,-0.3,0.1,0,0,0.7,0.3,-0.1,0.3,0.1,121.1,122,121.4,120.2,121.8,120.7,120.7,121.8,121.2,119.9,121.2,120.5,59.9,60.1,60,13.5,22,15,13.8,16.100000000000001,15,11.6,14.3,12.9,8.9,10.4,9.6,1.6,2.6,1.8,1.7,1.9,1.7,1.4,1.7,1.5,1.1000000000000001,1.2,1.1000000000000001,-0.3,0.7,0,-0.2,0.4,0,-0.5,-0.1,-0.2,-0.3,0,0,6,2,2,2,2,1,180,14,"05:00:00",0,0,0,0,0,0,0,0,0,0,0,0,0,0,0,0,0,0,0,0,0,30,48,3,1.5,0,0,"2023-10-20T00:53:29",36,37,38,37,45,44,45,44,27.1,76.7,100,1.1000000000000001,53,53.1,53,53.8,43.3,45.1,44.1,120,120,120,120,120,120,120,120,120,119.9,120,119.9,59,59,59,4.8,4.2,6.5,3.8,0.6,0.6,0.6,0.4,0.5,0.4,0.8,0.8,0.8,0.4,0.5,0.4,0,0,0,-0.1,-0.1,-0.1,0,0,0,0,0,0,0.1,0.3,0.1,0.3,0.6,0.4,0.1,0.3,0.1,0.6,0.9,0.6,0,0,0,0.3,0.4,0.3,0.3,0.4,0.3,0.2,0.3,0.3,0.5,0.5,0.5,0,0,0,0,0,0,0,0,0,0,0,0,0,0,0,0,0,0,0,0,0,0,0,0,1,1,1,2,3,1,178.6,13.6,"00:00:00",293,0,0,0,0,0,0,0,0,0,0,0,0,0,0,0,0,0,0,0,0,30,48,2.2999999999999998,2.2000000000000002,0,0]
["2023-10-18T14:35:42",43,42,44,41,45,43,44,43,29.3,52.4,100,50,53.3,53.4,53.3,57.2,-98.2,-91.1,-94.9,120.8,121.1,120.8,120.8,121.1,121,120.8,121,120.8,120.7,121.1,120.9,60,60.1,60,14.1,9.6999999999999993,14.1,9.5,-1.7,-1.3,-1.5,-1.2,-0.9,-1,-1.7,-1.3,-1.5,-1.1000000000000001,-1,-1,-0.2,-0.1,-0.2,-0.1,0,0,-0.2,0.1,-0.1,0,0.2,0.1,120.9,121.4,121.1,120.8,121.5,121.1,120.7,121.3,120.9,120.4,121.3,120.9,60,60.1,60,13.1,16.2,14.9,13.5,15.9,14.9,12,14.7,13.4,8.9,10.3,9.6,1.6,2,1.8,1.6,1.9,1.8,1.5,1.8,1.6,1.1000000000000001,1.2,1.1000000000000001,-0.1,0.1,0,-0.1,0.1,0,-0.1,0.1,0,-0.1,0.1,0,6,2,2,2,2,1,180,14,"05:00:00",0,0,0,0,0,0,0,0,0,0,0,0,0,0,0,0,0,0,0,0,0,30,48,1.5,1.1000000000000001,0,0,"2023-10-20T00:54:31",36,37,38,37,45,44,45,44,27.1,76.7,100,1.1000000000000001,53,53.1,53,53.8,43.6,45.1,44.1,120,120,120,120,120,120,120,120,120,119.9,120,119.9,59,59,59,4.7,4.3,6.4,3.9,0.6,0.6,0.6,0.5,0.5,0.5,0.7,0.8,0.7,0.4,0.5,0.4,0,0,0,-0.1,-0.1,-0.1,0,0,0,0,0,0,0.1,0.3,0.1,0.3,0.6,0.4,0,0.3,0.2,0.6,0.9,0.7,0,0,0,0.3,0.4,0.3,0.3,0.4,0.3,0.3,0.3,0.3,0.5,0.5,0.5,0,0,0,0,0,0,0,0,0,0,0,0,0,0,0,0,0,0,0,0,0,0,0,0,1,1,1,2,3,1,178.6,13.6,"00:00:00",294,0,0,0,0,0,0,0,0,0,0,0,0,0,0,0,0,0,0,0,0,30,48,2.2999999999999998,2.2000000000000002,0,0]
["2023-10-18T14:36:43",43,42,44,41,45,43,44,43,29.3,52.5,100,50,53.3,53.4,53.3,57.2,-97.4,-90.5,-94.6,120.7,120.9,120.8,120.9,121.1,121,120.7,120.9,120.8,120.9,121.1,120.9,60,60.1,60,14,9.5,14.2,9.6,-1.7,-1.4,-1.5,-1.1000000000000001,-0.9,-1,-1.7,-1.4,-1.5,-1.2,-0.9,-1,-0.2,-0.1,-0.2,0,0,0,-0.1,-0.1,-0.1,0.1,0.1,0.1,120.9,121.3,121.1,120.8,121.4,121.1,120.7,121.1,120.9,120.6,121.3,120.9,60,60.1,60,13.6,16.100000000000001,15,13.9,15.9,15,12.2,14.5,13.4,8.9,10.199999999999999,9.6,1.6,1.9,1.8,1.7,1.9,1.8,1.5,1.7,1.6,1.1000000000000001,1.2,1.1000000000000001,-0.1,0,0,-0.1,0.1,0,-0.1,0,0,-0.1,0,0,6,2,2,2,2,1,180,14,"05:00:00",0,0,0,0,0,0,0,0,0,0,0,0,0,0,0,0,0,0,0,0,0,30,48,1.6,1.1000000000000001,0,0,"2023-10-20T00:55:32",36,37,38,37,45,44,45,44,27.1,76.599999999999994,100,1.1000000000000001,53,53.1,53,53.8,43.2,44.4,43.9,120,120,120,120,120,120,120,120,120,119.9,120,119.9,59,59,59,4.9000000000000004,4.0999999999999996,6.5,3.7,0.6,0.6,0.6,0.5,0.5,0.5,0.8,0.8,0.8,0.4,0.4,0.4,0,0,0,-0.1,-0.1,-0.1,0,0,0,0,0,0,0.1,0.2,0.1,0.4,0.6,0.4,0.1,0.4,0.2,0.6,0.9,0.7,0,0,0,0.3,0.4,0.3,0.3,0.4,0.3,0.3,0.3,0.3,0.5,0.6,0.5,0,0,0,0,0,0,0,0,0,0,0,0,0,0,0,0,0,0,0,0,0,0,0,0,1,1,1,2,3,1,178.6,13.6,"00:00:00",295,0,0,0,0,0,0,0,0,0,0,0,0,0,0,0,0,0,0,0,0,30,48,2.2999999999999998,2.2000000000000002,0,0]
["2023-10-18T14:37:44",43,42,44,41,45,43,44,43,29.3,52.7,100,50,53.1,53.4,53.3,57.2,-93.5,-64.400000000000006,-88.7,120.6,121.7,120.8,120.8,121.4,121,120.6,121.5,120.8,120.5,121.2,120.9,59.9,60.1,60,14.5,8.9,13.9,9.1,-1.7,-0.9,-1.5,-1.1000000000000001,-0.1,-0.8,-1.7,-1.4,-1.5,-1.1000000000000001,-0.1,-0.8,-0.8,0.1,-0.1,0,0.6,0,-0.2,0.3,-0.1,0,0.7,0.1,120.9,122.4,121.1,120.6,121.5,121.1,120.7,122,120.9,120.5,121.3,120.9,59.8,60.1,60,11.9,16.7,14.9,14.2,19,15.2,11.2,14.7,13.4,8.9,15.4,9.6999999999999993,1.1000000000000001,2,1.7,1.7,2.2000000000000002,1.8,1.5,1.8,1.6,1.1000000000000001,1.4,1.1000000000000001,-0.3,0.9,0,-0.4,0.2,0,-0.4,0.2,0,-0.4,0,0,6,2,2,2,2,1,180,14,"05:00:00",0,0,0,0,0,0,0,0,0,0,0,0,0,0,0,0,0,0,0,0,0,30,48,3.4,1.5,0,0,"2023-10-20T00:56:32",36,37,38,37,45,44,45,44,27.1,76.5,100,1.1000000000000001,53,53.1,53,53.8,42.4,45.3,44.4,120,120,120,120,120,120,120,120,120,119.9,120,119.9,59,59,59,4.8,4.2,6.5,3.9,0.6,0.6,0.6,0.4,0.5,0.4,0.8,0.8,0.8,0.4,0.5,0.4,0,0,0,-0.1,-0.1,-0.1,0,0,0,0,0,0,0.1,0.3,0.1,0.4,0.6,0.4,0.1,0.4,0.2,0.6,0.9,0.7,0,0,0,0.3,0.4,0.3,0.3,0.4,0.3,0.2,0.3,0.3,0.5,0.5,0.5,0,0,0,0,0,0,0,0,0,0,0,0,0,0,0,0,0,0,0,0,0,0,0,0,1,1,1,2,3,1,178.6,13.6,"00:00:00",295,0,0,0,0,0,0,0,0,0,0,0,0,0,0,0,0,0,0,0,0,30,48,2.2999999999999998,2.2000000000000002,0,0]
["2023-10-18T14:38:45",44,42,44,41,45,43,44,43,29.3,52.8,100,50,53.2,53.4,53.2,57.2,-91.2,-55.8,-65.3,120.1,121,120.6,120.9,121.5,121.3,120.1,120.9,120.6,120.9,121.5,121.3,60,60.2,60,15.4,8.9,15.5,8.6999999999999993,-1.9,-1.3,-1.5,-1,0,-0.2,-1.9,-1.4,-1.5,-1,0,-0.2,-0.2,0,-0.1,-0.1,0.5,0.3,-0.1,0.2,0,0.1,0.6,0.4,120.5,121.3,121,120.9,121.9,121.2,120.3,121.2,120.8,120.7,121.6,121,60,60.2,60,13.4,17.8,14.9,9.8000000000000007,16.3,14.6,12.1,15.9,13.5,6.4,10.3,9.1,1.6,2.1,1.8,1.3,2,1.7,1.5,1.9,1.6,0.8,1.2,1.1000000000000001,-0.2,0.1,0,-0.1,0.1,0,-0.2,0,0,-0.1,0,0,6,2,2,2,2,1,180,14,"05:00:00",0,0,0,0,0,0,0,0,0,0,0,0,0,0,0,0,0,0,0,0,0,30,48,3.4,2.6,0,0,"2023-10-20T00:57:33",36,37,38,37,45,44,45,44,27.1,76.5,100,1.1000000000000001,53,53.1,53,53.8,42.4,43.6,42.9,120,120,120,120,120,120,120,120,120,119.9,120,119.9,59,59,59,4.8,3.8,6.5,3.5,0.6,0.6,0.6,0.4,0.4,0.4,0.8,0.8,0.8,0.4,0.4,0.4,0,0,0,-0.1,-0.1,-0.1,0,0,0,0,0,0,0.1,0.2,0.1,0.4,0.6,0.4,0.1,0.3,0.1,0.6,0.9,0.7,0,0,0,0.3,0.4,0.3,0.3,0.4,0.3,0.2,0.3,0.3,0.5,0.5,0.5,0,0,0,0,0,0,0,0,0,0,0,0,0,0,0,0,0,0,0,0,0,0,0,0,1,1,1,2,3,1,178.6,13.6,"00:00:00",296,0,0,0,0,0,0,0,0,0,0,0,0,0,0,0,0,0,0,0,0,30,48,2.2000000000000002,2.2000000000000002,0,0]
["2023-10-18T14:39:46",44,42,44,41,45,43,44,43,29.3,52.9,100,50,53.3,53.4,53.3,57.2,-95.2,-90,-92.7,120.8,121,120.9,120.9,121.1,120.9,120.8,120.9,120.8,120.9,121,120.9,59.9,60,60,13.8,9.3000000000000007,14,9.1999999999999993,-1.7,-1.4,-1.5,-1.1000000000000001,-0.9,-1,-1.7,-1.4,-1.5,-1.1000000000000001,-0.9,-1,-0.2,-0.1,-0.2,-0.1,0,0,-0.1,0,-0.1,0.1,0.1,0.1,120.9,121.4,121.1,120.8,121.4,121.1,120.8,121.1,120.9,120.6,121.3,120.8,60,60,60,13.4,16.100000000000001,14.9,13.8,16,15,12,14.5,13.3,9.1999999999999993,10.5,9.8000000000000007,1.6,1.9,1.8,1.7,1.9,1.8,1.5,1.7,1.6,1.1000000000000001,1.2,1.1000000000000001,0,0.1,0,0,0,0,-0.1,0.1,0,-0.1,0,0,6,2,2,2,2,1,180,14,"05:00:00",0,0,0,0,0,0,0,0,0,0,0,0,0,0,0,0,0,0,0,0,0,30,48,1.5,1.3,0,0,"2023-10-20T00:58:34",36,37,38,37,45,44,45,44,27.1,76.400000000000006,100,1.1000000000000001,53,53.1,53,53.8,42.9,43.9,43.2,120,120,120,120,120,120,120,120,120,119.9,120,119.9,59,59,59,4.8,4,6.4,3.7,0.6,0.6,0.6,0.4,0.5,0.4,0.8,0.8,0.8,0.4,0.4,0.4,0,0,0,-0.1,-0.1,-0.1,0,0,0,0,0,0,0.1,0.2,0.1,0.4,0.6,0.4,0,0.3,0.1,0.6,0.9,0.7,0,0,0,0.3,0.4,0.3,0.3,0.4,0.3,0.3,0.3,0.3,0.5,0.5,0.5,0,0,0,0,0,0,0,0,0,0,0,0,0,0,0,0,0,0,0,0,0,0,0,0,1,1,1,2,3,1,178.6,13.6,"00:00:00",297,0,0,0,0,0,0,0,0,0,0,0,0,0,0,0,0,0,0,0,0,30,48,2.2000000000000002,2.2000000000000002,0,0]
["2023-10-18T14:40:47",44,42,44,41,45,43,44,43,29.3,53.1,100,50,53.3,53.5,53.4,57.2,-95.9,-90.2,-92.5,120.8,121,120.8,120.9,121,120.9,120.8,120.9,120.8,120.9,121,120.9,60,60.1,60,14,9.4,14,9.1,-1.7,-1.4,-1.5,-1.1000000000000001,-0.9,-1,-1.7,-1.4,-1.5,-1.1000000000000001,-0.9,-0.9,-0.2,-0.1,-0.2,0,0,0,-0.1,0,-0.1,0.1,0.1,0.1,120.9,121.3,121.1,120.9,121.4,121.1,120.7,121.2,120.8,120.6,121.3,120.9,60,60.1,60,13.7,16.100000000000001,15,14.1,15.9,14.9,12.2,14.6,13.4,9.1,10.4,9.6999999999999993,1.7,1.9,1.8,1.7,1.9,1.8,1.4,1.8,1.6,1.1000000000000001,1.3,1.1000000000000001,-0.1,0.1,0,-0.1,0.1,0,-0.1,0,0,-0.1,0,0,6,2,2,2,2,1,180,14,"05:00:00",0,0,0,0,0,0,0,0,0,0,0,0,0,0,0,0,0,0,0,0,0,30,48,1.7,1.3,0,0,"2023-10-20T00:59:35",36,37,38,37,45,44,45,44,27.1,76.3,100,1.1000000000000001,53,53.1,53,53.8,43.6,44,43.7,120,120,120,120,120,120,120,120,120,120,120,120,59,59,59,4.8,4,6.5,3.6,0.6,0.6,0.6,0.5,0.5,0.5,0.8,0.8,0.8,0.4,0.4,0.4,0,0,0,-0.1,-0.1,-0.1,0,0,0,0,0,0,0.1,0.2,0.1,0.3,0.6,0.4,0.1,0.3,0.1,0.6,0.9,0.7,0,0,0,0.3,0.4,0.3,0.3,0.4,0.3,0.3,0.3,0.3,0.5,0.6,0.5,0,0,0,0,0,0,0,0,0,0,0,0,0,0,0,0,0,0,0,0,0,0,0,0,1,1,1,2,3,1,178.6,13.6,"00:00:00",298,0,0,0,0,0,0,0,0,0,0,0,0,0,0,0,0,0,0,0,0,30,48,2.2000000000000002,2.2000000000000002,0,0]
["2023-10-18T14:41:47",44,42,44,41,45,43,45,43,29.3,53.2,100,50,53.4,53.5,53.4,57.2,-95.5,-89,-92,120.8,121,120.8,120.9,121,120.9,120.7,120.9,120.8,120.9,121,120.9,60,60.1,60,14.2,9.1,14.2,9,-1.7,-1.4,-1.5,-1.1000000000000001,-0.9,-0.9,-1.7,-1.4,-1.5,-1.1000000000000001,-0.9,-0.9,-0.2,-0.1,-0.2,0,0,0,-0.1,-0.1,-0.1,0,0.1,0.1,120.9,121.4,121.1,120.8,121.5,121.1,120.7,121.1,120.8,120.6,121.3,120.8,60,60.1,60,13.4,16.399999999999999,14.9,13.8,16,15,11.9,14.7,13.5,8.9,10.4,9.6999999999999993,1.6,2,1.8,1.7,1.9,1.8,1.5,1.8,1.6,1.1000000000000001,1.3,1.1000000000000001,0,0.1,0,-0.1,0.1,0,0,0.1,0,-0.1,0,0,6,2,2,2,2,1,180,14,"05:00:00",0,0,0,0,0,0,0,0,0,0,0,0,0,0,0,0,0,0,0,0,0,30,48,1.6,1.3,0,0,"2023-10-20T01:00:36",36,37,38,37,45,44,45,44,27.1,76.3,100,1.1000000000000001,53,53.1,53,53.8,41.2,45.5,44.4,120,120.1,120,120,120,120,120,120.1,120,120,120,120,59,59,59,4.9000000000000004,4.2,6.5,3.9,0.5,0.6,0.6,0.5,0.5,0.5,0.7,0.8,0.8,0.4,0.5,0.4,-0.1,0,0,-0.1,-0.1,-0.1,-0.1,0,0,0,0,0,0.1,0.3,0.1,0.3,0.6,0.4,0.1,0.3,0.1,0.6,0.9,0.7,0,0,0,0.3,0.4,0.3,0.3,0.4,0.3,0.3,0.3,0.3,0.5,0.6,0.5,0,0,0,0,0,0,0,0,0,0,0,0,0,0,0,0,0,0,0,0,0,0,0,0,1,1,1,2,3,1,178.6,13.6,"00:00:00",298,0,0,0,0,0,0,0,0,0,0,0,0,0,0,0,0,0,0,0,0,30,48,2.2999999999999998,2.2000000000000002,0,0]
["2023-10-18T14:42:48",44,42,44,41,45,43,45,44,29.3,53.3,100,50,53.4,53.5,53.4,57.2,-96.4,-88.8,-92.2,120.8,121,120.8,120.9,121.1,120.9,120.7,120.9,120.8,120.8,121,120.9,60,60.1,60,14.3,9.3000000000000007,14.2,9.3000000000000007,-1.7,-1.3,-1.5,-1.1000000000000001,-0.9,-0.9,-1.7,-1.4,-1.5,-1.1000000000000001,-0.9,-0.9,-0.2,-0.1,-0.1,0,0,0,-0.1,0,-0.1,0,0.1,0,120.9,121.3,121.1,120.8,121.5,121.1,120.7,121.1,120.8,120.6,121.4,120.9,60,60.1,60,13.3,16.3,14.9,13.8,15.8,14.9,11.7,14.7,13.5,9,10.3,9.6,1.6,2,1.8,1.7,1.9,1.8,1.5,1.7,1.6,1.1000000000000001,1.3,1.1000000000000001,-0.1,0.1,0,0,0,0,-0.1,0,0,-0.1,0,0,6,2,2,2,2,1,180,14,"05:00:00",0,0,0,0,0,0,0,0,0,0,0,0,0,0,0,0,0,0,0,0,0,30,48,1.6,1.3,0,0,"2023-10-20T01:01:36",36,37,38,37,45,44,45,44,27.1,76.2,100,1.1000000000000001,53,53.1,53,53.8,38.9,41.1,40.299999999999997,120,120,120,120,120,120,120,120,120,119.9,120,119.9,59,59,59,4.4000000000000004,3.9,5.9,3.6,0.5,0.5,0.5,0.4,0.5,0.4,0.7,0.7,0.7,0.4,0.4,0.4,-0.1,-0.1,-0.1,-0.1,-0.1,-0.1,-0.1,-0.1,-0.1,0,0,0,0.1,0.3,0.1,0.3,0.5,0.4,0,0.3,0.1,0.6,0.9,0.7,0,0,0,0.3,0.4,0.3,0.3,0.4,0.3,0.3,0.3,0.3,0.5,0.6,0.5,0,0,0,0,0,0,0,0,0,0,0,0,0,0,0,0,0,0,0,0,0,0,0,0,1,1,1,2,3,1,178.6,13.6,"00:00:00",299,0,0,0,0,0,0,0,0,0,0,0,0,0,0,0,0,0,0,0,0,30,48,2.1,2,0,0]
["2023-10-18T14:43:51",44,42,44,41,45,43,45,44,29.3,53.5,100,50,53.4,53.5,53.4,57.2,-96.6,-91.5,-93.8,120.7,120.9,120.8,120.9,121,120.9,120.7,120.9,120.7,120.8,121,120.9,60,60.1,60,14.1,9.4,14.1,9.4,-1.7,-1.3,-1.5,-1.1000000000000001,-0.9,-1,-1.7,-1.3,-1.5,-1.1000000000000001,-0.9,-1,-0.2,-0.1,-0.2,0,0,0,-0.1,-0.1,-0.1,0.1,0.1,0.1,120.9,121.4,121.1,120.9,121.5,121.1,120.7,121.1,120.9,120.6,121.3,120.9,60,60.1,60,13.2,16.3,15,13.7,16.100000000000001,15,11.9,14.5,13.5,8.9,10.5,9.6999999999999993,1.6,2,1.8,1.7,1.9,1.8,1.4,1.8,1.6,1.1000000000000001,1.3,1.1000000000000001,0,0.1,0,-0.1,0.1,0,0,0,0,-0.1,0,0,6,2,2,2,2,1,180,14,"05:00:00",0,0,0,0,0,0,0,0,0,0,0,0,0,0,0,0,0,0,0,0,0,30,48,1.5,1.2,0,0,"2023-10-20T01:02:37",36,37,38,37,45,44,45,44,27.1,76.099999999999994,100,1.1000000000000001,53,53.1,53,53.8,38,40.299999999999997,38.9,120,120,120,120,120,120,120,120,120,119.9,120,119.9,59,59,59,4.3,3.9,5.6,3.6,0.5,0.5,0.5,0.4,0.5,0.4,0.7,0.7,0.7,0.4,0.4,0.4,-0.1,-0.1,-0.1,-0.1,-0.1,-0.1,-0.1,-0.1,-0.1,0,0,0,0.1,0.2,0.1,0.4,0.6,0.4,0.1,0.3,0.1,0.6,0.9,0.7,0,0,0,0.3,0.4,0.3,0.3,0.4,0.3,0.3,0.3,0.3,0.5,0.5,0.5,0,0,0,0,0,0,0,0,0,0,0,0,0,0,0,0,0,0,0,0,0,0,0,0,1,1,1,2,3,1,178.5,13.5,"00:00:00",300,0,0,0,0,0,0,0,0,0,0,0,0,0,0,0,0,0,0,0,0,30,48,2.1,1.9,0,0]
["2023-10-18T14:44:52",44,42,44,41,45,43,45,44,29.4,53.6,100,50,53.4,53.5,53.4,57.2,-94.5,-87.9,-91,120.8,121,120.8,120.9,121,120.9,120.7,120.9,120.8,120.8,121,120.9,60,60.1,60,14.1,9,14.2,9.1,-1.7,-1.4,-1.5,-1.1000000000000001,-0.8,-0.9,-1.7,-1.4,-1.5,-1.1000000000000001,-0.9,-0.9,-0.2,-0.1,-0.2,0,0,0,-0.1,0,-0.1,0,0.1,0.1,120.9,121.4,121.1,120.8,121.4,121.1,120.7,121.1,120.9,120.5,121.3,120.9,60,60.1,60,13.5,16.3,14.9,14,16,15,12,14.7,13.4,9.1,10.3,9.6,1.6,2,1.8,1.7,1.9,1.8,1.4,1.8,1.6,1.1000000000000001,1.2,1.1000000000000001,0,0.1,0,0,0.1,0,-0.1,0.1,0,-0.1,0,0,6,2,2,2,2,1,180,14,"05:00:00",0,0,0,0,0,0,0,0,0,0,0,0,0,0,0,0,0,0,0,0,0,30,48,1.7,1.3,0,0,"2023-10-20T01:03:38",36,37,38,37,45,44,45,44,27.1,76.099999999999994,100,1.1000000000000001,53,53.1,53,53.8,38,40,39.299999999999997,120,120,120,120,120,120,120,120,120,119.9,120,119.9,59,59,59,4.4000000000000004,3.8,5.8,3.4,0.5,0.5,0.5,0.4,0.4,0.4,0.7,0.7,0.7,0.4,0.4,0.4,-0.1,-0.1,-0.1,-0.1,-0.1,-0.1,-0.1,-0.1,-0.1,0,0,0,0.1,0.2,0.1,0.3,0.5,0.4,0.1,0.3,0.1,0.6,0.9,0.6,0,0,0,0.3,0.4,0.3,0.3,0.4,0.3,0.3,0.3,0.3,0.5,0.5,0.5,0,0,0,0,0,0,0,0,0,0,0,0,0,0,0,0,0,0,0,0,0,0,0,0,1,1,1,2,3,1,178.5,13.5,"00:00:00",300,0,0,0,0,0,0,0,0,0,0,0,0,0,0,0,0,0,0,0,0,30,48,2,1.9,0,0]
["2023-10-18T14:45:53",44,42,44,41,45,43,45,44,29.3,53.8,100,50,53.4,53.5,53.4,57.2,-93.1,-87.8,-90.7,120.7,120.9,120.8,120.9,121,120.9,120.7,120.9,120.8,120.8,121,120.9,60,60.1,60,13.8,8.8000000000000007,14,8.9,-1.7,-1.3,-1.5,-1.1000000000000001,-0.9,-0.9,-1.7,-1.4,-1.5,-1.1000000000000001,-0.8,-0.9,-0.2,-0.1,-0.2,0,0,0,-0.1,0,-0.1,0.1,0.1,0.1,121,121.4,121.1,120.8,121.4,121.1,120.7,121.1,120.9,120.6,121.3,120.9,60,60.1,60,13.4,16.100000000000001,15,13.7,15.7,14.9,12.2,14.6,13.4,9,10.199999999999999,9.6,1.6,1.9,1.8,1.7,1.9,1.8,1.5,1.7,1.6,1.1000000000000001,1.2,1.1000000000000001,-0.1,0.1,0,-0.1,0.1,0,-0.1,0,0,-0.1,0,0,6,2,2,2,2,1,180,14,"05:00:00",0,0,0,0,0,0,0,0,0,0,0,0,0,0,0,0,0,0,0,0,0,30,48,1.8,1.4,0,0,"2023-10-20T01:04:41",36,37,38,37,45,44,45,44,27.1,76,100,1.1000000000000001,53,53.1,53,53.8,39.200000000000003,40.799999999999997,40.1,120,120,120,120,120,120,120,120,120,119.9,120,119.9,59,59,59,4.3,3.9,5.7,3.6,0.5,0.5,0.5,0.4,0.5,0.4,0.7,0.7,0.7,0.4,0.4,0.4,-0.1,-0.1,-0.1,-0.1,-0.1,-0.1,-0.1,-0.1,-0.1,0,0,0,0.1,0.3,0.1,0.3,0.6,0.4,0.1,0.3,0.2,0.6,0.9,0.7,0,0,0,0.3,0.4,0.3,0.3,0.4,0.3,0.2,0.3,0.3,0.5,0.5,0.5,0,0,0,0,0,0,0,0,0,0,0,0,0,0,0,0,0,0,0,0,0,0,0,0,1,1,1,2,3,1,178.5,13.5,"00:00:00",301,0,0,0,0,0,0,0,0,0,0,0,0,0,0,0,0,0,0,0,0,30,48,2.1,2,0,0]
["2023-10-18T14:46:54",44,42,44,41,45,43,45,44,29.4,53.9,100,50,53.4,53.5,53.4,57.2,-93.9,-86.8,-90,120.8,120.9,120.8,120.9,121,120.9,120.7,120.9,120.8,120.8,121,120.9,60,60.1,60,14.1,8.9,13.8,8.8000000000000007,-1.7,-1.3,-1.5,-1.1000000000000001,-0.8,-0.9,-1.7,-1.3,-1.5,-1.1000000000000001,-0.8,-0.9,-0.2,-0.1,-0.2,0,0,0,-0.1,0,-0.1,0,0.1,0.1,120.9,121.3,121.1,120.8,121.5,121.1,120.7,121.1,120.8,120.6,121.3,120.9,60,60.1,60,13.2,16.3,15,14,16,14.9,12.1,14.6,13.4,8.9,10.3,9.6,1.6,2,1.8,1.7,1.9,1.8,1.4,1.8,1.6,1.1000000000000001,1.2,1.1000000000000001,0,0.1,0,-0.1,0,0,-0.1,0,0,-0.1,0,0,6,2,2,2,2,1,180,14,"05:00:00",0,0,0,0,0,0,0,0,0,0,0,0,0,0,0,0,0,0,0,0,0,30,48,1.6,1.4,0,0,"2023-10-20T01:05:42",36,37,38,37,45,44,45,44,27.1,75.900000000000006,100,1.1000000000000001,53,53.1,53,53.8,40.700000000000003,42.6,41.7,120,120,120,120,120,120,120,120,120,119.9,120,119.9,59,59,59,4.4000000000000004,4.2,5.8,3.9,0.5,0.5,0.5,0.5,0.5,0.5,0.7,0.7,0.7,0.4,0.5,0.4,-0.1,-0.1,-0.1,-0.1,-0.1,-0.1,-0.1,-0.1,-0.1,0,0,0,0.1,0.3,0.1,0.4,0.6,0.4,0.1,0.3,0.2,0.6,0.9,0.6,0,0,0,0.3,0.4,0.3,0.3,0.4,0.3,0.2,0.3,0.3,0.5,0.5,0.5,0,0,0,0,0,0,0,0,0,0,0,0,0,0,0,0,0,0,0,0,0,0,0,0,1,1,1,2,3,1,178.5,13.5,"00:00:00",302,0,0,0,0,0,0,0,0,0,0,0,0,0,0,0,0,0,0,0,0,30,48,2.2000000000000002,2.1,0,0]
["2023-10-18T14:47:55",44,42,44,41,45,43,45,44,29.4,54.1,100,50,53.4,53.5,53.4,57.2,-96.6,-90.1,-93.3,120.8,120.9,120.8,120.9,121,120.9,120.7,120.9,120.8,120.8,121,120.9,60,60.1,60,14.2,9.3000000000000007,14.1,9.4,-1.7,-1.4,-1.5,-1.1000000000000001,-0.9,-1,-1.7,-1.4,-1.5,-1.1000000000000001,-0.9,-1,-0.2,-0.1,-0.2,0,0,0,-0.1,0,-0.1,0.1,0.1,0.1,120.9,121.3,121.1,120.8,121.5,121.1,120.7,121.1,120.8,120.5,121.3,120.9,60,60.1,60,13.7,16.399999999999999,14.9,14,16,14.9,11.9,14.7,13.4,9,10.3,9.6,1.7,2,1.8,1.7,1.9,1.8,1.5,1.8,1.6,1.1000000000000001,1.2,1.1000000000000001,0,0.1,0,0,0,0,-0.1,0,0,-0.1,0,0,6,2,2,2,2,1,180,14,"05:00:00",0,0,0,0,0,0,0,0,0,0,0,0,0,0,0,0,0,0,0,0,0,30,48,1.5,1.2,0,0,"2023-10-20T01:06:43",36,37,38,37,45,44,45,44,27.1,75.900000000000006,100,1.1000000000000001,53,53.1,53,53.8,40.799999999999997,42.1,41.4,120,120,120,120,120,120,120,120,120,119.9,120,119.9,59,59,59,4.5,4.2,5.8,3.8,0.5,0.5,0.5,0.5,0.5,0.5,0.7,0.7,0.7,0.4,0.5,0.4,-0.1,-0.1,-0.1,-0.1,-0.1,-0.1,-0.1,-0.1,-0.1,0,0,0,0.1,0.2,0.1,0.4,0.7,0.4,0,0.3,0.1,0.5,0.9,0.6,0,0,0,0.3,0.4,0.3,0.3,0.4,0.3,0.3,0.3,0.3,0.5,0.5,0.5,0,0,0,0,0,0,0,0,0,0,0,0,0,0,0,0,0,0,0,0,0,0,0,0,1,1,1,2,3,1,178.5,13.5,"00:00:00",302,0,0,0,0,0,0,0,0,0,0,0,0,0,0,0,0,0,0,0,0,30,48,2.2000000000000002,2.1,0,0]
["2023-10-18T14:48:56",44,42,44,41,46,43,45,44,29.4,54.2,100,50,53.4,53.5,53.4,57.2,-96.2,-90.9,-93.7,120.7,120.9,120.8,120.9,121,120.9,120.7,120.9,120.8,120.8,121,120.9,60,60.1,60,14,9.3000000000000007,14,9.4,-1.7,-1.4,-1.5,-1.1000000000000001,-0.9,-1,-1.7,-1.4,-1.5,-1.1000000000000001,-0.9,-1,-0.2,-0.1,-0.2,0,0,0,-0.1,-0.1,-0.1,0.1,0.1,0.1,120.9,121.3,121.1,120.9,121.5,121.1,120.8,121.1,120.9,120.6,121.3,120.9,60,60.1,60,13.4,16.100000000000001,14.9,14,16,15,12.1,14.4,13.4,8.9,10.199999999999999,9.6,1.6,1.9,1.7,1.7,1.9,1.8,1.5,1.8,1.6,1.1000000000000001,1.2,1.1000000000000001,0,0,0,0,0.1,0,0,0,0,-0.1,0,0,6,2,2,2,2,1,180,14,"05:00:00",0,0,0,0,0,0,0,0,0,0,0,0,0,0,0,0,0,0,0,0,0,30,48,1.5,1.2,0,0,"2023-10-20T01:07:44",36,37,38,37,45,44,45,44,27.1,75.8,100,1.1000000000000001,53,53.1,53,53.8,42.1,43.3,42.4,120,120,120,120,120,120,120,120,120,119.9,120,119.9,59,59,59,4.5,4.3,5.9,4,0.5,0.5,0.5,0.5,0.5,0.5,0.7,0.7,0.7,0.5,0.5,0.5,-0.1,-0.1,-0.1,-0.1,-0.1,-0.1,-0.1,-0.1,-0.1,0,0,0,0.1,0.3,0.1,0.4,0.6,0.4,0.1,0.3,0.1,0.6,0.9,0.6,0,0,0,0.3,0.4,0.3,0.3,0.4,0.3,0.2,0.3,0.3,0.5,0.5,0.5,0,0,0,0,0,0,0,0,0,0,0,0,0,0,0,0,0,0,0,0,0,0,0,0,1,1,1,2,3,1,178.5,13.5,"00:00:00",303,0,0,0,0,0,0,0,0,0,0,0,0,0,0,0,0,0,0,0,0,30,48,2.2000000000000002,2.1,0,0]
["2023-10-18T14:49:57",44,42,44,41,46,43,45,44,29.4,54.3,100,50,53.4,53.5,53.4,57.2,-94.3,-88.9,-91.5,120.7,120.9,120.8,120.9,121,120.9,120.7,120.9,120.7,120.8,121,120.9,60,60.1,60,14.3,8.9,14.1,8.6999999999999993,-1.7,-1.4,-1.5,-1.1000000000000001,-0.8,-0.9,-1.7,-1.4,-1.5,-1.1000000000000001,-0.9,-0.9,-0.2,-0.1,-0.2,0,0,0,-0.1,-0.1,-0.1,0.1,0.1,0.1,121,121.3,121.1,120.9,121.4,121.1,120.7,121.1,120.8,120.6,121.3,120.9,60,60.1,60,13.5,16.399999999999999,15,13.9,15.8,15,12.3,14.6,13.4,8.9,10.199999999999999,9.6,1.6,2,1.8,1.7,1.9,1.8,1.5,1.7,1.6,1.1000000000000001,1.2,1.1000000000000001,0,0.1,0,-0.1,0,0,-0.1,0,0,-0.1,0,0,6,2,2,2,2,1,180,14,"05:00:00",0,0,0,0,0,0,0,0,0,0,0,0,0,0,0,0,0,0,0,0,0,30,48,1.7,1.3,0,0,"2023-10-20T01:08:44",36,37,38,37,45,44,45,44,27.1,75.7,100,1.1000000000000001,53,53.1,53,53.8,40.799999999999997,42.2,41.3,120,120,120,120,120,120,120,120,120,119.9,120,119.9,59,59,59,4.4000000000000004,4.2,5.8,3.8,0.5,0.5,0.5,0.5,0.5,0.5,0.7,0.7,0.7,0.4,0.5,0.4,-0.1,-0.1,-0.1,-0.1,-0.1,-0.1,-0.1,-0.1,-0.1,0,0,0,0.1,0.3,0.1,0.4,0.6,0.4,0.1,0.3,0.1,0.5,0.7,0.6,0,0,0,0.3,0.4,0.3,0.3,0.4,0.3,0.3,0.3,0.3,0.5,0.5,0.5,0,0,0,0,0,0,0,0,0,0,0,0,0,0,0,0,0,0,0,0,0,0,0,0,1,1,1,2,3,1,178.5,13.5,"00:00:00",304,0,0,0,0,0,0,0,0,0,0,0,0,0,0,0,0,0,0,0,0,30,48,2.1,2.1,0,0]
["2023-10-18T14:50:58",44,42,44,41,46,43,45,44,29.3,54.5,100,50,53.4,53.5,53.4,57.2,-92.5,-87.1,-89.7,120.7,120.9,120.8,120.9,121,120.9,120.7,120.9,120.8,120.8,121,120.9,60,60.1,60,13.9,8.8000000000000007,13.7,8.8000000000000007,-1.7,-1.3,-1.5,-1.1000000000000001,-0.8,-0.9,-1.6,-1.4,-1.5,-1,-0.8,-0.9,-0.2,-0.1,-0.1,0,0,0,-0.1,0,-0.1,0,0.1,0.1,120.9,121.4,121.1,120.9,121.5,121.1,120.8,121.1,120.9,120.6,121.3,120.9,60,60.1,60,13.4,16.2,14.9,13.8,15.9,14.9,12.1,14.5,13.3,8.8000000000000007,10.199999999999999,9.5,1.6,2,1.7,1.7,1.9,1.8,1.5,1.7,1.6,1.1000000000000001,1.2,1.1000000000000001,0,0.1,0,-0.1,0,0,-0.1,0,0,-0.1,0,0,6,2,2,2,2,1,180,14,"05:00:00",0,0,0,0,0,0,0,0,0,0,0,0,0,0,0,0,0,0,0,0,0,30,48,1.7,1.4,0,0,"2023-10-20T01:09:45",36,37,38,37,45,44,45,44,27.1,75.7,100,1.1000000000000001,53,53.1,53,53.8,40,40.9,40.299999999999997,120,120,120,120,120,120,120,120,120,119.9,120,119.9,59,59,59,4.3,4.2,5.7,3.8,0.5,0.5,0.5,0.5,0.5,0.5,0.6,0.7,0.6,0.4,0.5,0.4,-0.1,-0.1,-0.1,-0.1,-0.1,-0.1,-0.1,-0.1,-0.1,0,0,0,0.1,0.3,0.1,0.3,0.6,0.4,0,0.3,0.1,0.5,0.8,0.6,0,0,0,0.3,0.4,0.3,0.3,0.4,0.3,0.3,0.3,0.3,0.5,0.5,0.5,0,0,0,0,0,0,0,0,0,0,0,0,0,0,0,0,0,0,0,0,0,0,0,0,1,1,1,2,3,1,178.5,13.5,"00:00:00",304,0,0,0,0,0,0,0,0,0,0,0,0,0,0,0,0,0,0,0,0,30,48,2.1,2,0,0]
["2023-10-18T14:51:58",44,42,45,41,46,43,45,44,29.3,54.6,100,50,53.4,53.5,53.5,57.2,-93.5,-88.8,-91.3,120.7,121,120.8,120.9,121,120.9,120.7,120.9,120.8,120.8,121,120.9,60,60.1,60,14.1,9.5,14.1,9.1999999999999993,-1.7,-1.3,-1.5,-1.1000000000000001,-0.9,-0.9,-1.7,-1.3,-1.5,-1.1000000000000001,-0.9,-0.9,-0.2,-0.1,-0.2,0,0,0,-0.1,-0.1,-0.1,0,0.1,0.1,121,121.3,121.1,120.8,121.5,121.1,120.8,121.1,120.9,120.6,121.3,120.9,60,60.1,60,13.3,16.5,14.9,13.8,16.2,14.9,11.7,14.5,13.3,8.8000000000000007,10.199999999999999,9.5,1.6,2,1.8,1.6,1.9,1.8,1.4,1.8,1.6,1.1000000000000001,1.2,1.1000000000000001,-0.1,0.1,0,0,0.1,0,-0.1,0,0,-0.1,0,0,6,2,2,2,2,1,180,14,"05:00:00",0,0,0,0,0,0,0,0,0,0,0,0,0,0,0,0,0,0,0,0,0,30,48,1.6,1.3,0,0,"2023-10-20T01:10:46",36,37,38,37,45,44,45,44,27.1,75.599999999999994,100,1.1000000000000001,53,53.1,53,53.8,39.799999999999997,41.5,40.5,120,120,120,120,120,120,120,120,120,119.9,120,119.9,59,59,59,4.4000000000000004,4,5.8,3.7,0.5,0.5,0.5,0.4,0.5,0.4,0.6,0.7,0.6,0.4,0.4,0.4,-0.1,-0.1,-0.1,-0.1,-0.1,-0.1,-0.1,-0.1,-0.1,0,0,0,0.1,0.3,0.1,0.4,0.6,0.4,0.1,0.3,0.1,0.6,0.9,0.6,0,0,0,0.3,0.4,0.3,0.3,0.4,0.3,0.3,0.3,0.3,0.5,0.5,0.5,0,0,0,0,0,0,0,0,0,0,0,0,0,0,0,0,0,0,0,0,0,0,0,0,1,1,1,2,3,1,178.5,13.5,"00:00:00",305,0,0,0,0,0,0,0,0,0,0,0,0,0,0,0,0,0,0,0,0,30,48,2.1,2,0,0]
["2023-10-18T14:52:59",44,42,45,41,46,43,45,44,29.3,54.8,100,50,53.4,53.5,53.5,57.2,-94.7,-89.6,-91.9,120.8,120.9,120.8,120.9,121.1,120.9,120.7,120.9,120.8,120.9,121,120.9,60,60.1,60,14,9,14.2,8.9,-1.7,-1.4,-1.5,-1.1000000000000001,-0.9,-0.9,-1.7,-1.4,-1.5,-1.1000000000000001,-0.9,-0.9,-0.2,-0.1,-0.2,0,0,0,-0.1,-0.1,-0.1,0.1,0.1,0.1,121,121.4,121.1,120.8,121.5,121.1,120.8,121.1,120.9,120.6,121.3,120.9,60,60.1,60,13.5,16.100000000000001,14.9,14.1,16,14.9,12.3,14.6,13.4,8.9,10.3,9.6,1.6,2,1.7,1.7,1.9,1.8,1.5,1.8,1.6,1.1000000000000001,1.2,1.1000000000000001,0,0.1,0,-0.1,0.1,0,-0.1,0,0,-0.1,0,0,6,2,2,2,2,1,180,14,"05:00:00",0,0,0,0,0,0,0,0,0,0,0,0,0,0,0,0,0,0,0,0,0,30,48,1.6,1.3,0,0,"2023-10-20T01:11:47",36,37,38,37,45,44,45,44,27.1,75.599999999999994,100,1.1000000000000001,53,53.1,53,53.8,39.799999999999997,41.2,40.299999999999997,120,120,120,120,120,120,120,120,120,119.9,120,119.9,59,59,59,4.5,3.9,5.9,3.5,0.5,0.5,0.5,0.4,0.5,0.4,0.7,0.7,0.7,0.4,0.4,0.4,-0.1,-0.1,-0.1,-0.1,-0.1,-0.1,-0.1,-0.1,-0.1,0,0,0,0.1,0.2,0.1,0.3,0.6,0.4,0,0.3,0.1,0.6,0.9,0.6,0,0,0,0.3,0.4,0.3,0.3,0.4,0.3,0.3,0.3,0.3,0.5,0.5,0.5,0,0,0,0,0,0,0,0,0,0,0,0,0,0,0,0,0,0,0,0,0,0,0,0,1,1,1,2,3,1,178.5,13.5,"00:00:00",306,0,0,0,0,0,0,0,0,0,0,0,0,0,0,0,0,0,0,0,0,30,48,2.1,2,0,0]
["2023-10-18T14:54:01",45,42,45,41,46,43,45,44,29.3,54.9,100,50,53.3,53.5,53.4,57.2,-93.5,-54.6,-72.5,120.5,121.7,120.7,120.7,121.5,121.1,120.5,121.6,120.7,120.7,121.5,121.2,59.9,60.1,60,14.4,8.6,14.3,8.6,-1.7,-1.1000000000000001,-1.5,-1,0,-0.4,-1.7,-1.2,-1.5,-1,0,-0.4,-0.6,0,-0.1,0,0.7,0.3,-0.5,0.1,0,0.1,0.7,0.3,120.9,122.4,121.1,120.4,121.6,121.1,120.7,122.2,120.9,120,121.4,120.9,59.9,60.1,60,12.7,16.600000000000001,15,14.2,21.1,15.3,11.3,15,13.5,8.4,12.6,9.5,1.3,2,1.8,1.7,2.2000000000000002,1.8,1.3,1.8,1.6,1,1.4,1.1000000000000001,-0.3,0.4,0,-0.3,0.2,0,-0.2,0,0,-0.3,0.1,0,6,2,2,2,2,1,180,14,"05:00:00",0,0,0,0,0,0,0,0,0,0,0,0,0,0,0,0,0,0,0,0,0,30,48,3.5,2.4,0,0,"2023-10-20T01:12:47",36,37,38,36,45,44,45,44,27.1,75.5,100,1.1000000000000001,53,53.1,53,53.8,40.799999999999997,42.3,41.5,120,120,120,120,120,120,120,120,120,119.9,120,119.9,59,59,59,4.4000000000000004,4.2,5.8,3.9,0.5,0.5,0.5,0.5,0.5,0.5,0.7,0.7,0.7,0.4,0.5,0.4,-0.1,-0.1,-0.1,-0.1,-0.1,-0.1,-0.1,-0.1,-0.1,0,0,0,0.1,0.3,0.1,0.4,0.6,0.4,0.1,0.3,0.1,0.6,0.9,0.7,0,0,0,0.3,0.4,0.3,0.3,0.4,0.3,0.3,0.3,0.3,0.5,0.6,0.5,0,0,0,0,0,0,0,0,0,0,0,0,0,0,0,0,0,0,0,0,0,0,0,0,1,1,1,2,3,1,178.5,13.5,"00:00:00",306,0,0,0,0,0,0,0,0,0,0,0,0,0,0,0,0,0,0,0,0,30,48,2.2000000000000002,2.1,0,0]
["2023-10-18T14:55:02",45,42,45,41,46,43,45,44,29.3,55,100,50,53.3,53.5,53.4,57.2,-91,-54.6,-81.2,120.1,120.9,120.7,120.9,121.6,121,120.1,120.9,120.7,120.9,121.6,121,60,60.2,60,16.3,8.1999999999999993,15.5,8.3000000000000007,-2,-1.3,-1.5,-1,0,-0.7,-1.9,-1.4,-1.5,-1,0,-0.7,-0.2,0,-0.1,0,0.5,0,-0.2,0.1,-0.1,0,0.6,0.1,120.5,121.3,121,120.9,121.8,121.2,120.3,121.1,120.8,120.7,121.6,121,60,60.2,60,13.2,18.7,14.9,10,15.9,14.5,11.8,16.600000000000001,13.3,6.3,10.1,9.3000000000000007,1.6,2.2000000000000002,1.7,1.2,1.9,1.7,1.4,1.9,1.6,0.8,1.2,1.1000000000000001,-0.2,0.1,0,-0.1,0.1,0,-0.2,0,0,-0.1,0,0,6,2,2,2,2,1,180,14,"05:00:00",0,0,0,0,0,0,0,0,0,0,0,0,0,0,0,0,0,0,0,0,0,30,48,3.3,1.7,0,0,"2023-10-20T01:13:48",36,37,38,37,45,44,45,44,27.1,75.400000000000006,100,1.1000000000000001,53,53.1,53,53.8,40.700000000000003,42.4,41.8,120,120,120,120,120,120,120,120,120,119.9,120,119.9,59,59,59,4.4000000000000004,4.2,5.8,3.9,0.5,0.5,0.5,0.5,0.5,0.5,0.7,0.7,0.7,0.4,0.5,0.4,-0.1,-0.1,-0.1,-0.1,-0.1,-0.1,-0.1,-0.1,-0.1,0,0,0,0.1,0.2,0.1,0.4,0.6,0.4,0.1,0.3,0.1,0.6,0.9,0.7,0,0,0,0.3,0.4,0.3,0.3,0.4,0.3,0.3,0.3,0.3,0.5,0.6,0.5,0,0,0,0,0,0,0,0,0,0,0,0,0,0,0,0,0,0,0,0,0,0,0,0,1,1,1,2,3,1,178.5,13.5,"00:00:00",307,0,0,0,0,0,0,0,0,0,0,0,0,0,0,0,0,0,0,0,0,30,48,2.2000000000000002,2.1,0,0]
["2023-10-18T14:56:03",45,42,45,41,46,43,45,44,29.3,55.2,100,50,53.4,53.5,53.5,57.2,-92.6,-88.6,-90.4,120.7,120.9,120.8,120.9,121,120.9,120.7,120.9,120.8,120.9,121.1,120.9,60,60.1,60,13.7,9,14,8.8000000000000007,-1.7,-1.4,-1.5,-1.1000000000000001,-0.9,-0.9,-1.7,-1.4,-1.5,-1.1000000000000001,-0.9,-0.9,-0.2,-0.1,-0.1,0,0,0,-0.1,-0.1,-0.1,0.1,0.1,0.1,120.9,121.4,121.1,120.8,121.5,121.1,120.7,121.1,120.9,120.6,121.4,120.9,60,60.1,60,13.7,16,14.9,13.9,15.9,14.9,12.1,14.4,13.4,8.9,10.3,9.6,1.7,1.9,1.8,1.7,1.9,1.8,1.5,1.7,1.6,1.1000000000000001,1.2,1.1000000000000001,0,0.1,0,0,0,0,0,0,0,-0.1,0,0,6,2,2,2,2,1,180,14,"05:00:00",0,0,0,0,0,0,0,0,0,0,0,0,0,0,0,0,0,0,0,0,0,30,48,1.8,1.4,0,0,"2023-10-20T01:14:50",36,37,38,37,45,44,45,44,27.1,75.400000000000006,100,1.1000000000000001,53,53.1,53,53.8,40.6,41.7,41,120,120,120,120,120,120,120,120,120,119.9,120,119.9,59,59,59,4.4000000000000004,4.0999999999999996,5.7,3.8,0.5,0.5,0.5,0.5,0.5,0.5,0.7,0.7,0.7,0.4,0.5,0.4,-0.1,-0.1,-0.1,-0.1,-0.1,-0.1,-0.1,-0.1,-0.1,0,0,0,0.1,0.3,0.1,0.3,0.6,0.4,0.1,0.3,0.1,0.6,0.9,0.6,0,0,0,0.3,0.4,0.3,0.3,0.4,0.3,0.3,0.3,0.3,0.5,0.5,0.5,0,0,0,0,0,0,0,0,0,0,0,0,0,0,0,0,0,0,0,0,0,0,0,0,1,1,1,2,3,1,178.5,13.5,"00:00:00",308,0,0,0,0,0,0,0,0,0,0,0,0,0,0,0,0,0,0,0,0,30,48,2.1,2.1,0,0]
["2023-10-18T14:57:04",45,42,45,41,46,43,45,44,29.3,55.3,100,50,53.4,53.5,53.5,57.2,-93,-88.3,-90.5,120.7,120.9,120.8,120.9,121,120.9,120.7,120.9,120.8,120.9,121,120.9,60,60.1,60,13.6,8.6999999999999993,13.8,8.6999999999999993,-1.6,-1.4,-1.5,-1.1000000000000001,-0.9,-0.9,-1.7,-1.4,-1.5,-1.1000000000000001,-0.9,-0.9,-0.2,-0.1,-0.2,0,0,0,-0.1,-0.1,-0.1,0,0.1,0.1,121,121.3,121.1,120.9,121.4,121.1,120.8,121.1,120.9,120.6,121.3,120.9,60,60.1,60,13.7,16,15,13.9,15.9,15,12,14.6,13.3,8.9,10.3,9.6,1.7,1.9,1.8,1.7,1.9,1.8,1.4,1.7,1.6,1.1000000000000001,1.2,1.1000000000000001,0,0.1,0,-0.1,0.1,0,-0.1,0.1,0,-0.1,0,0,6,2,2,2,2,1,180,14,"05:00:00",0,0,0,0,0,0,0,0,0,0,0,0,0,0,0,0,0,0,0,0,0,30,48,1.7,1.4,0,0,"2023-10-20T01:15:51",36,37,38,36,45,44,45,44,27.1,75.3,100,1.1000000000000001,53,53.1,53,53.8,41.1,42.1,41.6,120,120,120,120,120,120,120,120,120,119.9,120,119.9,59,59,59,4.4000000000000004,4.2,5.8,3.8,0.5,0.5,0.5,0.5,0.5,0.5,0.7,0.7,0.7,0.4,0.5,0.4,-0.1,-0.1,-0.1,-0.1,-0.1,-0.1,-0.1,-0.1,-0.1,0,0,0,0.1,0.2,0.1,0.4,0.6,0.4,0.1,0.3,0.2,0.6,0.9,0.7,0,0,0,0.3,0.4,0.3,0.3,0.4,0.3,0.2,0.3,0.3,0.5,0.6,0.5,0,0,0,0,0,0,0,0,0,0,0,0,0,0,0,0,0,0,0,0,0,0,0,0,1,1,1,2,3,1,178.5,13.5,"00:00:00",309,0,0,0,0,0,0,0,0,0,0,0,0,0,0,0,0,0,0,0,0,30,48,2.1,2.1,0,0]
["2023-10-18T14:58:05",45,42,45,41,46,43,46,44,29.3,55.4,100,50,53.5,53.6,53.5,57.2,-93.1,-87.8,-89.9,120.7,120.9,120.8,120.9,121,120.9,120.7,120.9,120.8,120.9,121,120.9,60,60.1,60,14.2,8.4,14.3,8.6,-1.7,-1.4,-1.5,-1,-0.8,-0.9,-1.7,-1.4,-1.5,-1,-0.8,-0.9,-0.2,-0.1,-0.1,0,0,0,-0.1,-0.1,-0.1,0.1,0.1,0.1,121,121.4,121.1,120.8,121.5,121.1,120.8,121.2,120.9,120.6,121.3,120.9,60,60.1,60,13.4,16.3,14.9,14,16,15,12.2,14.9,13.5,9,10.3,9.6,1.6,2,1.8,1.7,1.9,1.8,1.5,1.7,1.6,1.1000000000000001,1.2,1.1000000000000001,0,0.1,0,-0.1,0.1,0,-0.1,0,0,-0.1,0,0,6,2,2,2,2,1,180,14,"05:00:00",0,0,0,0,0,0,0,0,0,0,0,0,0,0,0,0,0,0,0,0,0,30,48,1.8,1.4,0,0,"2023-10-20T01:16:52",36,37,38,36,45,44,45,44,27.1,75.2,100,1.1000000000000001,53,53.1,53,53.8,39.9,41.4,40.5,120,120,120,120,120,120,120,120,120,119.9,120,119.9,59,59,59,4.4000000000000004,4,5.8,3.7,0.5,0.5,0.5,0.4,0.5,0.4,0.7,0.7,0.7,0.4,0.4,0.4,-0.1,-0.1,-0.1,-0.1,-0.1,-0.1,-0.1,-0.1,-0.1,0,0,0,0.1,0.3,0.1,0.4,0.6,0.4,0.1,0.3,0.2,0.6,0.9,0.7,0,0,0,0.3,0.4,0.3,0.3,0.4,0.3,0.3,0.3,0.3,0.5,0.6,0.5,0,0,0,0,0,0,0,0,0,0,0,0,0,0,0,0,0,0,0,0,0,0,0,0,1,1,1,2,3,1,178.5,13.5,"00:00:00",309,0,0,0,0,0,0,0,0,0,0,0,0,0,0,0,0,0,0,0,0,30,48,2.1,2,0,0]
["2023-10-18T14:59:06",45,42,45,41,46,43,46,44,29.2,55.6,100,50,53.4,53.6,53.5,57.2,-90.7,-85.4,-88.1,120.7,120.9,120.8,120.9,121,120.9,120.7,120.9,120.7,120.9,121,120.9,60,60.1,60,14.2,8.1999999999999993,14.2,8.1999999999999993,-1.7,-1.4,-1.5,-1,-0.8,-0.8,-1.7,-1.4,-1.5,-1,-0.8,-0.8,-0.2,-0.1,-0.1,-0.1,0,0,-0.1,0,-0.1,0,0.1,0,120.9,121.4,121.1,120.9,121.4,121.1,120.7,121.1,120.9,120.6,121.3,120.9,60,60.1,60,13.4,16.399999999999999,15,14,16,15,12.2,14.8,13.5,8.8000000000000007,10.1,9.5,1.6,2,1.8,1.7,1.9,1.8,1.5,1.8,1.6,1.1000000000000001,1.2,1.1000000000000001,-0.1,0.1,0,-0.1,0.1,0,-0.1,0.1,0,-0.1,0,0,6,2,2,2,2,1,180,14,"05:00:00",0,0,0,0,0,0,0,0,0,0,0,0,0,0,0,0,0,0,0,0,0,30,48,1.8,1.5,0,0,"2023-10-20T01:17:52",36,37,38,36,45,44,45,44,27.1,75.2,100,1.1000000000000001,53,53.1,53,53.8,39.799999999999997,41.7,40.4,120,120,120,120,120,120,120,120,120,119.9,120,119.9,59,59,59,4.3,4.0999999999999996,5.7,3.8,0.5,0.5,0.5,0.5,0.5,0.5,0.7,0.7,0.7,0.4,0.5,0.4,-0.1,-0.1,-0.1,-0.1,-0.1,-0.1,-0.1,-0.1,-0.1,0,0,0,0.1,0.2,0.1,0.4,0.6,0.4,0.1,0.3,0.1,0.6,0.9,0.6,0,0,0,0.3,0.4,0.3,0.3,0.4,0.3,0.3,0.3,0.3,0.5,0.5,0.5,0,0,0,0,0,0,0,0,0,0,0,0,0,0,0,0,0,0,0,0,0,0,0,0,1,1,1,2,3,1,178.5,13.5,"00:00:00",310,0,0,0,0,0,0,0,0,0,0,0,0,0,0,0,0,0,0,0,0,30,48,2.1,2,0,0]
["2023-10-18T15:00:07",45,42,45,41,46,43,46,44,29.2,55.7,100,50,53.4,53.6,53.5,57.2,-95.1,-86.3,-90.2,120.7,120.9,120.7,120.9,121,120.9,120.7,120.9,120.7,120.9,121,120.9,60,60.1,60,14.1,9.1999999999999993,14,9.1999999999999993,-1.7,-1.4,-1.5,-1.1000000000000001,-0.8,-0.9,-1.7,-1.4,-1.5,-1.1000000000000001,-0.8,-0.9,-0.2,-0.1,-0.2,0,0,0,-0.1,-0.1,-0.1,0,0.1,0.1,121,121.3,121.1,120.8,121.5,121.1,120.8,121.1,120.9,120.6,121.3,120.9,60,60.1,60,13.5,16.3,14.9,14,15.9,14.9,12.1,14.7,13.4,8.9,10.199999999999999,9.6,1.6,2,1.8,1.7,1.9,1.8,1.5,1.8,1.6,1.1000000000000001,1.2,1.1000000000000001,0,0.1,0,-0.1,0.1,0,-0.1,0,0,-0.1,0,0,6,2,2,2,2,1,180,14,"05:00:00",0,0,0,0,0,0,0,0,0,0,0,0,0,0,0,0,0,0,0,0,0,30,48,1.7,1.4,0,0,"2023-10-20T01:18:53",36,37,38,36,45,44,45,44,27.1,75.099999999999994,100,1.1000000000000001,53,53.1,53,53.8,41.3,42.6,42,120,120,120,120,120,120,120,120,120,119.9,120,119.9,59,59,59,4.4000000000000004,4.3,5.8,3.9,0.5,0.5,0.5,0.5,0.5,0.5,0.7,0.7,0.7,0.4,0.5,0.4,-0.1,-0.1,-0.1,-0.1,-0.1,-0.1,-0.1,-0.1,-0.1,0,0,0,0.1,0.3,0.1,0.4,0.6,0.4,0.1,0.3,0.1,0.6,0.9,0.6,0,0,0,0.3,0.4,0.3,0.3,0.4,0.3,0.3,0.3,0.3,0.5,0.5,0.5,0,0,0,0,0,0,0,0,0,0,0,0,0,0,0,0,0,0,0,0,0,0,0,0,1,1,1,2,3,1,178.5,13.5,"00:00:00",311,0,0,0,0,0,0,0,0,0,0,0,0,0,0,0,0,0,0,0,0,30,48,2.2000000000000002,2.1,0,0]
["2023-10-18T15:01:07",45,42,45,41,46,43,46,44,29.2,55.9,100,50,53.5,53.6,53.5,57.2,-92.9,-88.2,-90.8,120.7,120.9,120.8,120.9,121,120.9,120.7,120.9,120.7,120.8,121,120.9,60,60.1,60,14,8.9,14,8.9,-1.7,-1.3,-1.5,-1.1000000000000001,-0.9,-0.9,-1.7,-1.4,-1.5,-1.1000000000000001,-0.9,-0.9,-0.2,-0.1,-0.2,0,0,0,-0.1,0,-0.1,0.1,0.1,0.1,121,121.4,121.1,120.8,121.4,121.1,120.7,121.1,120.9,120.6,121.4,120.9,60,60.1,60,13.3,16.2,15,13.9,16,15,12.1,14.5,13.4,8.9,10.199999999999999,9.6,1.6,2,1.8,1.7,1.9,1.8,1.4,1.8,1.6,1.1000000000000001,1.2,1.1000000000000001,-0.1,0.1,0,-0.1,0.1,0,-0.1,0.1,0,-0.1,0,0,6,2,2,2,2,1,180,14,"05:00:00",0,0,0,0,0,0,0,0,0,0,0,0,0,0,0,0,0,0,0,0,0,30,48,1.7,1.3,0,0,"2023-10-20T01:19:53",36,37,38,36,45,44,45,44,27.1,75,100,1.1000000000000001,53,53.1,53,53.8,40.200000000000003,42.4,41.2,120,120,120,120,120,120,120,120,120,119.9,120,119.9,59,59,59,4.5,4.0999999999999996,5.8,3.8,0.5,0.5,0.5,0.4,0.5,0.4,0.7,0.7,0.7,0.4,0.5,0.4,-0.1,-0.1,-0.1,-0.1,-0.1,-0.1,-0.1,-0.1,-0.1,0,0,0,0.1,0.2,0.1,0.4,0.6,0.4,0.1,0.3,0.1,0.6,0.9,0.7,0,0,0,0.3,0.4,0.3,0.3,0.4,0.3,0.3,0.3,0.3,0.5,0.6,0.5,0,0,0,0,0,0,0,0,0,0,0,0,0,0,0,0,0,0,0,0,0,0,0,0,1,1,1,2,3,1,178.5,13.5,"00:00:00",311,0,0,0,0,0,0,0,0,0,0,0,0,0,0,0,0,0,0,0,0,30,48,2.2000000000000002,2,0,0]
["2023-10-18T15:02:08",45,42,45,41,46,43,46,44,29.2,56,100,50,53.5,53.6,53.5,57.2,-93.1,-87.3,-90.2,120.7,120.9,120.8,120.8,121,120.9,120.7,120.9,120.7,120.8,121,120.9,60,60.1,60,14,9.1999999999999993,14.2,8.9,-1.7,-1.3,-1.5,-1.1000000000000001,-0.8,-0.9,-1.7,-1.4,-1.5,-1.1000000000000001,-0.9,-0.9,-0.2,-0.1,-0.2,0,0,0,-0.1,0,0,0.1,0.1,0.1,121,121.4,121.1,120.9,121.4,121.1,120.7,121.1,120.9,120.6,121.3,120.9,60,60.1,60,13.4,16.3,15,13.8,16.100000000000001,15,12.1,14.7,13.3,8.9,10.4,9.6,1.6,2,1.8,1.7,1.9,1.8,1.5,1.8,1.6,1.1000000000000001,1.2,1.1000000000000001,0,0,0,-0.1,0.1,0,-0.1,0,0,-0.1,0,0,6,2,2,2,2,1,180,14,"05:00:00",0,0,0,0,0,0,0,0,0,0,0,0,0,0,0,0,0,0,0,0,0,30,48,1.6,1.4,0,0,"2023-10-20T01:20:54",36,37,38,36,45,44,45,44,27.1,75,100,1.1000000000000001,53,53.1,53,53.8,40.4,41.7,41.1,120,120,120,120,120,120,120,120,120,119.9,120,119.9,59,59,59,4.3,4.0999999999999996,5.7,3.8,0.5,0.5,0.5,0.5,0.5,0.5,0.7,0.7,0.7,0.4,0.5,0.4,-0.1,-0.1,-0.1,-0.1,-0.1,-0.1,-0.1,-0.1,-0.1,0,0,0,0.1,0.2,0.1,0.3,0.6,0.4,0.1,0.3,0.1,0.6,0.9,0.7,0,0,0,0.3,0.4,0.3,0.3,0.4,0.3,0.3,0.3,0.3,0.5,0.5,0.5,0,0,0,0,0,0,0,0,0,0,0,0,0,0,0,0,0,0,0,0,0,0,0,0,1,1,1,2,3,1,178.5,13.5,"00:00:00",312,0,0,0,0,0,0,0,0,0,0,0,0,0,0,0,0,0,0,0,0,30,48,2.1,2.1,0,0]
["2023-10-18T15:03:09",45,42,45,41,47,43,46,44,29.2,56.1,100,50,53.5,53.6,53.5,57.2,-92.2,-87.8,-89.9,120.7,120.9,120.8,120.8,121,120.9,120.7,120.9,120.7,120.8,121,120.9,60,60.1,60,14.2,8.6,14.3,8.5,-1.7,-1.4,-1.5,-1,-0.8,-0.9,-1.7,-1.4,-1.5,-1,-0.8,-0.9,-0.2,-0.1,-0.2,0,0,0,-0.1,0,0,0,0.1,0.1,121,121.4,121.1,120.9,121.5,121.1,120.7,121.1,120.9,120.6,121.3,120.9,60,60.1,60,13.4,16.2,14.9,13.9,15.9,14.9,12.3,14.5,13.4,8.8000000000000007,10.1,9.5,1.6,2,1.8,1.7,1.9,1.8,1.5,1.7,1.6,1.1000000000000001,1.2,1.1000000000000001,0,0.1,0,-0.1,0,0,-0.1,0,0,-0.1,0,0,6,2,2,2,2,1,180,14,"05:00:00",0,0,0,0,0,0,0,0,0,0,0,0,0,0,0,0,0,0,0,0,0,30,48,1.7,1.4,0,0,"2023-10-20T01:21:55",36,37,38,36,45,44,45,44,27.1,74.900000000000006,100,1.1000000000000001,53,53.1,53,53.8,40,42,41,120,120,120,120,120,120,120,120,120,119.9,120,119.9,59,59,59,4.4000000000000004,4.0999999999999996,5.8,3.8,0.5,0.5,0.5,0.5,0.5,0.5,0.7,0.7,0.7,0.4,0.5,0.4,-0.1,-0.1,-0.1,-0.1,-0.1,-0.1,-0.1,-0.1,-0.1,0,0,0,0.1,0.3,0.1,0.4,0.6,0.4,0.1,0.3,0.1,0.6,0.9,0.7,0,0,0,0.3,0.4,0.3,0.3,0.4,0.3,0.3,0.3,0.3,0.5,0.6,0.5,0,0,0,0,0,0,0,0,0,0,0,0,0,0,0,0,0,0,0,0,0,0,0,0,1,1,1,2,3,1,178.5,13.5,"00:00:00",313,0,0,0,0,0,0,0,0,0,0,0,0,0,0,0,0,0,0,0,0,30,48,2.1,2,0,0]
["2023-10-18T15:04:11",45,42,45,41,47,44,46,44,29.3,56.3,100,50,53.5,53.6,53.5,57.2,-91.9,-87.4,-89.6,120.7,120.9,120.8,120.9,121,120.9,120.7,120.9,120.7,120.9,121,120.9,60,60.1,60,14,8.4,14.1,8.3000000000000007,-1.7,-1.4,-1.5,-1,-0.8,-0.9,-1.7,-1.4,-1.5,-1,-0.8,-0.9,-0.2,-0.1,-0.2,0,0,0,-0.1,0,0,0,0.1,0.1,121,121.4,121.1,120.9,121.4,121.1,120.7,121.1,120.8,120.6,121.3,120.9,60,60.1,60,13.6,16.100000000000001,14.9,13.8,15.8,14.9,11.9,14.6,13.5,8.9,10.1,9.5,1.6,1.9,1.8,1.7,1.9,1.8,1.5,1.8,1.6,1.1000000000000001,1.2,1.1000000000000001,-0.1,0,0,0,0.1,0,-0.1,0,0,-0.1,0,0,6,2,2,2,2,1,180,14,"05:00:00",0,0,0,0,0,0,0,0,0,0,0,0,0,0,0,0,0,0,0,0,0,30,48,1.8,1.4,0,0,"2023-10-20T01:22:55",36,37,38,37,45,44,45,44,27.1,74.8,100,1.1000000000000001,53,53.1,53,53.8,41.4,42.1,41.5,120,120,120,120,120,120,120,120,120,119.9,120,119.9,59,59,59,4.4000000000000004,4.2,5.8,3.8,0.5,0.5,0.5,0.5,0.5,0.5,0.7,0.7,0.7,0.4,0.5,0.4,-0.1,-0.1,-0.1,-0.1,-0.1,-0.1,-0.1,-0.1,-0.1,0,0,0,0.1,0.2,0.1,0.4,0.7,0.5,0.1,0.3,0.1,0.6,0.9,0.7,0,0,0,0.3,0.4,0.3,0.3,0.4,0.3,0.3,0.3,0.3,0.5,0.5,0.5,0,0,0,0,0,0,0,0,0,0,0,0,0,0,0,0,0,0,0,0,0,0,0,0,1,1,1,2,3,1,178.5,13.5,"00:00:00",313,0,0,0,0,0,0,0,0,0,0,0,0,0,0,0,0,0,0,0,0,30,48,2.1,2.1,0,0]
["2023-10-18T15:05:11",45,42,45,41,47,44,46,44,29.3,56.4,100,50,53.5,53.6,53.5,57.2,-93.1,-88,-90.2,120.7,120.9,120.7,120.9,121,120.9,120.7,120.9,120.7,120.8,121,120.9,60,60.1,60,13.9,8.6999999999999993,13.9,8.6,-1.7,-1.4,-1.5,-1,-0.9,-0.9,-1.7,-1.4,-1.5,-1,-0.9,-0.9,-0.2,-0.1,-0.2,0,0,0,-0.1,0,-0.1,0,0.1,0.1,121,121.4,121.1,120.9,121.4,121.1,120.7,121.1,120.8,120.6,121.3,120.9,60,60.1,60,13.5,16.2,14.9,13.4,15.9,14.9,11.6,14.6,13.4,8.9,10.1,9.5,1.6,2,1.8,1.7,1.9,1.8,1.5,1.7,1.6,1.1000000000000001,1.2,1.1000000000000001,-0.1,0.1,0,-0.1,0.1,0,-0.1,0,0,-0.1,0,0,6,2,2,2,2,1,180,14,"05:00:00",0,0,0,0,0,0,0,0,0,0,0,0,0,0,0,0,0,0,0,0,0,30,48,1.7,1.3,0,0,"2023-10-20T01:23:56",36,37,38,36,45,44,45,44,27.1,74.8,100,1.1000000000000001,53,53.1,53,53.8,40.5,42.4,41.7,120,120,120,120,120,120,120,120,120,119.9,120,119.9,59,59,59,4.5,4.2,5.9,3.9,0.5,0.5,0.5,0.5,0.5,0.5,0.7,0.7,0.7,0.4,0.5,0.4,-0.1,-0.1,-0.1,-0.1,-0.1,-0.1,-0.1,-0.1,-0.1,0,0,0,0.1,0.2,0.1,0.4,0.7,0.5,0.1,0.3,0.2,0.6,0.9,0.7,0,0,0,0.3,0.4,0.3,0.3,0.4,0.3,0.2,0.3,0.3,0.5,0.6,0.5,0,0,0,0,0,0,0,0,0,0,0,0,0,0,0,0,0,0,0,0,0,0,0,0,1,1,1,2,3,1,178.5,13.5,"00:00:00",314,0,0,0,0,0,0,0,0,0,0,0,0,0,0,0,0,0,0,0,0,30,48,2.2000000000000002,2.1,0,0]
["2023-10-18T15:06:12",45,42,45,41,47,44,46,44,29.3,56.6,100,50,53.5,53.6,53.5,57.2,-93.5,-87.5,-90.4,120.7,120.9,120.7,120.9,121,120.9,120.6,120.9,120.7,120.9,121,120.9,60,60.1,60,14.2,8.5,14.1,8.6,-1.7,-1.4,-1.5,-1,-0.9,-0.9,-1.7,-1.4,-1.5,-1,-0.9,-0.9,-0.2,-0.1,-0.2,-0.1,0,0,-0.1,0,-0.1,0,0.1,0.1,120.9,121.3,121.1,120.9,121.5,121.1,120.7,121.1,120.8,120.6,121.3,120.9,60,60.1,60,13.8,16.3,14.9,13.9,15.8,14.9,12.4,14.7,13.5,8.6999999999999993,10.1,9.5,1.7,2,1.7,1.7,1.9,1.8,1.5,1.8,1.6,1.1000000000000001,1.2,1.1000000000000001,0,0.1,0,0,0.1,0,-0.1,0,0,-0.1,0,0,6,2,2,2,2,1,180,14,"05:00:00",0,0,0,0,0,0,0,0,0,0,0,0,0,0,0,0,0,0,0,0,0,30,48,1.6,1.3,0,0,"2023-10-20T01:24:58",36,37,38,36,45,44,45,44,27.1,74.7,100,1.1000000000000001,53,53.1,53,53.8,40.4,41.5,41,120,120,120,120,120,120,120,120,120,119.9,120,119.9,59,59,59,4.4000000000000004,4.2,5.8,3.8,0.5,0.5,0.5,0.5,0.5,0.5,0.7,0.7,0.7,0.4,0.5,0.4,-0.1,-0.1,-0.1,-0.1,-0.1,-0.1,-0.1,-0.1,-0.1,0,0,0,0.1,0.2,0.1,0.4,0.7,0.5,0.1,0.3,0.1,0.6,0.9,0.6,0,0,0,0.3,0.4,0.3,0.3,0.4,0.3,0.3,0.3,0.3,0.5,0.5,0.5,0,0,0,0,0,0,0,0,0,0,0,0,0,0,0,0,0,0,0,0,0,0,0,0,1,1,1,2,3,1,178.5,13.5,"00:00:00",315,0,0,0,0,0,0,0,0,0,0,0,0,0,0,0,0,0,0,0,0,30,48,2.1,2.1,0,0]
["2023-10-18T15:07:13",45,42,45,41,47,44,46,44,29.3,56.7,100,50,53.5,53.6,53.5,57.2,-93.5,-86.1,-89.5,120.7,120.9,120.7,120.9,121,120.9,120.7,120.9,120.7,120.9,121,120.9,60,60.1,60,14.1,8.6999999999999993,14,8.6,-1.7,-1.3,-1.5,-1,-0.8,-0.9,-1.7,-1.4,-1.5,-1,-0.8,-0.9,-0.2,-0.1,-0.2,-0.1,0,0,-0.2,-0.1,-0.1,0,0.1,0,120.9,121.3,121.1,120.9,121.5,121.1,120.7,121.1,120.9,120.5,121.3,120.9,60,60.1,60,13.3,16.3,15,13.9,15.9,14.9,11.9,14.6,13.4,8.6999999999999993,10.1,9.5,1.6,2,1.8,1.6,1.9,1.7,1.4,1.8,1.6,1.1000000000000001,1.2,1.1000000000000001,0,0.1,0,-0.1,0.1,0,-0.1,0.1,0,-0.1,0,0,6,2,2,2,2,1,180,14,"05:00:00",0,0,0,0,0,0,0,0,0,0,0,0,0,0,0,0,0,0,0,0,0,30,48,1.7,1.4,0,0,"2023-10-20T01:25:59",36,37,38,36,45,44,45,44,27.1,74.599999999999994,100,1.1000000000000001,53,53.1,53,53.8,39.799999999999997,42.4,40.5,120,120,120,120,120,120,120,120,120,119.9,120,119.9,59,59,59,4.3,4.4000000000000004,5.7,4,0.5,0.5,0.5,0.4,0.5,0.4,0.7,0.7,0.7,0.4,0.5,0.4,-0.1,-0.1,-0.1,-0.1,-0.1,-0.1,-0.1,-0.1,-0.1,0,0,0,0.1,0.2,0.1,0.4,0.7,0.5,0.1,0.3,0.1,0.6,0.9,0.7,0,0,0,0.3,0.4,0.3,0.3,0.4,0.3,0.3,0.3,0.3,0.5,0.5,0.5,0,0,0,0,0,0,0,0,0,0,0,0,0,0,0,0,0,0,0,0,0,0,0,0,1,1,1,2,3,1,178.5,13.5,"00:00:00",315,0,0,0,0,0,0,0,0,0,0,0,0,0,0,0,0,0,0,0,0,30,48,2.2000000000000002,2,0,0]
["2023-10-18T15:08:14",45,42,45,40,47,44,46,44,29.3,56.8,100,50,53.5,53.6,53.5,57.2,-92.3,-87.3,-89.5,120.7,120.9,120.8,120.9,121,120.9,120.7,120.9,120.7,120.9,121,120.9,60,60.1,60,14.1,8.6,13.9,8.6,-1.7,-1.4,-1.5,-1,-0.9,-0.9,-1.7,-1.4,-1.5,-1,-0.9,-0.9,-0.2,-0.2,-0.2,0,0,0,-0.1,0,-0.1,0,0.1,0.1,121,121.4,121.1,120.8,121.5,121.1,120.7,121.1,120.8,120.6,121.3,120.9,60,60.1,60,13.7,16.3,14.9,14,16,14.9,12,14.7,13.4,8.6999999999999993,10.199999999999999,9.5,1.7,2,1.8,1.7,1.9,1.8,1.5,1.8,1.6,1.1000000000000001,1.2,1.1000000000000001,-0.1,0.1,0,-0.1,0.1,0,-0.1,0,0,-0.1,0,0,6,2,2,2,2,1,180,14,"05:00:00",0,0,0,0,0,0,0,0,0,0,0,0,0,0,0,0,0,0,0,0,0,30,48,1.7,1.4,0,0,"2023-10-20T01:27:00",36,37,38,36,45,44,45,44,27.1,74.599999999999994,100,1.1000000000000001,53,53.1,53,53.8,41.3,42.4,41.8,120,120,120,120,120,120,120,120,120,119.9,120,119.9,59,59,59,4.4000000000000004,4.3,5.8,4,0.5,0.5,0.5,0.5,0.5,0.5,0.7,0.7,0.7,0.4,0.5,0.4,-0.1,-0.1,-0.1,-0.1,-0.1,-0.1,-0.1,-0.1,-0.1,0,0,0,0.1,0.3,0.1,0.5,0.7,0.6,0.1,0.3,0.1,0.6,0.9,0.7,0,0,0,0.3,0.4,0.3,0.3,0.4,0.4,0.2,0.3,0.3,0.5,0.5,0.5,0,0,0,0,0,0,0,0,0,0,0,0,0,0,0,0,0,0,0,0,0,0,0,0,1,1,1,2,3,1,178.5,13.5,"00:00:00",316,0,0,0,0,0,0,0,0,0,0,0,0,0,0,0,0,0,0,0,0,30,48,2.2000000000000002,2.1,0,0]
["2023-10-18T15:09:15",45,42,45,41,47,44,46,44,29.3,57,100,50,53.5,53.6,53.5,57.2,-94.9,-89.3,-91.9,120.7,120.9,120.8,120.9,121,120.9,120.7,120.9,120.7,120.9,121,120.9,60,60.1,60,14.1,8.9,14,8.9,-1.7,-1.4,-1.5,-1.1000000000000001,-0.9,-0.9,-1.7,-1.4,-1.5,-1.1000000000000001,-0.9,-0.9,-0.2,-0.1,-0.2,0,0,0,-0.1,-0.1,-0.1,0.1,0.1,0.1,120.9,121.3,121.1,120.9,121.4,121.1,120.7,121.1,120.8,120.6,121.3,120.9,60,60.1,60,13.5,16.3,15,14.1,16,15,12.3,14.6,13.5,8.8000000000000007,10.1,9.5,1.6,2,1.8,1.7,1.9,1.7,1.5,1.7,1.6,1.1000000000000001,1.2,1.1000000000000001,0,0,0,0,0,0,-0.1,0,0,-0.1,0,0,6,2,2,2,2,1,180,14,"05:00:00",0,0,0,0,0,0,0,0,0,0,0,0,0,0,0,0,0,0,0,0,0,30,48,1.6,1.3,0,0,"2023-10-20T01:28:00",36,37,39,36,45,44,45,44,27,74.5,100,1.1000000000000001,53,53,53,53.8,42,43.1,42.5,120,120,120,120,120,120,120,120,120,119.9,120,119.9,59,59,59,4.5,4.3,5.9,3.9,0.5,0.5,0.5,0.5,0.5,0.5,0.7,0.7,0.7,0.4,0.5,0.4,-0.1,-0.1,-0.1,-0.1,-0.1,-0.1,-0.1,-0.1,-0.1,0,0,0,0.1,0.2,0.1,0.5,0.8,0.6,0.1,0.3,0.1,0.5,0.9,0.7,0,0,0,0.3,0.4,0.3,0.3,0.4,0.4,0.3,0.3,0.3,0.5,0.5,0.5,0,0,0,0,0,0,0,0,0,0,0,0,0,0,0,0,0,0,0,0,0,0,0,0,1,1,1,2,3,1,178.5,13.5,"00:00:00",317,0,0,0,0,0,0,0,0,0,0,0,0,0,0,0,0,0,0,0,0,30,48,2.2000000000000002,2.1,0,0]
["2023-10-18T15:10:16",45,42,45,41,47,44,46,44,29.3,57.1,100,50.1,53.5,53.6,53.5,57.2,-92.9,-87.1,-90.4,120.7,120.9,120.7,120.9,121,120.9,120.7,120.9,120.7,120.9,121,120.9,60,60.1,60,14.2,8.6,13.9,8.8000000000000007,-1.7,-1.3,-1.5,-1.1000000000000001,-0.8,-0.9,-1.7,-1.4,-1.5,-1,-0.8,-0.9,-0.2,-0.2,-0.2,0,0,0,-0.1,-0.1,-0.1,0,0.1,0.1,120.9,121.4,121.1,120.8,121.5,121.1,120.7,121.1,120.8,120.6,121.3,120.9,60,60.1,60,13.1,16.399999999999999,15,13.6,15.7,15,11.4,14.6,13.4,8.4,10.199999999999999,9.5,1.6,2,1.8,1.7,1.9,1.8,1.4,1.7,1.6,1.1000000000000001,1.2,1.1000000000000001,0,0.1,0,0,0.1,0,-0.1,0,0,-0.1,0,0,6,2,2,2,2,1,180,14,"05:00:00",0,0,0,0,0,0,0,0,0,0,0,0,0,0,0,0,0,0,0,0,0,30,48,1.7,1.3,0,0,"2023-10-20T01:29:01",36,37,38,36,45,44,45,44,27,74.400000000000006,100,1.1000000000000001,53,53.1,53,53.8,40.6,42.3,41.3,120,120,120,120,120,120,120,120,120,119.9,120,119.9,59,59,59,4.4000000000000004,4.2,5.8,3.8,0.5,0.5,0.5,0.5,0.5,0.5,0.7,0.7,0.7,0.4,0.5,0.4,-0.1,-0.1,-0.1,-0.1,-0.1,-0.1,-0.1,-0.1,-0.1,0,0,0,0.1,0.2,0.1,0.4,0.7,0.5,0.1,0.3,0.1,0.5,0.9,0.6,0,0,0,0.3,0.4,0.3,0.3,0.4,0.3,0.3,0.3,0.3,0.5,0.5,0.5,0,0,0,0,0,0,0,0,0,0,0,0,0,0,0,0,0,0,0,0,0,0,0,0,1,1,1,2,3,1,178.5,13.5,"00:00:00",318,0,0,0,0,0,0,0,0,0,0,0,0,0,0,0,0,0,0,0,0,30,48,2.2000000000000002,2.1,0,0]
["2023-10-18T15:11:17",45,42,45,40,47,44,46,44,29.3,57.3,100,50.1,53.4,53.6,53.5,57.2,-92.6,-65.3,-83.4,120.5,121.3,120.7,120.7,121.4,121,120.4,121.2,120.7,120.7,121.4,121,59.9,60.2,60,14.7,8.5,14.7,8.6,-1.8,-1.2,-1.5,-1,-0.3,-0.7,-1.7,-1.3,-1.5,-1,-0.3,-0.7,-0.5,0,-0.1,0,0.4,0,-0.5,0.1,0,0,0.6,0.1,120.9,121.8,121.1,120.7,121.8,121.1,120.7,121.4,120.8,120.3,121.5,120.9,60,60.1,60,12.4,16.899999999999999,14.9,11.9,18.8,15.1,11.2,15.7,13.5,7.1,11.5,9.3000000000000007,1.5,2,1.8,1.6,2.2000000000000002,1.8,1.4,1.8,1.6,0.9,1.3,1.1000000000000001,-0.2,0.4,0,-0.3,0.3,0,-0.2,0.4,0,-0.3,0.1,0,6,2,2,2,2,1,180,14,"05:00:00",0,0,0,0,0,0,0,0,0,0,0,0,0,0,0,0,0,0,0,0,0,30,48,2.9,1.7,0,0,"2023-10-20T01:30:02",36,37,38,36,45,44,45,44,27,74.400000000000006,100,1.1000000000000001,53,53.1,53,53.8,39.799999999999997,41.2,40.200000000000003,120,120,120,120,120,120,120,120,120,119.9,120,119.9,59,59,59,4.4000000000000004,4,5.8,3.6,0.5,0.5,0.5,0.4,0.5,0.4,0.7,0.7,0.7,0.4,0.4,0.4,-0.1,-0.1,-0.1,-0.1,-0.1,-0.1,-0.1,-0.1,-0.1,0,0,0,0.1,0.2,0.1,0.4,0.7,0.5,0.1,0.3,0.1,0.6,0.9,0.6,0,0,0,0.3,0.4,0.3,0.3,0.4,0.3,0.2,0.3,0.3,0.5,0.5,0.5,0,0,0,0,0,0,0,0,0,0,0,0,0,0,0,0,0,0,0,0,0,0,0,0,1,1,1,2,3,1,178.5,13.5,"00:00:00",318,0,0,0,0,0,0,0,0,0,0,0,0,0,0,0,0,0,0,0,0,30,48,2.1,2,0,0]
["2023-10-18T15:12:18",45,41,45,40,47,44,46,44,29.3,57.4,100,50.1,53.4,53.6,53.5,57.2,-90.4,-69.7,-83.5,120.4,121.2,120.7,120.7,121.4,121,120.4,121.3,120.7,120.7,121.4,121,59.9,60.1,60,15.4,7.9,15,7.9,-1.8,-1.2,-1.5,-0.9,-0.4,-0.7,-1.8,-1.2,-1.5,-0.9,-0.4,-0.7,-0.5,0,-0.1,0,0.4,0,-0.3,0.1,0,0,0.6,0.1,120.8,121.7,121.1,120.5,121.7,121.1,120.5,121.4,120.8,120.5,121.6,120.9,60,60.1,60,12.2,17.8,14.9,12.5,18.2,14.9,11.2,15.8,13.4,7.5,11.3,9.1,1.5,2.1,1.7,1.5,2.1,1.8,1.3,1.8,1.6,0.9,1.3,1.1000000000000001,-0.2,0.5,0,-0.3,0.6,0,-0.2,0.3,0,-0.2,0.3,0,6,2,2,2,2,1,180,14,"05:00:00",0,0,0,0,0,0,0,0,0,0,0,0,0,0,0,0,0,0,0,0,0,30,48,2.8,1.7,0,0,"2023-10-20T01:31:03",36,37,39,36,45,44,45,44,27,74.3,100,1.1000000000000001,53,53.1,53,53.8,39.4,41.2,40.200000000000003,120,120,120,120,120,120,120,120,120,119.9,120,119.9,59,59,59,4.4000000000000004,4,5.8,3.6,0.5,0.5,0.5,0.4,0.5,0.4,0.7,0.7,0.7,0.4,0.4,0.4,-0.1,-0.1,-0.1,-0.1,-0.1,-0.1,-0.1,-0.1,-0.1,0,0,0,0.1,0.3,0.1,0.4,0.7,0.5,0,0.4,0.1,0.6,0.9,0.6,0,0,0,0.3,0.4,0.3,0.3,0.4,0.3,0.2,0.3,0.3,0.5,0.5,0.5,0,0,0,0,0,0,0,0,0,0,0,0,0,0,0,0,0,0,0,0,0,0,0,0,1,1,1,2,3,1,178.5,13.5,"00:00:00",319,0,0,0,0,0,0,0,0,0,0,0,0,0,0,0,0,0,0,0,0,30,48,2.1,2,0,0]
["2023-10-18T15:13:19",45,41,45,40,47,44,46,44,29.4,57.5,100,50.1,53.5,53.6,53.5,57.2,-92.4,-69.7,-86,120.4,121.2,120.7,120.7,121.4,121,120.4,121.1,120.7,120.7,121.5,121,59.9,60.1,60,15,8.6,15,8.5,-1.8,-1.3,-1.5,-1,-0.3,-0.8,-1.8,-1.4,-1.5,-1,-0.3,-0.8,-0.5,0,-0.1,-0.1,0.5,0,-0.3,0.1,0,0,0.5,0.1,120.8,121.7,121.1,120.4,121.7,121.1,120.6,121.4,120.8,120.2,121.5,120.9,59.9,60.1,60,13.1,17.399999999999999,15,11.5,19.399999999999999,14.9,11.7,16,13.5,7.3,11.7,9.1999999999999993,1.6,2.1,1.8,1.4,2.2999999999999998,1.8,1.4,1.9,1.6,0.9,1.4,1.1000000000000001,-0.3,0.4,0,-0.3,0.2,0,-0.2,0.2,0,-0.3,0.3,0,6,2,2,2,2,1,180,14,"05:00:00",0,0,0,0,0,0,0,0,0,0,0,0,0,0,0,0,0,0,0,0,0,30,48,2.8,1.5,0,0,"2023-10-20T01:32:04",36,37,38,36,45,44,45,44,27,74.2,100,1.1000000000000001,53,53,53,53.8,39.6,41.9,40.4,120,120,120,120,120,120,120,120,120,119.9,120,119.9,59,59,59,4.3,4.2,5.7,3.8,0.5,0.5,0.5,0.4,0.5,0.4,0.7,0.7,0.7,0.4,0.5,0.4,-0.1,-0.1,-0.1,-0.1,-0.1,-0.1,-0.1,-0.1,-0.1,0,0,0,0.1,0.2,0.1,0.4,0.7,0.5,0,0.3,0.1,0.6,0.9,0.7,0,0,0,0.3,0.4,0.3,0.3,0.4,0.3,0.3,0.3,0.3,0.5,0.5,0.5,0,0,0,0,0,0,0,0,0,0,0,0,0,0,0,0,0,0,0,0,0,0,0,0,1,1,1,2,1,1,178.5,13.5,"02:00:00",320,0,0,0,0,0,0,0,0,0,0,0,0,0,0,0,0,0,0,0,0,30,48,2.1,2,0,0]
["2023-10-18T15:14:21",45,41,45,40,47,44,46,44,29.4,57.7,100,50.1,53.5,53.6,53.5,57.2,-92.6,-70.2,-81.2,120.4,121.2,120.7,120.7,121.6,121,120.4,121.2,120.7,120.7,121.6,121,60,60.1,60,15.7,8.6,15.1,8.5,-1.9,-1.2,-1.5,-1,-0.3,-0.6,-1.8,-1.2,-1.5,-1,-0.4,-0.6,-0.4,0,-0.1,-0.1,0.5,0,-0.2,0.1,0,-0.1,0.6,0.1,120.8,121.6,121.1,120.5,121.8,121.1,120.6,121.4,120.8,120.3,121.7,120.9,60,60.2,60,12.1,17.8,15,12.2,19,15.2,10.8,15.7,13.4,7.5,11.1,9.1999999999999993,1.5,2.1,1.8,1.5,2.2000000000000002,1.8,1.3,1.9,1.6,0.9,1.3,1.1000000000000001,-0.2,0.4,0,-0.3,0.5,0,-0.2,0.1,0,-0.3,0.3,0,6,2,2,2,2,1,180,14,"05:00:00",0,0,0,0,0,0,0,0,0,0,0,0,0,0,0,0,0,0,0,0,0,30,48,2.8,1.8,0,0,"2023-10-20T01:33:05",36,37,38,36,45,44,45,44,27,74.2,100,1.1000000000000001,53,53,53,54.3,41.8,43.2,42.4,120,120,120,120,120,120,120,120,120,119.9,120,119.9,59,59,59,4.4000000000000004,4.4000000000000004,5.8,4.0999999999999996,0.5,0.5,0.5,0.5,0.5,0.5,0.7,0.7,0.7,0.4,0.5,0.4,-0.1,-0.1,-0.1,-0.1,-0.1,-0.1,-0.1,-0.1,-0.1,0,0,0,0.1,0.3,0.1,0.4,0.7,0.5,0.1,0.4,0.1,0.6,1,0.7,0,0,0,0.3,0.4,0.3,0.3,0.4,0.3,0.3,0.3,0.3,0.5,0.6,0.5,0,0,0,0,0,0,0,0,0,0,0,0,0,0,0,0,0,0,0,0,0,0,0,0,1,1,1,2,1,1,178.5,13.5,"02:00:00",320,0,0,0,0,0,0,0,0,0,0,0,0,0,0,0,0,0,0,0,0,30,48,2.2000000000000002,2.1,0,0]
["2023-10-18T15:15:21",45,41,45,40,47,44,46,44,29.5,57.8,100,50.1,53.4,53.6,53.4,57.2,-91.6,-52.6,-74.3,120.4,121.2,120.7,120.7,121.5,121,120.4,121.1,120.7,120.8,121.6,121,59.9,60.1,60,15.6,8.1999999999999993,15.7,8.1999999999999993,-1.8,-1.3,-1.5,-1,0.1,-0.4,-1.8,-1.4,-1.5,-1,0.1,-0.4,-0.5,0,-0.1,-0.1,0.5,0,-0.2,0.1,0,-0.1,0.7,0.1,120.8,121.6,121,120.5,121.7,121.1,120.4,121.2,120.8,120.5,121.8,120.9,60,60.1,60,12.6,17.399999999999999,15,11.2,19.399999999999999,15,11.2,16.2,13.6,6.5,11.6,9.1,1.5,2.1,1.8,1.5,2.2999999999999998,1.8,1.5,1.9,1.6,0.9,1.3,1,-0.3,0.5,0,-0.4,0.2,0,-0.3,0.1,0,-0.3,0.2,0,6,2,2,2,2,1,180,14,"05:00:00",0,0,0,0,0,0,0,0,0,0,0,0,0,0,0,0,0,0,0,0,0,30,48,3.7,2.2000000000000002,0,0,"2023-10-20T01:34:07",36,37,39,36,45,44,45,44,27.1,74.099999999999994,100,1.1000000000000001,53,53,53,55.1,41.1,42.3,41.8,120,120,120,120,120,120,120,120,120,119.9,120,119.9,59,59,59,4.4000000000000004,4.3,5.8,3.9,0.5,0.5,0.5,0.5,0.5,0.5,0.7,0.7,0.7,0.4,0.5,0.4,-0.1,-0.1,-0.1,-0.1,-0.1,-0.1,-0.1,-0.1,-0.1,0,0,0,0.1,0.2,0.1,0.4,0.7,0.5,0,0.3,0.1,0.6,0.9,0.6,0,0,0,0.3,0.4,0.3,0.3,0.4,0.3,0.3,0.3,0.3,0.5,0.5,0.5,0,0,0,0,0,0,0,0,0,0,0,0,0,0,0,0,0,0,0,0,0,0,0,0,1,1,1,2,1,1,178.5,13.5,"02:00:00",321,0,0,0,0,0,0,0,0,0,0,0,0,0,0,0,0,0,0,0,0,30,48,2.2000000000000002,2.1,0,0]
["2023-10-18T15:16:22",45,41,45,40,48,44,47,44,29.5,57.9,100,50.1,53.4,53.5,53.4,57.2,-72.599999999999994,-52.1,-64.099999999999994,120.5,121.3,120.7,120.6,121.5,121,120.4,121.3,120.7,120.7,121.6,121,60,60.2,60,15.4,4.9000000000000004,15.1,6,-1.8,-1.2,-1.5,-0.5,0.1,-0.2,-1.8,-1.2,-1.5,-0.5,0.2,-0.2,-0.5,0,-0.1,0,0.5,0,-0.3,0.2,0,0,0.7,0.1,120.7,121.7,121.1,120.5,121.7,121.1,120.5,121.5,120.8,120.1,121.7,121,60,60.2,60,11.8,17.3,15,12.1,18.600000000000001,15,11.7,16,13.6,6.9,11.3,8.8000000000000007,1.4,2.1,1.8,1.5,2.2000000000000002,1.8,1.3,1.8,1.6,0.9,1.3,1,-0.3,0.4,0,-0.3,0.6,0,-0.3,0.2,0,-0.4,0.2,0,6,2,2,2,2,1,180,14,"05:00:00",0,0,0,0,0,0,0,0,0,0,0,0,0,0,0,0,0,0,0,0,0,30,48,3.8,2.7,0,0,"2023-10-20T01:35:07",36,37,39,36,45,44,45,44,27,74.099999999999994,100,1.1000000000000001,53,53.1,53,55.8,39.9,41.6,40.700000000000003,120,120,120,120,120,120,120,120,120,119.9,120,119.9,59,59,59,4.5,4,5.8,3.7,0.5,0.5,0.5,0.4,0.5,0.4,0.7,0.7,0.7,0.4,0.4,0.4,-0.1,-0.1,-0.1,-0.1,-0.1,-0.1,-0.1,-0.1,-0.1,0,0,0,0.1,0.3,0.1,0.4,0.7,0.5,0.1,0.3,0.1,0.6,0.9,0.7,0,0,0,0.3,0.4,0.3,0.3,0.4,0.3,0.3,0.3,0.3,0.5,0.5,0.5,0,0,0,0,0,0,0,0,0,0,0,0,0,0,0,0,0,0,0,0,0,0,0,0,1,1,1,2,1,1,178.5,13.5,"02:00:00",322,0,0,0,0,0,0,0,0,0,0,0,0,0,0,0,0,0,0,0,0,30,48,2.1,2,0,0]
["2023-10-18T15:17:22",45,41,45,40,48,44,47,44,29.6,58,100,50.1,53.4,53.5,53.4,57.2,-72,-52.5,-63.5,120.5,121.3,120.7,120.7,121.4,121,120.5,121.2,120.7,120.7,121.4,121,59.9,60.1,60,15.3,4.5,15.3,5.4,-1.8,-1.1000000000000001,-1.5,-0.5,0.1,-0.2,-1.8,-1.1000000000000001,-1.5,-0.5,0.1,-0.2,-0.5,0,-0.1,-0.1,0.5,0,-0.5,0.1,0,0,0.5,0.1,120.7,121.8,121.1,120.4,121.8,121.1,120.6,121.6,120.8,120.4,121.6,121,60,60.2,60,11.3,17.600000000000001,15,12.3,19,15.1,10.5,16,13.6,7.4,11.2,8.9,1.3,2.1,1.8,1.5,2.2000000000000002,1.8,1.2,1.9,1.6,0.8,1.3,1,-0.3,0.5,0,-0.4,0.5,0,-0.3,0.4,0,-0.3,0.2,0,6,2,2,2,2,1,180,14,"05:00:00",0,0,0,0,0,0,0,0,0,0,0,0,0,0,0,0,0,0,0,0,0,30,48,3.6,2.7,0,0,"2023-10-20T01:36:07",36,37,39,36,45,44,45,44,27.1,74,100,1.1000000000000001,53,53,53,56.5,40.200000000000003,41.8,41.1,120,120,120,120,120,120,120,120,120,119.9,120,119.9,59,59,59,4.5,4.0999999999999996,5.9,3.7,0.5,0.5,0.5,0.4,0.5,0.4,0.7,0.7,0.7,0.4,0.4,0.4,-0.1,-0.1,-0.1,-0.1,-0.1,-0.1,-0.1,-0.1,-0.1,0,0,0,0.1,0.2,0.1,0.3,0.8,0.5,0.1,0.3,0.2,0.6,0.9,0.7,0,0,0,0.3,0.4,0.3,0.3,0.4,0.3,0.2,0.3,0.3,0.5,0.6,0.5,0,0,0,0,0,0,0,0,0,0,0,0,0,0,0,0,0,0,0,0,0,0,0,0,1,1,1,2,1,1,178.5,13.5,"02:00:00",322,0,0,0,0,0,0,0,0,0,0,0,0,0,0,0,0,0,0,0,0,30,48,2.1,2.1,0,0]
["2023-10-18T15:18:23",45,40,45,40,48,44,47,44,29.7,58.1,100,50.1,53.3,53.6,53.4,57.1,-86.1,-51.7,-66.2,120.4,121.4,120.7,120.7,121.6,121,120.3,121.3,120.7,120.7,121.5,121,59.9,60.1,60,15.9,7.7,15.3,7.7,-1.9,-1.1000000000000001,-1.5,-0.9,0.1,-0.3,-1.9,-1.2,-1.5,-0.9,0.1,-0.3,-0.5,0,-0.1,-0.2,0.5,0,-0.4,0.1,0,-0.1,0.7,0.1,120.7,121.7,121,120.5,121.9,121.2,120.5,121.5,120.8,120.2,121.7,121,60,60.2,60,11.2,18.399999999999999,14.9,11.8,19.2,14.8,10.5,16.3,13.4,6.9,10.8,8.8000000000000007,1.3,2.2000000000000002,1.7,1.4,2.2999999999999998,1.7,1.4,2,1.6,0.8,1.2,1,-0.3,0.5,0,-0.4,0.3,0,-0.3,0.5,0,-0.3,0.2,0,6,2,2,2,2,1,180,14,"05:00:00",0,0,0,0,0,0,0,0,0,0,0,0,0,0,0,0,0,0,0,0,0,30,48,3.7,2.5,0,0,"2023-10-20T01:37:08",36,37,39,36,45,44,45,44,27,73.900000000000006,100,1.1000000000000001,53,53.1,53,57.2,38.6,40.299999999999997,39,120,120,120,120,120,120,120,120,120,119.9,120,119.9,59,59,59,4.3,3.7,5.7,3.5,0.5,0.5,0.5,0.4,0.5,0.4,0.7,0.7,0.7,0.4,0.4,0.4,-0.1,-0.1,-0.1,-0.1,-0.1,-0.1,-0.1,-0.1,-0.1,0,0,0,0.1,0.2,0.1,0.3,0.7,0.4,0.1,0.4,0.1,0.6,0.9,0.7,0,0,0,0.3,0.4,0.3,0.3,0.4,0.3,0.2,0.3,0.2,0.5,0.6,0.5,0,0,0,0,0,0,0,0,0,0,0,0,0,0,0,0,0,0,0,0,0,0,0,0,1,1,1,2,1,1,178.5,13.5,"02:00:00",323,0,0,0,0,0,0,0,0,0,0,0,0,0,0,0,0,0,0,0,0,30,48,2.1,2,0,0]
["2023-10-18T15:19:23",45,41,45,40,48,43,47,44,29.7,58.2,100,50.1,53.4,53.6,53.5,57.1,-92.7,-70.900000000000006,-83.3,120.5,121.3,120.7,120.7,121.5,121,120.4,121.2,120.7,120.7,121.4,121,59.9,60.1,60,15.4,8.5,15.4,8.6,-1.9,-1.2,-1.5,-1,-0.4,-0.7,-1.7,-1.3,-1.5,-1,-0.4,-0.7,-0.5,0,-0.2,0,0.5,0,-0.4,0.1,-0.1,0,0.6,0.1,120.8,121.6,121,120.6,121.7,121.1,120.5,121.4,120.8,120.4,121.5,121,59.9,60.1,60,11.9,17.7,14.9,12.3,18.3,14.9,10.9,16.100000000000001,13.5,7.7,11.3,9.1999999999999993,1.4,2.1,1.7,1.5,2.2000000000000002,1.8,1.3,1.8,1.6,1,1.3,1.1000000000000001,-0.2,0.3,0,-0.2,0.6,0,-0.2,0.4,0,-0.2,0.2,0,6,2,2,2,2,1,180,14,"05:00:00",0,0,0,0,0,0,0,0,0,0,0,0,0,0,0,0,0,0,0,0,0,30,48,2.6,1.7,0,0,"2023-10-20T01:38:09",36,37,39,36,45,44,45,44,27,73.900000000000006,100,1.1000000000000001,53,53.1,53,57.4,37.799999999999997,38.9,38.299999999999997,120,120,120,120,120,120,120,120,120,120,120,120,59,59,59,4.3,3.6,5.7,3.3,0.5,0.5,0.5,0.4,0.4,0.4,0.7,0.7,0.7,0.4,0.4,0.4,-0.1,-0.1,-0.1,-0.1,-0.1,-0.1,-0.1,-0.1,-0.1,0,0,0,0.1,0.3,0.1,0.4,0.7,0.4,0.1,0.3,0.1,0.6,1,0.8,0,0,0,0.3,0.4,0.3,0.3,0.4,0.3,0.3,0.3,0.3,0.5,0.6,0.5,0,0,0,0,0,0,0,0,0,0,0,0,0,0,0,0,0,0,0,0,0,0,0,0,1,1,1,2,1,1,178.5,13.5,"02:00:00",324,0,0,0,0,0,0,0,0,0,0,0,0,0,0,0,0,0,0,0,0,30,48,2,1.9,0,0]
["2023-10-18T15:20:24",46,41,46,40,48,44,47,44,29.7,58.3,100,50.1,53.5,53.6,53.5,57.1,-94.9,-88.6,-91.2,120.7,120.9,120.7,120.9,121.1,120.9,120.7,120.8,120.7,120.9,121.1,120.9,60,60.1,60,14.4,9,14.2,9.1,-1.7,-1.4,-1.5,-1.1000000000000001,-0.9,-0.9,-1.7,-1.4,-1.5,-1.1000000000000001,-0.8,-0.9,-0.2,-0.1,-0.2,0,0,0,-0.1,0,-0.1,0,0.1,0,120.9,121.3,121.1,120.9,121.4,121.1,120.7,121.1,120.8,120.7,121.4,120.9,60,60.1,60,13.7,16.5,15,13.9,16,14.9,12.3,14.7,13.5,8.6999999999999993,10.1,9.3000000000000007,1.7,2,1.8,1.7,1.9,1.8,1.5,1.8,1.6,1.1000000000000001,1.2,1.1000000000000001,-0.1,0.1,0,-0.1,0.1,0,-0.1,0,0,-0.1,0,0,6,2,2,2,2,1,180,14,"05:00:00",0,0,0,0,0,0,0,0,0,0,0,0,0,0,0,0,0,0,0,0,0,30,48,1.7,1.3,0,0,"2023-10-20T01:39:10",36,37,38,36,45,44,45,44,27,73.8,100,1.1000000000000001,53,53.1,53,57.4,37.6,40,38.700000000000003,120,120,120,120,120,120,120,120,120,119.9,120,119.9,59,59,59,4.5,3.7,5.9,3.4,0.5,0.5,0.5,0.4,0.4,0.4,0.7,0.7,0.7,0.4,0.4,0.4,-0.1,-0.1,-0.1,-0.1,-0.1,-0.1,-0.1,-0.1,-0.1,0,0,0,0.1,0.3,0.1,0.3,0.7,0.5,0.1,0.3,0.1,0.6,0.9,0.8,0,0,0,0.3,0.4,0.3,0.3,0.4,0.3,0.2,0.3,0.3,0.5,0.6,0.5,0,0,0,0,0,0,0,0,0,0,0,0,0,0,0,0,0,0,0,0,0,0,0,0,1,1,1,2,1,1,178.5,13.5,"02:00:00",324,0,0,0,0,0,0,0,0,0,0,0,0,0,0,0,0,0,0,0,0,30,48,2,1.9,0,0]
["2023-10-18T15:21:25",46,41,46,40,48,44,47,44,29.7,58.5,100,50.1,53.5,53.6,53.5,57.1,-94,-86.3,-89.5,120.7,120.9,120.7,120.9,121,120.9,120.7,120.9,120.7,120.9,121,120.9,60,60.1,60,14.2,8.6999999999999993,14.3,8.8000000000000007,-1.7,-1.4,-1.5,-1.1000000000000001,-0.8,-0.9,-1.7,-1.4,-1.5,-1.1000000000000001,-0.8,-0.9,-0.2,-0.1,-0.2,0,0,0,-0.1,-0.1,-0.1,0,0.1,0.1,121,121.3,121.1,120.9,121.4,121.1,120.7,121.1,120.8,120.7,121.4,120.9,60,60.1,60,13.3,16.3,14.9,13.9,16,15,12.3,15,13.5,8.6,10.1,9.3000000000000007,1.6,2,1.8,1.7,1.9,1.8,1.5,1.8,1.6,1.1000000000000001,1.2,1.1000000000000001,-0.1,0.1,0,0,0.1,0,-0.1,0.1,0,-0.1,0,0,6,2,2,2,2,1,180,14,"05:00:00",0,0,0,0,0,0,0,0,0,0,0,0,0,0,0,0,0,0,0,0,0,30,48,1.7,1.4,0,0,"2023-10-20T01:40:11",36,37,39,36,45,44,45,44,27,73.7,100,1.1000000000000001,53,53,53,57.4,38.6,40.4,39.4,120,120,120,120,120,120,120,120,120,119.9,120,119.9,59,59,59,4.5,3.7,5.9,3.4,0.5,0.5,0.5,0.4,0.4,0.4,0.7,0.7,0.7,0.4,0.4,0.4,-0.1,-0.1,-0.1,-0.1,-0.1,-0.1,-0.1,-0.1,-0.1,0,0,0,0.1,0.2,0.1,0.4,0.7,0.5,0,0.3,0.1,0.7,1,0.8,0,0,0,0.3,0.4,0.3,0.3,0.4,0.3,0.2,0.3,0.3,0.5,0.6,0.5,0,0,0,0,0,0,0,0,0,0,0,0,0,0,0,0,0,0,0,0,0,0,0,0,1,1,1,2,1,1,178.5,13.5,"02:00:00",325,0,0,0,0,0,0,0,0,0,0,0,0,0,0,0,0,0,0,0,0,30,48,2.1,2,0,0]
["2023-10-18T15:22:25",46,41,46,40,48,44,47,44,29.7,58.6,100,50.1,53.5,53.6,53.5,57.1,-91,-84.8,-88.1,120.7,120.9,120.7,120.9,121,120.9,120.7,120.9,120.7,120.9,121,120.9,60,60.1,60,14,8.3000000000000007,14,8.3000000000000007,-1.7,-1.3,-1.5,-1,-0.8,-0.9,-1.7,-1.4,-1.5,-1,-0.8,-0.9,-0.2,-0.2,-0.2,0,0,0,-0.1,0,-0.1,0,0.1,0.1,120.9,121.4,121.1,120.9,121.5,121.1,120.7,121.1,120.8,120.6,121.3,120.9,60,60.1,60,13.3,16.2,14.9,13.2,16,15,11.5,14.7,13.4,8.3000000000000007,9.9,9.3000000000000007,1.6,2,1.8,1.7,1.9,1.8,1.5,1.8,1.6,1.1000000000000001,1.2,1.1000000000000001,0,0.1,0,-0.1,0,0,-0.1,0,0,-0.1,0,0,6,2,2,2,2,1,180,14,"05:00:00",0,0,0,0,0,0,0,0,0,0,0,0,0,0,0,0,0,0,0,0,0,30,48,1.9,1.4,0,0,"2023-10-20T01:41:12",36,37,39,36,45,44,45,44,27,73.7,100,1.1000000000000001,53,53,53,57.4,38.299999999999997,39,38.6,120,120,120,120,120,120,120,120,120,119.9,120,119.9,59,59,59,4.4000000000000004,3.6,5.8,3.3,0.5,0.5,0.5,0.4,0.4,0.4,0.7,0.7,0.7,0.4,0.4,0.4,-0.1,-0.1,-0.1,-0.1,-0.1,-0.1,-0.1,-0.1,-0.1,0,0,0,0.1,0.3,0.1,0.4,0.7,0.5,0.1,0.3,0.1,0.5,0.9,0.7,0,0,0,0.3,0.4,0.3,0.3,0.4,0.3,0.3,0.3,0.3,0.5,0.6,0.5,0,0,0,0,0,0,0,0,0,0,0,0,0,0,0,0,0,0,0,0,0,0,0,0,1,1,1,2,1,1,178.5,13.5,"02:00:00",326,0,0,0,0,0,0,0,0,0,0,0,0,0,0,0,0,0,0,0,0,30,48,2,1.9,0,0]
["2023-10-18T15:23:26",46,41,46,40,48,44,47,44,29.6,58.7,100,50.1,53.5,53.6,53.6,57.2,-95.1,-87.4,-91.6,120.7,120.9,120.7,120.9,121,120.9,120.7,120.9,120.7,120.9,121,120.9,60,60.1,60,14.1,9.3000000000000007,14,9.1999999999999993,-1.7,-1.4,-1.5,-1.1000000000000001,-0.9,-0.9,-1.7,-1.4,-1.5,-1.1000000000000001,-0.9,-0.9,-0.2,-0.2,-0.2,0,0,0,-0.1,-0.1,-0.1,0,0.1,0,120.9,121.3,121.1,120.9,121.5,121.1,120.7,121.1,120.8,120.5,121.4,120.9,60,60.1,60,13.6,16.3,15,13.9,16.2,14.9,12.3,14.7,13.4,8.6,10.1,9.3000000000000007,1.6,2,1.8,1.7,1.9,1.8,1.5,1.8,1.6,1.1000000000000001,1.2,1.1000000000000001,0,0.1,0,-0.1,0.1,0,-0.1,0,0,-0.1,0,0,6,2,2,2,2,1,180,14,"05:00:00",0,0,0,0,0,0,0,0,0,0,0,0,0,0,0,0,0,0,0,0,0,30,48,1.6,1.2,0,0,"2023-10-20T01:42:13",36,37,39,36,45,44,45,44,27,73.599999999999994,100,1.1000000000000001,53,53,53,57.4,38.6,40.200000000000003,39.200000000000003,120,120,120,120,120,120,120,120,120,119.9,120,119.9,59,59,59,4.3,3.8,5.7,3.5,0.5,0.5,0.5,0.4,0.5,0.4,0.7,0.7,0.7,0.4,0.4,0.4,-0.1,-0.1,-0.1,-0.1,-0.1,-0.1,-0.1,-0.1,-0.1,0,0,0,0.1,0.3,0.1,0.4,0.7,0.5,0.1,0.3,0.1,0.6,0.9,0.6,0,0,0,0.3,0.4,0.3,0.3,0.4,0.3,0.3,0.3,0.3,0.5,0.5,0.5,0,0,0,0,0,0,0,0,0,0,0,0,0,0,0,0,0,0,0,0,0,0,0,0,1,1,1,2,1,1,178.5,13.5,"02:00:00",326,0,0,0,0,0,0,0,0,0,0,0,0,0,0,0,0,0,0,0,0,30,48,2.1,2,0,0]
["2023-10-18T15:24:28",46,41,46,40,48,44,47,44,29.5,58.9,100,50.1,53.5,53.6,53.6,57.2,-93.4,-89.3,-91.5,120.7,120.9,120.7,120.9,121.1,120.9,120.7,120.9,120.7,120.9,121,120.9,60,60.1,60,14.2,8.9,14,8.9,-1.7,-1.4,-1.5,-1.1000000000000001,-0.9,-0.9,-1.7,-1.4,-1.5,-1.1000000000000001,-0.9,-0.9,-0.2,-0.2,-0.2,0,0,0,-0.1,-0.1,-0.1,0,0.1,0.1,120.9,121.3,121.1,120.8,121.4,121.1,120.7,121.1,120.8,120.6,121.4,120.9,60,60.1,60,13.5,16.5,14.9,13.7,15.9,14.9,12.1,14.6,13.4,8.6999999999999993,10.1,9.3000000000000007,1.6,2,1.8,1.7,1.9,1.8,1.4,1.8,1.6,1.1000000000000001,1.2,1.1000000000000001,0,0.1,0,-0.1,0.1,0,-0.1,0.1,0,-0.1,0,0,6,2,2,2,2,1,180,14,"05:00:00",0,0,0,0,0,0,0,0,0,0,0,0,0,0,0,0,0,0,0,0,0,30,48,1.7,1.3,0,0,"2023-10-20T01:43:14",36,37,39,36,45,44,45,44,27,73.599999999999994,100,1.1000000000000001,53,53,53,57.4,38.9,40.299999999999997,39.5,120,120,120,120,120,120,120,120,120,119.9,120,119.9,59,59,59,4.5,3.8,5.9,3.4,0.5,0.5,0.5,0.4,0.4,0.4,0.7,0.7,0.7,0.4,0.4,0.4,-0.1,-0.1,-0.1,-0.1,-0.1,-0.1,-0.1,-0.1,-0.1,0,0,0,0.1,0.2,0.1,0.4,0.7,0.5,0.1,0.4,0.1,0.6,0.9,0.7,0,0,0,0.3,0.4,0.3,0.3,0.4,0.3,0.3,0.3,0.3,0.5,0.5,0.5,0,0,0,0,0,0,0,0,0,0,0,0,0,0,0,0,0,0,0,0,0,0,0,0,1,1,1,2,1,1,178.5,13.5,"02:00:00",327,0,0,0,0,0,0,0,0,0,0,0,0,0,0,0,0,0,0,0,0,30,48,2.1,2,0,0]
["2023-10-18T15:25:28",46,41,46,40,48,44,47,44,29.5,59,100,50.1,53.6,53.7,53.6,57.2,-95,-90,-92.3,120.7,120.9,120.7,120.9,121.1,120.9,120.7,120.9,120.7,120.8,121.1,120.9,60,60.1,60,14.3,9.1999999999999993,14.4,9.1999999999999993,-1.7,-1.3,-1.5,-1.1000000000000001,-0.9,-1,-1.7,-1.4,-1.5,-1.1000000000000001,-0.9,-0.9,-0.2,-0.1,-0.1,0,0,0,-0.1,0,0,0.1,0.1,0.1,120.9,121.3,121.1,120.9,121.4,121.1,120.7,121.1,120.8,120.6,121.3,120.9,60,60.1,60,13.2,16.3,15,13.8,16,15,11.9,14.8,13.5,8.5,10,9.3000000000000007,1.6,2,1.8,1.7,1.9,1.8,1.4,1.8,1.6,1.1000000000000001,1.2,1.1000000000000001,-0.1,0.1,0,0,0.1,0,-0.1,0,0,-0.1,0,0,6,2,2,2,2,1,180,14,"05:00:00",0,0,0,0,0,0,0,0,0,0,0,0,0,0,0,0,0,0,0,0,0,30,48,1.6,1.2,0,0,"2023-10-20T01:44:16",36,37,39,36,45,44,45,44,27,73.5,100,1.1000000000000001,53,53,53,57.4,38.9,40,39.4,120,120,120,120,120,120,120,120,120,119.9,120,119.9,59,59,59,4.5,3.7,5.9,3.4,0.5,0.5,0.5,0.4,0.4,0.4,0.7,0.7,0.7,0.4,0.4,0.4,-0.1,-0.1,-0.1,-0.1,-0.1,-0.1,-0.1,-0.1,-0.1,0,0,0,0.1,0.3,0.2,0.4,0.6,0.4,0,0.3,0.2,0.6,1,0.7,0,0,0,0.3,0.4,0.3,0.3,0.4,0.3,0.3,0.3,0.3,0.5,0.6,0.5,0,0,0,0,0,0,0,0,0,0,0,0,0,0,0,0,0,0,0,0,0,0,0,0,1,1,1,2,1,1,178.5,13.5,"02:00:00",328,0,0,0,0,0,0,0,0,0,0,0,0,0,0,0,0,0,0,0,0,30,48,2,2,0,0]
["2023-10-18T15:26:29",46,41,46,40,48,44,47,44,29.5,59.2,100,50.1,53.6,53.7,53.6,57.2,-93.5,-87.7,-91,120.7,121,120.7,120.9,121.1,120.9,120.7,120.9,120.7,120.8,121.1,120.9,60,60.1,60,14.3,9,14.2,9,-1.7,-1.4,-1.5,-1.1000000000000001,-0.8,-0.9,-1.7,-1.4,-1.5,-1.1000000000000001,-0.8,-0.9,-0.2,-0.1,-0.1,0,0,0,-0.1,0,0,0,0.1,0.1,120.9,121.4,121.1,120.9,121.5,121.1,120.7,121.1,120.8,120.6,121.4,120.9,60,60.1,60,13.5,16.3,15,14,15.9,15,12,14.9,13.5,8.6,10,9.3000000000000007,1.6,2,1.8,1.7,1.9,1.8,1.4,1.8,1.6,1,1.2,1.1000000000000001,-0.1,0.1,0,-0.1,0,0,-0.1,0,0,-0.1,0,0,6,2,2,2,2,1,179.9,13.9,"05:00:00",0,0,0,0,0,0,0,0,0,0,0,0,0,0,0,0,0,0,0,0,0,30,48,1.7,1.3,0,0,"2023-10-20T01:45:17",36,37,39,36,45,44,45,44,27,73.400000000000006,100,1.1000000000000001,53,53,53,57.4,38,39,38.5,120,120,120,120,120,120,120,120,120,119.9,120,119.9,59,59,59,4.4000000000000004,3.6,5.8,3.3,0.5,0.5,0.5,0.4,0.4,0.4,0.7,0.7,0.7,0.3,0.4,0.3,-0.1,-0.1,-0.1,-0.1,-0.1,-0.1,-0.1,-0.1,-0.1,0,0,0,0.1,0.2,0.1,0.4,0.6,0.4,0.1,0.3,0.1,0.6,1,0.8,0,0,0,0.3,0.4,0.3,0.3,0.4,0.3,0.3,0.3,0.3,0.5,0.6,0.5,0,0,0,0,0,0,0,0,0,0,0,0,0,0,0,0,0,0,0,0,0,0,0,0,1,1,1,2,1,1,178.5,13.5,"02:00:00",328,0,0,0,0,0,0,0,0,0,0,0,0,0,0,0,0,0,0,0,0,30,48,2,1.9,0,0]
["2023-10-18T15:27:30",46,41,46,40,48,44,47,44,29.4,59.3,100,50.1,53.5,53.6,53.6,57.2,-93.6,-87.7,-90.4,120.7,120.9,120.7,120.9,121,120.9,120.7,120.8,120.7,120.9,121,120.9,60,60.1,60,14,8.9,13.8,9,-1.7,-1.3,-1.5,-1.1000000000000001,-0.8,-0.9,-1.6,-1.4,-1.5,-1.1000000000000001,-0.9,-0.9,-0.2,-0.2,-0.2,0,0,0,-0.2,-0.1,-0.1,0.1,0.1,0.1,120.9,121.3,121,120.9,121.4,121.1,120.7,121.1,120.8,120.6,121.4,120.9,60,60.1,60,13.5,16.2,15,13.8,16,15,12.1,14.6,13.4,8.6999999999999993,10,9.3000000000000007,1.6,2,1.8,1.7,1.9,1.8,1.5,1.7,1.6,1.1000000000000001,1.2,1.1000000000000001,0,0.1,0,0,0,0,0,0,0,-0.1,0,0,6,2,2,2,2,1,179.9,13.9,"05:00:00",0,0,0,0,0,0,0,0,0,0,0,0,0,0,0,0,0,0,0,0,0,30,48,1.7,1.3,0,0,"2023-10-20T01:46:17",36,37,39,36,45,44,45,44,27,73.400000000000006,100,1.1000000000000001,53,53,53,57.4,37.9,38.9,38.299999999999997,120,120,120,120,120,120,120,120,120,119.9,120,119.9,59,59,59,4.3,3.6,5.6,3.3,0.5,0.5,0.5,0.4,0.4,0.4,0.7,0.7,0.7,0.4,0.4,0.4,-0.1,-0.1,-0.1,-0.1,-0.1,-0.1,-0.1,-0.1,-0.1,0,0,0,0.1,0.3,0.1,0.4,0.7,0.5,0,0.3,0.1,0.6,1,0.8,0,0,0,0.3,0.4,0.3,0.3,0.4,0.3,0.3,0.3,0.3,0.5,0.6,0.5,0,0,0,0,0,0,0,0,0,0,0,0,0,0,0,0,0,0,0,0,0,0,0,0,1,1,1,2,1,1,178.5,13.5,"02:00:00",329,0,0,0,0,0,0,0,0,0,0,0,0,0,0,0,0,0,0,0,0,30,48,2,1.9,0,0]
["2023-10-18T15:28:31",46,41,46,40,48,44,47,44,29.4,59.5,100,50.1,53.6,53.7,53.6,57.2,-93.8,-88.3,-91.2,120.7,120.9,120.7,120.9,121.1,120.9,120.7,120.9,120.7,120.9,121.1,120.9,60,60.1,60,14,8.9,14.1,8.9,-1.7,-1.4,-1.5,-1.1000000000000001,-0.9,-0.9,-1.7,-1.4,-1.5,-1.1000000000000001,-0.9,-0.9,-0.2,-0.1,-0.1,0,0,0,-0.1,0,0,0.1,0.1,0.1,120.9,121.3,121,120.8,121.5,121.1,120.7,121.1,120.8,120.6,121.3,120.9,60,60.1,60,13.4,16,14.9,14.1,16.100000000000001,14.9,12,14.8,13.5,8.6999999999999993,9.9,9.3000000000000007,1.6,1.9,1.8,1.7,1.9,1.8,1.5,1.8,1.6,1.1000000000000001,1.2,1.1000000000000001,0,0.1,0,-0.1,0.1,0,-0.1,0.1,0,-0.1,0,0,6,2,2,2,2,1,179.9,13.9,"05:00:00",0,0,0,0,0,0,0,0,0,0,0,0,0,0,0,0,0,0,0,0,0,30,48,1.7,1.3,0,0,"2023-10-20T01:47:18",36,37,39,36,45,44,45,44,27,73.3,100,1.1000000000000001,53,53,53,57.4,38.9,39.700000000000003,39.299999999999997,120,120,120,120,120,120,120,120,120,119.9,120,119.9,59,59,59,4.4000000000000004,3.7,5.8,3.3,0.5,0.5,0.5,0.4,0.4,0.4,0.7,0.7,0.7,0.4,0.4,0.4,-0.1,-0.1,-0.1,-0.1,-0.1,-0.1,-0.1,-0.1,-0.1,0,0,0,0.1,0.3,0.2,0.4,0.7,0.5,0.1,0.3,0.2,0.6,0.9,0.7,0,0,0,0.3,0.4,0.3,0.3,0.4,0.3,0.2,0.3,0.3,0.5,0.6,0.5,0,0,0,0,0,0,0,0,0,0,0,0,0,0,0,0,0,0,0,0,0,0,0,0,1,1,1,2,1,1,178.5,13.5,"02:00:00",329,0,0,0,0,0,0,0,0,0,0,0,0,0,0,0,0,0,0,0,0,30,48,2,2,0,0]
["2023-10-18T15:29:32",46,41,46,40,48,44,47,44,29.4,59.6,100,50.1,53.5,53.7,53.6,57.2,-92.9,-88.2,-90.3,120.7,121,120.8,120.9,121.1,120.9,120.7,120.9,120.7,120.9,121.1,120.9,60,60.1,60,13.9,8.8000000000000007,14,8.6999999999999993,-1.7,-1.4,-1.5,-1.1000000000000001,-0.8,-0.9,-1.7,-1.4,-1.5,-1.1000000000000001,-0.8,-0.9,-0.2,-0.1,-0.1,0,0,0,-0.1,0,0,0,0.1,0.1,120.9,121.4,121.1,120.9,121.5,121.1,120.7,121.1,120.8,120.6,121.3,120.9,60,60.1,60,13.6,16.100000000000001,15,13.6,15.9,15,12,14.8,13.4,8.6999999999999993,9.9,9.3000000000000007,1.6,2,1.8,1.7,1.9,1.8,1.5,1.8,1.6,1,1.2,1.1000000000000001,0,0.1,0,-0.1,0.1,0,-0.1,0,0,-0.1,0,0,6,2,2,2,2,1,179.9,13.9,"05:00:00",0,0,0,0,0,0,0,0,0,0,0,0,0,0,0,0,0,0,0,0,0,30,48,1.7,1.3,0,0,"2023-10-20T01:48:19",36,37,39,36,45,44,45,44,27,73.2,100,1.1000000000000001,53,53,53,57.4,39.1,40.299999999999997,39.5,120,120,120,120,120,120,120,120,120,119.9,120,119.9,59,59,59,4.4000000000000004,3.8,5.8,3.5,0.5,0.5,0.5,0.4,0.5,0.4,0.7,0.7,0.7,0.4,0.4,0.4,-0.1,-0.1,-0.1,-0.1,-0.1,-0.1,-0.1,-0.1,-0.1,0,0,0,0.1,0.3,0.2,0.4,0.7,0.5,0.1,0.3,0.2,0.6,0.9,0.7,0,0,0,0.3,0.4,0.3,0.3,0.4,0.3,0.2,0.3,0.3,0.5,0.6,0.5,0,0,0,0,0,0,0,0,0,0,0,0,0,0,0,0,0,0,0,0,0,0,0,0,1,1,1,2,1,1,178.5,13.5,"02:00:00",330,0,0,0,0,0,0,0,0,0,0,0,0,0,0,0,0,0,0,0,0,30,48,2.1,2,0,0]
["2023-10-18T15:30:33",46,41,46,40,48,44,48,44,29.4,59.7,100,50.1,53.5,53.7,53.6,57.2,-93.5,-89,-91.1,120.7,120.8,120.7,120.9,121,120.9,120.7,120.8,120.7,120.9,121.1,120.9,60,60.1,60,13.9,9.3000000000000007,14.1,9,-1.7,-1.3,-1.5,-1.1000000000000001,-0.9,-0.9,-1.7,-1.4,-1.5,-1.1000000000000001,-0.9,-0.9,-0.2,-0.2,-0.2,0,0,0,-0.1,-0.1,-0.1,0.1,0.1,0.1,120.9,121.4,121.1,120.9,121.5,121.1,120.7,121.1,120.8,120.6,121.4,120.9,60,60.1,60,13.6,16.100000000000001,14.9,14,15.9,14.9,12,14.4,13.4,8.6,10,9.3000000000000007,1.6,1.9,1.8,1.7,1.9,1.8,1.5,1.7,1.6,1.1000000000000001,1.2,1.1000000000000001,0,0.1,0,-0.1,0,0,-0.1,0,0,-0.1,0,0,6,2,2,2,2,1,179.9,13.9,"05:00:00",0,0,0,0,0,0,0,0,0,0,0,0,0,0,0,0,0,0,0,0,0,30,48,1.6,1.3,0,0,"2023-10-20T01:49:20",36,37,39,36,45,44,45,44,27,73.2,100,1.1000000000000001,53,53,53,57.4,37.1,39.6,38.200000000000003,120,120,120,120,120,120,120,120,120,119.9,120,119.9,59,59,59,4.4000000000000004,3.6,5.8,3.3,0.5,0.5,0.5,0.4,0.4,0.4,0.7,0.7,0.7,0.3,0.4,0.3,-0.1,-0.1,-0.1,-0.1,-0.1,-0.1,-0.1,-0.1,-0.1,0,0,0,0.1,0.3,0.2,0.4,0.6,0.4,0.1,0.4,0.1,0.7,1,0.8,0,0,0,0.3,0.4,0.3,0.3,0.4,0.3,0.3,0.3,0.3,0.5,0.6,0.5,0,0,0,0,0,0,0,0,0,0,0,0,0,0,0,0,0,0,0,0,0,0,0,0,1,1,1,2,1,1,178.5,13.5,"02:00:00",331,0,0,0,0,0,0,0,0,0,0,0,0,0,0,0,0,0,0,0,0,30,48,2,1.9,0,0]
["2023-10-18T15:31:34",46,42,46,40,48,44,48,44,29.4,59.9,100,50.1,53.6,53.7,53.6,57.2,-95.2,-88.8,-91.8,120.7,120.9,120.7,120.8,121,120.9,120.7,120.9,120.7,120.9,121,120.9,60,60.1,60,13.9,9.5,13.8,9.4,-1.7,-1.3,-1.5,-1.1000000000000001,-0.9,-1,-1.7,-1.4,-1.5,-1.1000000000000001,-0.9,-1,-0.2,-0.1,-0.1,0,0,0,-0.1,0,0,0.1,0.1,0.1,120.9,121.4,121.1,120.8,121.4,121.1,120.7,121.1,120.8,120.6,121.4,120.9,60,60.1,60,13.3,16.399999999999999,15,13.7,15.9,14.9,11.9,14.7,13.4,8.8000000000000007,10,9.3000000000000007,1.6,2,1.8,1.7,1.9,1.8,1.5,1.7,1.6,1,1.2,1.1000000000000001,0,0.1,0,0,0,0,-0.1,0,0,-0.1,0,0,6,2,2,2,2,1,179.9,13.9,"05:00:00",0,0,0,0,0,0,0,0,0,0,0,0,0,0,0,0,0,0,0,0,0,30,48,1.6,1.2,0,0,"2023-10-20T01:50:21",36,37,39,36,45,44,45,44,27,73.099999999999994,100,1.1000000000000001,53,53,53,57.4,37.1,39.700000000000003,38.299999999999997,120,120,120,120,120,120,120,120,120,119.9,120,119.9,59,59,59,4.4000000000000004,3.6,5.8,3.3,0.5,0.5,0.5,0.4,0.4,0.4,0.7,0.7,0.7,0.3,0.4,0.3,-0.1,-0.1,-0.1,-0.1,-0.1,-0.1,-0.1,-0.1,-0.1,0,0,0,0.1,0.3,0.1,0.3,0.5,0.4,0.1,0.3,0.2,0.6,1,0.7,0,0,0,0.3,0.4,0.3,0.3,0.4,0.3,0.2,0.3,0.3,0.5,0.6,0.5,0,0,0,0,0,0,0,0,0,0,0,0,0,0,0,0,0,0,0,0,0,0,0,0,1,1,1,2,1,1,178.5,13.5,"02:00:00",331,0,0,0,0,0,0,0,0,0,0,0,0,0,0,0,0,0,0,0,0,30,48,2,1.9,0,0]
["2023-10-18T15:32:35",46,42,46,40,48,44,48,44,29.3,60,100,50.1,53.5,53.7,53.6,57.2,-93.6,-85.9,-89.6,120.7,120.9,120.8,120.8,121,120.9,120.7,120.9,120.7,120.8,121.1,120.9,60,60.1,60,13.9,9,14.1,9,-1.7,-1.4,-1.5,-1.1000000000000001,-0.8,-0.9,-1.7,-1.4,-1.5,-1.1000000000000001,-0.8,-0.9,-0.2,-0.1,-0.1,0,0,0,-0.1,0,0,0,0.1,0.1,121,121.3,121.1,120.9,121.5,121.1,120.7,121.1,120.9,120.6,121.4,120.9,60,60.1,60,13.4,16.2,14.9,13.7,15.9,15,11.9,14.6,13.4,8.5,9.9,9.3000000000000007,1.6,2,1.8,1.7,1.9,1.8,1.5,1.8,1.6,1,1.2,1.1000000000000001,0,0.1,0,0,0.1,0,-0.1,0,0,-0.1,0,0,6,2,2,2,2,1,179.9,13.9,"05:00:00",0,0,0,0,0,0,0,0,0,0,0,0,0,0,0,0,0,0,0,0,0,30,48,2,1.4,0,0,"2023-10-20T01:51:22",36,37,39,36,45,44,45,44,27,73.099999999999994,100,1.1000000000000001,53,53,53,57.4,39.4,40.4,40,120,120,120,120,120,120,120,120,120,119.9,120,119.9,59,59,59,4.5,3.7,5.9,3.4,0.5,0.5,0.5,0.4,0.4,0.4,0.7,0.7,0.7,0.4,0.4,0.4,-0.1,-0.1,-0.1,-0.1,-0.1,-0.1,-0.1,-0.1,-0.1,0,0,0,0.1,0.2,0.1,0.3,0.5,0.4,0.1,0.3,0.1,0.5,1,0.7,0,0,0,0.3,0.4,0.3,0.3,0.3,0.3,0.2,0.3,0.3,0.5,0.6,0.5,0,0,0,0,0,0,0,0,0,0,0,0,0,0,0,0,0,0,0,0,0,0,0,0,1,1,1,2,1,1,178.5,13.5,"02:00:00",332,0,0,0,0,0,0,0,0,0,0,0,0,0,0,0,0,0,0,0,0,30,48,2.1,2,0,0]
["2023-10-18T15:33:36",46,41,46,40,48,44,48,44,29.3,60.2,100,50.1,53.5,53.7,53.6,57.2,-96.9,-87.7,-92,120.7,120.9,120.7,120.9,121,120.9,120.7,120.8,120.7,120.9,121.1,120.9,60,60.1,60,14.2,9.6999999999999993,14.1,9.6999999999999993,-1.7,-1.4,-1.5,-1.1000000000000001,-0.9,-0.9,-1.7,-1.4,-1.5,-1.2,-0.8,-0.9,-0.2,-0.2,-0.2,0,0,0,-0.1,-0.1,-0.1,0,0.1,0.1,120.9,121.3,121.1,120.9,121.5,121.1,120.7,121.1,120.8,120.6,121.3,120.9,60,60.1,60,13.5,16.3,15,13.8,15.8,14.9,12.5,14.6,13.4,8.8000000000000007,10,9.3000000000000007,1.6,2,1.8,1.7,1.9,1.8,1.5,1.8,1.6,1.1000000000000001,1.2,1.1000000000000001,0,0,0,0,0.1,0,-0.1,0.1,0,-0.1,0,0,6,2,2,2,2,1,179.9,13.9,"05:00:00",0,0,0,0,0,0,0,0,0,0,0,0,0,0,0,0,0,0,0,0,0,30,48,1.7,1.2,0,0,"2023-10-20T01:52:22",36,37,39,36,45,44,45,44,27,73,100,1.1000000000000001,53,53,53,57.4,39.200000000000003,40.299999999999997,39.9,120,120,120,120,120,120,120,120,120,119.9,120,119.9,59,59,59,4.5,3.9,5.8,3.6,0.5,0.5,0.5,0.4,0.5,0.4,0.7,0.7,0.7,0.4,0.4,0.4,-0.1,-0.1,-0.1,-0.1,-0.1,-0.1,-0.1,-0.1,-0.1,0,0,0,0.1,0.3,0.1,0.3,0.5,0.4,0.1,0.3,0.2,0.6,1,0.8,0,0,0,0.3,0.4,0.3,0.3,0.4,0.3,0.2,0.3,0.3,0.5,0.6,0.5,0,0,0,0,0,0,0,0,0,0,0,0,0,0,0,0,0,0,0,0,0,0,0,0,1,1,1,2,1,1,178.5,13.5,"02:00:00",333,0,0,0,0,0,0,0,0,0,0,0,0,0,0,0,0,0,0,0,0,30,48,2.1,2,0,0]
["2023-10-18T15:34:37",46,42,46,40,48,44,48,44,29.3,60.3,100,50.1,53.6,53.7,53.6,57.2,-96.7,-91.3,-93.6,120.7,120.9,120.7,120.9,121,120.9,120.7,120.9,120.7,120.8,121,120.9,60,60.1,60,13.9,10.199999999999999,13.7,10.1,-1.7,-1.3,-1.4,-1.2,-1,-1,-1.7,-1.3,-1.5,-1.2,-1,-1,-0.2,-0.2,-0.2,0,0,0,-0.1,-0.1,-0.1,0.1,0.1,0.1,121,121.3,121.1,120.9,121.5,121.1,120.7,121.1,120.9,120.6,121.4,120.9,60,60.1,60,13.2,16.399999999999999,14.9,13.7,15.9,14.9,11.8,14.6,13.2,8.5,10.199999999999999,9.4,1.6,2,1.8,1.6,1.9,1.8,1.5,1.7,1.5,1.1000000000000001,1.2,1.1000000000000001,-0.1,0,0,-0.1,0.1,0,-0.1,0,0,-0.1,0,0,6,2,2,2,2,1,179.9,13.9,"05:00:00",0,0,0,0,0,0,0,0,0,0,0,0,0,0,0,0,0,0,0,0,0,30,48,1.5,1.1000000000000001,0,0,"2023-10-20T01:53:23",36,37,39,36,45,44,45,44,27,72.900000000000006,100,1.1000000000000001,53,53,53,57.4,37.200000000000003,40,38,120,120,120,120,120,120,120,120,120,119.9,120,119.9,59,59,59,4.3,3.8,5.6,3.5,0.5,0.5,0.5,0.4,0.5,0.4,0.6,0.7,0.6,0.4,0.4,0.4,-0.1,-0.1,-0.1,-0.1,-0.1,-0.1,-0.1,-0.1,-0.1,0,0,0,0.1,0.4,0.2,0.4,0.5,0.4,0.1,0.4,0.2,0.6,1,0.8,0,0,0,0.3,0.4,0.3,0.3,0.4,0.3,0.2,0.3,0.2,0.5,0.6,0.5,0,0,0,0,0,0,0,0,0,0,0,0,0,0,0,0,0,0,0,0,0,0,0,0,1,1,1,2,1,1,178.5,13.5,"02:00:00",333,0,0,0,0,0,0,0,0,0,0,0,0,0,0,0,0,0,0,0,0,30,48,2,1.9,0,0]
["2023-10-18T15:40:42",46,42,46,41,49,44,48,44,29.4,61.2,100,50.1,53.5,53.7,53.5,57.2,-96.3,-66.099999999999994,-82.7,120.7,121,120.8,120.6,121.1,120.8,120.7,121,120.8,120.6,121,120.8,60,60.2,60,14,9.9,13.9,9.9,-1.7,-0.7,-1.2,-1.2,-0.9,-1,-1.7,-0.8,-1.2,-1.2,-0.9,-1,-0.2,-0.1,-0.2,-0.1,0,0,-0.2,-0.1,-0.1,0,0.1,0,120.9,121.5,121.2,120.7,121.5,121,120.7,121.3,120.9,120.5,121.3,120.8,60,60.2,60,13.6,18.5,15,13.4,16,14.9,9.4,14.5,12.1,8.4,10.199999999999999,9.3000000000000007,1.6,2.2000000000000002,1.8,1.6,1.9,1.8,1.2,1.8,1.4,1,1.2,1.1000000000000001,-0.1,0.1,0,-0.1,0.1,0,-0.1,0,0,-0.1,0,0,6,2,2,2,2,1,179.9,13.9,"05:00:00",0,0,0,0,0,0,0,0,0,0,0,0,0,0,0,0,0,0,0,0,0,30,48,2.5,1.6,0,0,"2023-10-20T01:59:28",36,37,39,36,45,44,45,44,27,72.599999999999994,100,1.1000000000000001,53,53,53,57.4,37.799999999999997,39.799999999999997,38.299999999999997,120,120,120,120,120,120,120,120,120,119.9,120,119.9,59,59,59,4.5,3.7,5.8,3.4,0.5,0.5,0.5,0.4,0.4,0.4,0.7,0.7,0.7,0.3,0.4,0.3,-0.1,-0.1,-0.1,-0.1,-0.1,-0.1,-0.1,-0.1,-0.1,0,0,0,0.1,0.4,0.2,0.4,0.8,0.5,0.1,0.3,0.2,0.6,1,0.7,0,0,0,0.3,0.4,0.3,0.3,0.4,0.3,0.2,0.3,0.2,0.5,0.6,0.5,0,0,0,0,0,0,0,0,0,0,0,0,0,0,0,0,0,0,0,0,0,0,0,0,1,1,1,2,1,1,178.5,13.5,"02:00:00",337,0,0,0,0,0,0,0,0,0,0,0,0,0,0,0,0,0,0,0,0,30,48,2,1.9,0,0]
["2023-10-18T15:51:51",44,42,44,41,49,44,48,44,29.3,62.4,100,50.1,53.5,53.6,53.5,57.2,-71.7,-66.3,-69.099999999999994,120.9,121.2,121,120.6,120.9,120.7,120.9,121.2,121,120.6,120.9,120.7,60,60.1,60,8.4,9.9,8.1999999999999993,9.9,-1,-0.6,-0.8,-1.2,-0.9,-1,-1,-0.7,-0.8,-1.2,-0.9,-1,-0.3,-0.1,-0.1,-0.1,0,0,-0.2,-0.1,-0.1,0,0.2,0,121.1,121.7,121.3,120.6,121.3,120.9,120.9,121.5,121.1,120.4,121.2,120.7,60,60.1,60,13.2,16.100000000000001,14.9,12.8,16.3,14.9,8.9,11.6,10.5,8.4,10.4,9.4,1.6,1.9,1.8,1.6,2,1.7,1.1000000000000001,1.4,1.2,1,1.2,1.1000000000000001,-0.1,0.1,0,-0.2,0.2,0,-0.2,0.1,0,-0.1,0.1,0,6,2,2,2,2,1,179.9,13.9,"05:00:00",0,0,0,0,0,0,0,0,0,0,0,0,0,0,0,0,0,0,0,0,0,30,48,2.7,2.1,0,0,"2023-10-20T02:10:36",36,38,38,37,45,44,45,44,27,71.900000000000006,100,1.1000000000000001,52.9,53,52.9,57.4,27.4,60,47.9,120,120,120,120,120.1,120,120,120,120,120,120.1,120,59,59,59,2.8,11.7,2.9,11.1,0.2,0.2,0.2,0.5,1.3,0.9,0.3,0.3,0.3,0.4,1.3,0.9,-0.3,-0.2,-0.2,-0.1,0.4,0.2,-0.2,-0.2,-0.2,0,0.5,0.2,0.1,0.3,0.1,0.4,0.6,0.4,0.1,0.4,0.2,0.6,1,0.8,0,0,0,0.3,0.4,0.3,0.3,0.4,0.3,0.2,0.3,0.2,0.5,0.6,0.5,0,0,0,0,0,0,0,0,0,0,0,0,0,0,0,0,0,0,0,0,0,0,0,0,1,1,1,2,1,1,178.5,13.5,"02:00:00",344,0,0,0,0,0,0,0,0,0,0,0,0,0,0,0,0,0,0,0,0,30,48,3.1,2.2999999999999998,0,0]
["2023-10-18T15:56:56",44,42,44,41,48,44,48,45,29.4,62.9,100,50.1,53.4,53.6,53.5,57.2,-71.5,-52.4,-65.7,120.7,121.3,121,120.6,121,120.7,120.7,121.4,121,120.6,121,120.7,60,60.1,60,8.6,9.8000000000000007,8.9,9.8000000000000007,-1,-0.7,-0.8,-1.2,-0.6,-0.9,-1,-0.7,-0.8,-1.2,-0.5,-0.9,-0.4,-0.1,-0.2,-0.1,0.2,0,-0.5,0,-0.1,0,0.4,0.1,121,121.6,121.3,120.6,121.3,120.9,120.8,121.7,121.1,120.4,121.2,120.7,60,60.1,60,13.7,16.399999999999999,14.9,12.9,18.7,14.9,9.5,11.9,10.5,7.9,11.1,9.3000000000000007,1.7,2,1.8,1.6,2.1,1.7,1.2,1.4,1.2,0.9,1.3,1.1000000000000001,-0.1,0.4,0,-0.2,0.1,0,-0.1,0,0,-0.1,0.3,0,6,2,2,2,2,1,179.9,13.9,"05:00:00",0,0,0,0,0,0,0,0,0,0,0,0,0,0,0,0,0,0,0,0,0,30,48,3.4,2.2999999999999998,0,0,"2023-10-20T02:15:42",36,37,38,36,45,44,45,44,27,71.599999999999994,100,1.1000000000000001,52.9,53,52.9,57.4,40.6,42.4,41,120,120,120,120,120,120,120,120,120,119.9,120,119.9,59,59,59,4.5,4.0999999999999996,5.8,3.8,0.5,0.5,0.5,0.5,0.5,0.5,0.7,0.7,0.7,0.4,0.5,0.4,-0.1,-0.1,-0.1,-0.1,-0.1,-0.1,-0.1,-0.1,-0.1,0,0,0,0.1,0.2,0.1,0.4,0.8,0.5,0.1,0.3,0.1,0.6,1,0.8,0,0,0,0.3,0.4,0.3,0.3,0.4,0.3,0.2,0.3,0.3,0.5,0.6,0.5,0,0,0,0,0,0,0,0,0,0,0,0,0,0,0,0,0,0,0,0,0,0,0,0,1,1,1,2,1,1,178.5,13.5,"02:00:00",348,0,0,0,0,0,0,0,0,0,0,0,0,0,0,0,0,0,0,0,0,30,48,2.2000000000000002,2.1,0,0]
["2023-10-18T16:08:06",43,42,44,41,48,44,48,45,29.3,64.2,100,50.1,53.5,53.6,53.5,57.2,-70.599999999999994,-66.2,-68.099999999999994,120.9,121.2,121,120.6,120.9,120.7,120.9,121.2,121,120.6,120.8,120.7,60,60.1,60,8.3000000000000007,9.8000000000000007,7.9,9.8000000000000007,-1,-0.7,-0.8,-1.2,-0.9,-1,-0.9,-0.7,-0.8,-1.2,-0.9,-1,-0.3,-0.1,-0.2,-0.1,0.1,0,-0.2,0,-0.1,-0.1,0.2,0,121.1,121.6,121.3,120.6,121.3,120.9,120.9,121.4,121.1,120.3,121.1,120.7,60,60.1,60,13.6,16.100000000000001,14.9,13.7,16.2,14.9,9.1999999999999993,11.4,10.4,8.5,10.3,9.3000000000000007,1.7,1.9,1.8,1.6,2,1.8,1.1000000000000001,1.4,1.2,1,1.2,1.1000000000000001,-0.1,0.2,0,-0.1,0.2,0,-0.2,0.1,0,-0.2,0.1,0,6,2,2,2,2,1,179.9,13.9,"05:00:00",0,0,0,0,0,0,0,0,0,0,0,0,0,0,0,0,0,0,0,0,0,30,48,2.6,2.2000000000000002,0,0,"2023-10-20T02:26:52",36,37,39,36,45,44,45,44,26.9,70.8,100,1.1000000000000001,52.9,52.9,52.9,57.4,42.9,44.4,43.7,120,120,120,120,120,120,120,120,120,120,120,120,59,59,59,4.5,4.5999999999999996,5.8,4.2,0.5,0.5,0.5,0.5,0.5,0.5,0.7,0.7,0.7,0.5,0.5,0.5,-0.1,-0.1,-0.1,-0.1,-0.1,-0.1,-0.1,-0.1,-0.1,0,0,0,0.1,0.3,0.1,0.4,0.6,0.4,0.1,0.3,0.2,0.6,1.1000000000000001,0.8,0,0,0,0.3,0.4,0.3,0.3,0.4,0.3,0.2,0.3,0.2,0.5,0.6,0.5,0,0,0,0,0,0,0,0,0,0,0,0,0,0,0,0,0,0,0,0,0,0,0,0,1,1,1,2,1,1,178.5,13.5,"02:00:00",356,0,0,0,0,0,0,0,0,0,0,0,0,0,0,0,0,0,0,0,0,30,48,2.2999999999999998,2.2000000000000002,0,0]
["2023-10-18T16:18:16",44,42,44,41,49,45,48,45,29.3,65.3,100,50.1,53.5,53.7,53.5,57.2,-92,-60.4,-75.400000000000006,120.7,121.1,120.8,120.6,121.1,120.8,120.7,121.1,120.8,120.6,121.1,120.8,60,60.2,60,13.9,8.6,14.2,8.6,-1.7,-0.7,-1.1000000000000001,-1,-0.8,-0.9,-1.7,-0.7,-1.1000000000000001,-1,-0.8,-0.9,-0.3,-0.1,-0.2,-0.1,0,0,-0.2,-0.1,-0.1,0,0.2,0.1,120.9,121.5,121.1,120.7,121.6,121,120.7,121.3,120.9,120.5,121.3,120.8,60,60.2,60,13.6,17.7,15,13.8,16.2,14.9,9.4,14.5,11.9,8.1,10.1,9.1999999999999993,1.6,2.1,1.8,1.6,1.9,1.7,1.2,1.8,1.4,1,1.2,1.1000000000000001,-0.1,0.1,0,-0.1,0.1,0,-0.1,0.1,0,-0.1,0,0,6,2,2,2,2,1,179.9,13.9,"05:00:00",0,0,0,0,0,0,0,0,0,0,0,0,0,0,0,0,0,0,0,0,0,30,48,2.8,2,0,0,"2023-10-20T02:37:02",36,37,38,36,45,44,45,44,26.9,70.2,100,1.2,52.8,52.9,52.8,57.4,42.2,42.9,42.2,120,120,120,120,120,120,120,120,120,119.9,120,119.9,59,59,59,4.4000000000000004,4.5999999999999996,5.7,4.2,0.5,0.5,0.5,0.5,0.5,0.5,0.7,0.7,0.7,0.5,0.5,0.5,-0.1,-0.1,-0.1,-0.1,-0.1,-0.1,-0.1,-0.1,-0.1,0,0,0,0.1,0.2,0.1,0.5,0.7,0.6,0.1,0.3,0.2,0.6,0.9,0.7,0,0,0,0.3,0.4,0.3,0.3,0.4,0.4,0.2,0.3,0.3,0.5,0.6,0.5,0,0,0,0,0,0,0,0,0,0,0,0,0,0,0,0,0,0,0,0,0,0,0,0,1,1,1,2,1,1,178.5,13.5,"02:00:00",362,0,0,0,0,0,0,0,0,0,0,0,0,0,0,0,0,0,0,0,0,30,48,2.2000000000000002,2.1,0,0]
["2023-10-18T16:29:26",44,42,44,41,49,45,48,45,29.1,66.5,100,50.1,53.6,53.7,53.6,57.2,-94.8,-87.4,-91.9,120.8,121,120.8,120.9,121.1,120.9,120.7,120.9,120.8,120.9,121.1,120.9,59.9,60.1,60,14.2,8.6999999999999993,14.4,8.8000000000000007,-1.7,-1.4,-1.5,-1.1000000000000001,-0.9,-0.9,-1.7,-1.4,-1.5,-1.1000000000000001,-0.9,-0.9,-0.2,-0.1,-0.1,0,0,0,-0.1,0,0,0.1,0.1,0.1,121,121.4,121.1,120.9,121.4,121.1,120.7,121.1,120.8,120.6,121.3,120.9,60,60.1,60,13.7,16.2,15,14,15.8,15,12.5,14.8,13.6,8.6999999999999993,10,9.3000000000000007,1.7,2,1.8,1.7,1.9,1.8,1.5,1.8,1.6,1.1000000000000001,1.2,1.1000000000000001,0,0,0,0,0,0,-0.1,0,0,-0.1,0,0,6,2,2,2,2,1,179.9,13.9,"05:00:00",0,0,0,0,0,0,0,0,0,0,0,0,0,0,0,0,0,0,0,0,0,30,48,1.6,1.3,0,0,"2023-10-20T02:48:11",36,37,38,36,45,44,45,44,26.8,69.5,100,1.2,52.8,52.9,52.8,57.4,27.2,39.4,29.7,119.9,120,120,120,120,120,119.9,120,119.9,119.9,120,119.9,59,59,59,7.5,4.0999999999999996,7.9,3.8,0.2,0.8,0.2,0.4,0.5,0.4,0.3,0.6,0.3,0.4,0.5,0.4,-0.3,0.2,-0.2,-0.1,-0.1,-0.1,-0.2,0,-0.1,0,0,0,0.1,0.2,0.1,0.5,0.7,0.6,0.1,0.3,0.1,0.7,1.1000000000000001,0.8,0,0,0,0.3,0.4,0.3,0.3,0.4,0.3,0.2,0.3,0.3,0.5,0.6,0.5,0,0,0,0,0,0,0,0,0,0,0,0,0,0,0,0,0,0,0,0,0,0,0,0,1,1,1,2,1,1,178.5,13.5,"02:00:00",369,0,0,0,0,0,0,0,0,0,0,0,0,0,0,0,0,0,0,0,0,30,48,2,1.4,0,0]
["2023-10-18T16:40:36",46,42,45,41,49,45,49,45,29.3,68.099999999999994,100,50.1,53.6,53.7,53.6,57.2,-93.1,-87.8,-90.3,120.7,120.9,120.7,120.9,121,120.9,120.7,120.9,120.7,120.9,121,120.9,60,60.1,60,14.3,8.6,14.4,8.6,-1.7,-1.4,-1.5,-1,-0.8,-0.9,-1.7,-1.4,-1.5,-1,-0.8,-0.9,-0.2,-0.1,-0.1,0,0,0,-0.1,0,0,0.1,0.1,0.1,120.9,121.3,121.1,120.9,121.5,121.1,120.7,121.1,120.8,120.7,121.4,120.9,60,60.1,60,13.6,16.100000000000001,14.9,14.1,15.8,15,12.3,14.8,13.6,8.6,9.6999999999999993,9.1999999999999993,1.6,1.9,1.8,1.7,1.9,1.8,1.5,1.8,1.6,1.1000000000000001,1.2,1.1000000000000001,-0.1,0,0,-0.1,0.1,0,-0.1,0,0,-0.1,0,0,6,2,2,2,2,1,179.9,13.9,"05:00:00",0,0,0,0,0,0,0,0,0,0,0,0,0,0,0,0,0,0,0,0,0,30,48,1.8,1.3,0,0,"2023-10-20T02:59:20",36,37,38,35,45,44,45,44,26.8,68.8,100,1.2,52.8,52.8,52.8,57.4,39.299999999999997,40.4,39.6,120,120,120,120,120,120,120,120,120,119.9,120,119.9,59,59,59,4.5,3.7,5.8,3.4,0.5,0.5,0.5,0.4,0.4,0.4,0.7,0.7,0.7,0.4,0.4,0.4,-0.1,-0.1,-0.1,-0.1,-0.1,-0.1,-0.1,-0.1,-0.1,0,0,0,0.1,0.3,0.2,0.4,0.6,0.4,0,0.3,0.1,0.6,1,0.8,0,0,0,0.3,0.3,0.3,0.3,0.4,0.3,0.3,0.3,0.3,0.5,0.6,0.5,0,0,0,0,0,0,0,0,0,0,0,0,0,0,0,0,0,0,0,0,0,0,0,0,1,1,1,2,1,1,178.5,13.5,"02:00:00",377,0,0,0,0,0,0,0,0,0,0,0,0,0,0,0,0,0,0,0,0,30,48,2,2,0,0]
["2023-10-18T16:55:50",46,42,46,41,50,45,49,45,29.4,70.2,100,50.1,53.6,53.7,53.6,57.2,-95.4,-90.4,-92.6,120.7,120.9,120.8,120.9,121,120.9,120.7,120.9,120.7,120.9,121,120.9,60,60.1,60,14.7,9.1,14.5,9,-1.8,-1.4,-1.5,-1.1000000000000001,-0.9,-0.9,-1.7,-1.5,-1.5,-1.1000000000000001,-0.9,-0.9,-0.2,-0.1,-0.1,0,0,0,-0.1,0,0,0.1,0.1,0.1,120.9,121.4,121.1,120.8,121.5,121.1,120.7,121.1,120.8,120.6,121.4,120.9,60,60.1,60,13.7,16.5,14.9,13.9,15.8,15,12.5,15.3,13.7,8.6,9.8000000000000007,9.3000000000000007,1.7,2,1.8,1.7,1.9,1.8,1.5,1.8,1.6,1,1.2,1.1000000000000001,-0.1,0.1,0,0,0.1,0,-0.1,0,0,-0.1,0,0,6,2,2,2,2,1,179.9,13.9,"05:00:00",0,0,0,0,0,0,0,0,0,0,0,0,0,0,0,0,0,0,0,0,0,30,48,1.6,1.2,0,0,"2023-10-20T03:14:32",36,36,38,35,45,44,45,43,26.7,68,100,1.2,52.7,52.7,52.7,57.4,38.700000000000003,39.9,39.5,120,120,120,120,120,120,120,120,120,120,120,120,59,59,59,4.4000000000000004,3.6,5.7,3.3,0.5,0.5,0.5,0.4,0.4,0.4,0.7,0.7,0.7,0.4,0.4,0.4,-0.1,-0.1,-0.1,-0.1,-0.1,-0.1,-0.1,-0.1,-0.1,0,0,0,0.1,0.2,0.1,0.4,0.6,0.4,0,0.3,0.1,0.6,1,0.7,0,0,0,0.3,0.4,0.3,0.3,0.4,0.3,0.3,0.3,0.3,0.5,0.6,0.5,0,0,0,0,0,0,0,0,0,0,0,0,0,0,0,0,0,0,0,0,0,0,0,0,1,1,1,2,1,1,178.5,13.5,"02:00:00",386,0,0,0,0,0,0,0,0,0,0,0,0,0,0,0,0,0,0,0,0,30,48,2,2,0,0]
["2023-10-18T16:58:52",47,42,46,41,50,45,50,45,29.4,70.599999999999994,100,50.1,53.6,53.7,53.6,57.2,-95.5,-90.3,-92.6,120.7,120.9,120.8,120.9,121,120.9,120.7,120.9,120.8,120.8,121,120.9,60,60.1,60,14,9.5,14.2,9.3000000000000007,-1.7,-1.4,-1.5,-1.1000000000000001,-0.9,-1,-1.7,-1.4,-1.5,-1.1000000000000001,-0.9,-1,-0.2,-0.1,-0.1,0,0,0,-0.1,0,0,0,0.1,0.1,121,121.3,121.1,120.9,121.4,121.1,120.8,121.1,120.9,120.6,121.3,120.9,60,60.1,60,13.8,16.2,14.9,13.9,16,15,12.2,14.5,13.4,8.6999999999999993,10.1,9.3000000000000007,1.7,2,1.8,1.7,1.9,1.8,1.5,1.8,1.6,1,1.2,1.1000000000000001,-0.1,0.1,0,0,0.1,0,-0.1,0,0,-0.1,0,0,6,2,2,2,2,1,179.9,13.9,"05:00:00",0,0,0,0,0,0,0,0,0,0,0,0,0,0,0,0,0,0,0,0,0,30,48,1.5,1.2,0,0,"2023-10-20T03:17:34",36,36,38,35,45,44,45,43,26.7,67.900000000000006,100,1.2,52.8,52.8,52.8,57.4,24,28.1,25,120,120,120,120,120,120,120,120,120,119.9,120,119.9,59,59,59,2.8,3.7,3.2,3.4,0.2,0.3,0.2,0.4,0.4,0.4,0.3,0.3,0.3,0.3,0.4,0.3,-0.3,-0.2,-0.2,-0.1,-0.1,-0.1,-0.2,-0.1,-0.2,0,0,0,0.1,0.3,0.1,0.4,0.6,0.4,0.1,0.3,0.2,0.6,1,0.8,0,0,0,0.3,0.4,0.3,0.3,0.4,0.3,0.2,0.3,0.3,0.5,0.6,0.5,0,0,0,0,0,0,0,0,0,0,0,0,0,0,0,0,0,0,0,0,0,0,0,0,1,1,1,2,1,1,178.5,13.5,"02:00:00",387,0,0,0,0,0,0,0,0,0,0,0,0,0,0,0,0,0,0,0,0,30,48,1.4,1.2,0,0]
["2023-10-18T17:13:03",47,43,47,42,51,45,50,46,29.3,72.7,100,50.2,53.6,53.7,53.6,57.2,-99.2,-93.9,-96.1,120.7,120.9,120.8,120.8,121,120.9,120.7,120.9,120.8,120.9,121,120.9,60,60.1,60,14.2,9.9,14.3,9.8000000000000007,-1.7,-1.4,-1.5,-1.2,-1,-1,-1.7,-1.4,-1.5,-1.2,-1,-1,-0.2,-0.1,-0.1,0,0,0,-0.1,0,0,0.1,0.1,0.1,120.9,121.4,121.1,120.8,121.5,121,120.7,121.1,120.9,120.5,121.2,120.8,60,60.1,60,13.6,16.399999999999999,15,13.7,16,15,12.1,14.9,13.6,9.1999999999999993,10.5,9.8000000000000007,1.6,2,1.8,1.7,1.9,1.8,1.5,1.8,1.6,1.1000000000000001,1.3,1.1000000000000001,0,0,0,0,0,0,-0.1,0,0,-0.1,0,0,6,2,2,2,2,1,179.9,13.9,"05:00:00",0,0,0,0,0,0,0,0,0,0,0,0,0,0,0,0,0,0,0,0,0,30,48,1.7,1.1000000000000001,0,0,"2023-10-20T03:31:47",36,36,38,35,45,44,45,43,26.7,67.099999999999994,100,1.2,52.6,52.7,52.6,57.4,39.700000000000003,40.700000000000003,40,120,120,120,120,120,120,120,120,120,120,120,120,59,59,59,4.5,3.7,5.8,3.4,0.5,0.5,0.5,0.4,0.4,0.4,0.7,0.7,0.7,0.4,0.4,0.4,-0.1,-0.1,-0.1,-0.1,-0.1,-0.1,-0.1,-0.1,-0.1,0,0,0,0.1,0.3,0.2,0.3,0.7,0.4,0,0.3,0.1,0.6,0.9,0.7,0,0,0,0.3,0.4,0.3,0.3,0.4,0.3,0.3,0.3,0.3,0.5,0.6,0.5,0,0,0,0,0,0,0,0,0,0,0,0,0,0,0,0,0,0,0,0,0,0,0,0,1,1,1,2,1,1,178.4,13.4,"02:00:00",396,0,0,0,0,0,0,0,0,0,0,0,0,0,0,0,0,0,0,0,0,30,48,2.1,2,0,0]
["2023-10-18T17:28:17",47,43,47,42,52,46,51,46,29.3,74.900000000000006,100,50.2,53.6,53.7,53.6,57.2,-93.9,-88.6,-91.4,120.8,121,120.9,120.9,121.1,120.9,120.8,121,120.8,120.9,121.1,120.9,59.9,60.1,59.9,14.2,8.6999999999999993,14.3,8.8000000000000007,-1.7,-1.4,-1.5,-1.1000000000000001,-0.8,-0.9,-1.7,-1.4,-1.5,-1,-0.8,-0.9,-0.2,-0.1,-0.1,0,0,0,-0.1,0,0,0.1,0.1,0.1,120.9,121.4,121.1,120.8,121.4,121,120.7,121.1,120.9,120.6,121.3,120.8,59.9,60.1,59.9,13.6,16.2,15,13.9,15.7,15,12.2,14.6,13.6,9,10.3,9.8000000000000007,1.6,2,1.8,1.7,1.9,1.8,1.5,1.8,1.6,1.1000000000000001,1.2,1.1000000000000001,-0.1,0.1,0,0,0,0,-0.1,0,0,-0.1,0,0,6,2,2,2,2,1,179.9,13.9,"05:00:00",0,0,0,0,0,0,0,0,0,0,0,0,0,0,0,0,0,0,0,0,0,30,48,1.8,1.3,0,0,"2023-10-20T03:46:59",36,37,38,35,45,44,45,43,26.6,66.099999999999994,100,1.2,52.6,52.7,52.6,57.4,27.3,41.8,34.6,120,120,120,120,120,120,120,120,120,120,120,120,59,59,59,4.4000000000000004,4.0999999999999996,5.7,3.8,0.2,0.5,0.3,0.4,0.5,0.4,0.3,0.7,0.4,0.4,0.5,0.4,-0.3,-0.1,-0.1,-0.1,-0.1,-0.1,-0.2,-0.1,-0.1,0,0,0,0.1,0.2,0.1,0.3,0.7,0.5,0,0.3,0.1,0.6,0.9,0.7,0,0,0,0.3,0.4,0.3,0.3,0.4,0.3,0.3,0.3,0.3,0.5,0.6,0.5,0,0,0,0,0,0,0,0,0,0,0,0,0,0,0,0,0,0,0,0,0,0,0,0,1,1,1,2,1,1,178.4,13.4,"02:00:00",406,0,0,0,0,0,0,0,0,0,0,0,0,0,0,0,0,0,0,0,0,30,48,2.1,1.7,0,0]
["2023-10-18T17:29:18",47,43,47,42,52,46,51,46,29.3,75,100,50.2,53.5,53.7,53.6,57.2,-97.3,-52.4,-87.9,120.8,121.9,120.9,119.9,121.7,120.8,120.8,121.9,120.9,119.8,121.8,120.8,59.9,60.2,60,14.4,10.8,14.3,11.4,-1.7,-0.4,-1.4,-1.3,-0.8,-1,-1.7,-0.4,-1.4,-1.3,-0.7,-0.9,-0.4,0.5,-0.1,-0.1,0.2,0,-0.4,0.6,0,-0.4,0.4,0.1,121,121.9,121.2,120,122,121,120.7,121.8,120.9,120,121.9,120.8,59.9,60.3,60,9.4,19.899999999999999,14.9,13.2,18,14.9,7.5,14.9,13,8.5,12,9.8000000000000007,1.1000000000000001,2.4,1.8,1.6,2.1,1.8,1,1.8,1.5,1,1.4,1.1000000000000001,-0.2,0.8,0,-0.2,0.2,0,-0.5,0.5,0,-0.3,0.2,0,6,2,2,2,2,1,179.9,13.9,"05:00:00",0,0,0,0,0,0,0,0,0,0,0,0,0,0,0,0,0,0,0,0,0,30,48,3.4,1.4,0,0,"2023-10-20T03:47:59",36,37,38,35,45,44,45,43,26.6,66.099999999999994,100,1.2,52.6,52.7,52.7,57.4,27.7,28.8,28.1,120,120,120,120,120,120,120,120,120,120,120,120,59,59,59,2.7,4.2,2.8,3.9,0.2,0.2,0.2,0.5,0.5,0.5,0.3,0.3,0.3,0.4,0.5,0.4,-0.3,-0.2,-0.2,-0.1,-0.1,-0.1,-0.2,-0.2,-0.2,0,0,0,0.1,0.3,0.1,0.4,0.6,0.4,0.1,0.3,0.1,0.6,0.9,0.7,0,0,0,0.3,0.4,0.3,0.3,0.4,0.3,0.3,0.3,0.3,0.5,0.6,0.5,0,0,0,0,0,0,0,0,0,0,0,0,0,0,0,0,0,0,0,0,0,0,0,0,1,1,1,2,1,1,178.4,13.4,"02:00:00",406,0,0,0,0,0,0,0,0,0,0,0,0,0,0,0,0,0,0,0,0,30,48,1.4,1.4,0,0]
["2023-10-18T17:46:34",48,42,48,42,52,46,52,46,29.3,77.400000000000006,100,50.2,53.6,53.7,53.6,57.2,-89.1,-83,-86,120.7,121,120.8,120.9,121,120.9,120.7,120.9,120.8,120.9,121,120.9,60,60.1,60,14,7.8,13.9,8,-1.7,-1.4,-1.5,-1,-0.7,-0.8,-1.7,-1.4,-1.5,-1,-0.8,-0.8,-0.2,-0.1,-0.1,0,0,0,-0.1,0,0,0.1,0.1,0.1,121,121.4,121.1,120.8,121.4,121.1,120.8,121.1,120.9,120.6,121.2,120.9,60,60.1,60,13.7,16.5,15,14.1,15.7,15,12.3,14.5,13.4,9.1999999999999993,10.3,9.6999999999999993,1.7,2,1.8,1.7,1.9,1.8,1.5,1.8,1.6,1.1000000000000001,1.2,1.1000000000000001,0,0.1,0,0,0,0,-0.1,0,0,-0.1,0,0,6,2,2,2,2,1,179.9,13.9,"05:00:00",0,0,0,0,0,0,0,0,0,0,0,0,0,0,0,0,0,0,0,0,0,30,48,2,1.6,0,0,"2023-10-20T04:05:15",36,36,38,35,45,44,45,43,26.5,65,100,1.2,52.6,52.6,52.6,57.5,40.9,42,41.3,120,120,120,120,120,120,120,120,120,120,120,120,59,59,59,4.5,4,5.9,3.7,0.5,0.5,0.5,0.4,0.5,0.4,0.7,0.7,0.7,0.4,0.4,0.4,-0.1,-0.1,-0.1,-0.1,-0.1,-0.1,-0.1,-0.1,-0.1,0,0,0,0.1,0.3,0.1,0.4,0.6,0.4,0,0.3,0.1,0.6,1,0.8,0,0,0,0.3,0.4,0.3,0.3,0.4,0.3,0.3,0.3,0.3,0.5,0.6,0.5,0,0,0,0,0,0,0,0,0,0,0,0,0,0,0,0,0,0,0,0,0,0,0,0,1,1,1,2,1,1,178.4,13.4,"02:00:00",417,0,0,0,0,0,0,0,0,0,0,0,0,0,0,0,0,0,0,0,0,30,48,2.1,2.1,0,0]
["2023-10-18T17:50:37",48,42,48,42,53,46,52,46,29.3,77.900000000000006,100,50.2,53.6,53.7,53.6,57.2,-88.8,-83.2,-86.4,120.8,121,120.8,120.8,121,120.9,120.8,120.9,120.8,120.8,121,120.9,60,60.1,60,13.7,8.1999999999999993,13.6,8.3000000000000007,-1.6,-1.3,-1.4,-1,-0.8,-0.8,-1.6,-1.4,-1.4,-1,-0.8,-0.8,-0.2,-0.1,-0.1,0,0,0,-0.1,0,0,0.1,0.1,0.1,120.9,121.4,121.1,120.8,121.5,121.1,120.8,121.1,120.9,120.6,121.3,120.9,60,60.1,60,13.4,16.3,14.9,13.9,15.9,15,11.8,14.6,13.3,9,10.4,9.6999999999999993,1.6,2,1.8,1.7,1.9,1.8,1.5,1.7,1.5,1.1000000000000001,1.2,1.1000000000000001,0,0.1,0,0,0.1,0,-0.1,0,0,-0.1,0,0,6,2,2,2,2,1,179.8,13.8,"05:00:00",0,0,0,0,0,0,0,0,0,0,0,0,0,0,0,0,0,0,0,0,0,30,48,2.1,1.6,0,0,"2023-10-20T04:09:17",35,36,38,35,45,44,45,43,26.5,64.8,100,1.2,52.6,52.7,52.6,57.5,27.7,30.2,28.5,120,120,120,120,120,120,119.9,120,119.9,120,120,120,59,59,59,2.9,4.3,3.4,3.9,0.2,0.3,0.2,0.5,0.5,0.5,0.2,0.4,0.2,0.4,0.5,0.4,-0.3,-0.2,-0.2,-0.1,-0.1,-0.1,-0.2,-0.1,-0.1,0,0,0,0.1,0.3,0.2,0.3,0.6,0.4,0.1,0.3,0.1,0.6,0.9,0.7,0,0,0,0.3,0.4,0.3,0.3,0.4,0.3,0.3,0.3,0.3,0.5,0.6,0.5,0,0,0,0,0,0,0,0,0,0,0,0,0,0,0,0,0,0,0,0,0,0,0,0,1,1,1,2,1,1,178.4,13.4,"02:00:00",419,0,0,0,0,0,0,0,0,0,0,0,0,0,0,0,0,0,0,0,0,30,48,1.5,1.4,0,0]
["2023-10-18T18:01:46",48,43,48,42,53,46,52,46,29.3,79.5,100,50.2,53.7,53.8,53.7,57.2,-94.1,-88,-91.1,120.8,121,120.8,120.8,121,120.9,120.7,120.9,120.8,120.8,121,120.9,60,60.1,60,14,8.9,14.2,9.1,-1.7,-1.4,-1.5,-1.1000000000000001,-0.9,-0.9,-1.7,-1.4,-1.5,-1.1000000000000001,-0.9,-0.9,-0.2,-0.1,-0.1,0,0,0,-0.1,0,0,0.1,0.1,0.1,121,121.4,121.1,120.8,121.5,121.1,120.8,121.1,120.9,120.6,121.2,120.9,60,60.1,60,13.4,16.3,14.9,13.8,15.8,14.9,12,14.7,13.4,9.1,10.4,9.6999999999999993,1.6,2,1.8,1.7,1.9,1.8,1.5,1.8,1.6,1.1000000000000001,1.2,1.1000000000000001,0,0.1,0,-0.1,0,0,-0.1,0,0,-0.1,0,0,6,2,2,2,2,1,179.8,13.8,"05:00:00",0,0,0,0,0,0,0,0,0,0,0,0,0,0,0,0,0,0,0,0,0,30,48,1.8,1.3,0,0,"2023-10-20T04:20:25",35,36,38,35,45,44,45,43,26.5,64.2,100,1.2,52.5,52.6,52.6,57.5,39.6,41.2,40.200000000000003,120,120,120,120,120,120,120,120,120,119.9,120,119.9,59,59,59,4.5,3.8,5.8,3.5,0.5,0.5,0.5,0.4,0.5,0.4,0.7,0.7,0.7,0.4,0.4,0.4,-0.1,-0.1,-0.1,-0.1,-0.1,-0.1,-0.1,-0.1,-0.1,0,0,0,0.1,0.3,0.2,0.3,0.6,0.4,0,0.3,0.1,0.5,0.8,0.6,0,0,0,0.3,0.4,0.3,0.3,0.4,0.3,0.3,0.3,0.3,0.5,0.5,0.5,0,0,0,0,0,0,0,0,0,0,0,0,0,0,0,0,0,0,0,0,0,0,0,0,1,1,1,2,1,1,178.4,13.4,"02:00:00",426,0,0,0,0,0,0,0,0,0,0,0,0,0,0,0,0,0,0,0,0,30,48,2.1,2,0,0]
["2023-10-18T18:17:00",47,42,47,41,53,46,52,46,29.4,81.3,100,50.2,53.5,53.6,53.5,57.2,-64.900000000000006,-59.5,-61.7,121.2,121.4,121.3,120.5,120.8,120.6,121.2,121.4,121.3,120.6,120.7,120.6,60,60.1,60,8.5,7.9,8.6,7.9,-1,-0.7,-0.8,-0.9,-0.7,-0.8,-1,-0.8,-0.8,-0.9,-0.7,-0.8,0,0,0,0,0,0,0,0.1,0.1,0.1,0.1,0.1,121.3,121.7,121.4,120.5,121.2,120.8,121.1,121.4,121.2,120.2,121,120.6,60,60.1,60,13.8,16.2,14.9,13.6,16.100000000000001,14.9,9.5,11.8,10.6,8.8000000000000007,10.7,9.6,1.7,2,1.8,1.7,1.9,1.7,1.2,1.4,1.2,1.1000000000000001,1.2,1.1000000000000001,0,0,0,0,0,0,-0.2,-0.1,-0.1,-0.1,0,0,6,2,2,2,2,1,179.8,13.8,"05:00:00",0,0,0,0,0,0,0,0,0,0,0,0,0,0,0,0,0,0,0,0,0,30,48,3.1,2.6,0,0,"2023-10-20T04:35:39",35,36,38,35,45,44,45,43,26.5,63.3,100,1.3,52.5,52.6,52.6,57.5,25,40.5,27,120,120,120,120,120,120,120,120,120,119.9,120,119.9,59,59,59,4.3,3.9,5.5,3.6,0.2,0.5,0.2,0.4,0.5,0.4,0.3,0.7,0.3,0.4,0.4,0.4,-0.3,-0.1,-0.2,-0.1,-0.1,-0.1,-0.2,-0.1,-0.1,0,0,0,0.1,0.3,0.2,0.3,0.5,0.4,0.1,0.3,0.1,0.6,0.8,0.6,0,0,0,0.3,0.4,0.3,0.3,0.3,0.3,0.3,0.3,0.3,0.5,0.5,0.5,0,0,0,0,0,0,0,0,0,0,0,0,0,0,0,0,0,0,0,0,0,0,0,0,1,1,1,2,1,1,178.4,13.4,"02:00:00",435,0,0,0,0,0,0,0,0,0,0,0,0,0,0,0,0,0,0,0,0,30,48,2,1.3,0,0]
["2023-10-18T18:27:08",46,42,46,41,52,46,52,46,29.4,82.2,100,50.2,53.5,53.6,53.5,57.2,-66,-59.4,-62.5,121.2,121.5,121.3,120.6,120.7,120.6,121.2,121.4,121.3,120.6,120.7,120.6,60,60.1,60,9,7.7,9.1999999999999993,7.8,-1.1000000000000001,-0.8,-0.9,-0.9,-0.6,-0.7,-1.1000000000000001,-0.8,-0.9,-0.9,-0.7,-0.7,0,0,0,0,0,0,0.1,0.1,0.1,0.1,0.1,0.1,121.3,121.7,121.4,120.5,121.2,120.8,121.1,121.4,121.2,120.2,121,120.6,60,60.1,60,13.7,16.3,15,13.7,16.3,15,9.8000000000000007,12.2,10.9,8.6,10.6,9.6,1.7,2,1.8,1.6,1.9,1.8,1.2,1.5,1.3,1.1000000000000001,1.3,1.1000000000000001,0,0,0,0,0,0,-0.2,-0.1,-0.1,-0.1,0,0,6,2,2,2,2,1,179.8,13.8,"05:00:00",0,0,0,0,0,0,0,0,0,0,0,0,0,0,0,0,0,0,0,0,0,30,48,3.1,2.6,0,0,"2023-10-20T04:45:46",35,36,38,35,45,44,45,43,26.4,62.8,100,1.3,52.6,52.6,52.6,57.5,26.5,28.5,27.3,120,120,120,120,120,120,120,120,120,120,120,120,59,59,59,2.7,4.0999999999999996,2.8,3.8,0.2,0.2,0.2,0.4,0.5,0.4,0.3,0.3,0.3,0.4,0.5,0.4,-0.3,-0.2,-0.2,-0.1,-0.1,-0.1,-0.2,-0.2,-0.2,0,0,0,0.1,0.3,0.2,0.3,0.5,0.4,0.1,0.3,0.1,0.6,0.9,0.7,0,0,0,0.3,0.4,0.3,0.3,0.3,0.3,0.3,0.3,0.3,0.5,0.5,0.5,0,0,0,0,0,0,0,0,0,0,0,0,0,0,0,0,0,0,0,0,0,0,0,0,1,1,1,2,1,1,178.4,13.4,"02:00:00",441,0,0,0,0,0,0,0,0,0,0,0,0,0,0,0,0,0,0,0,0,30,48,1.4,1.3,0,0]
["2023-10-18T18:34:15",46,43,46,42,52,46,51,46,29.4,83,100,50.2,53.6,53.7,53.6,57.2,-76,-69.5,-73.099999999999994,121.2,121.4,121.3,120.5,120.7,120.6,121.2,121.4,121.3,120.5,120.7,120.6,60,60.1,60,8.8000000000000007,10.4,8.6999999999999993,10.3,-1.1000000000000001,-0.8,-0.9,-1.3,-0.9,-1,-1,-0.8,-0.9,-1.2,-0.9,-1,0,0,0,0,0,0,0.1,0.1,0.1,0.1,0.1,0.1,121.3,121.7,121.4,120.4,121.1,120.8,121.1,121.5,121.2,120.3,120.9,120.5,60,60.1,60,13.8,16,14.9,13.6,16.5,14.9,9.6,12,10.8,9.1,10.8,9.8000000000000007,1.7,1.9,1.8,1.6,2,1.8,1.2,1.4,1.3,1,1.3,1.1000000000000001,0,0,0,0,0,0,-0.2,-0.1,-0.1,-0.1,0,0,6,2,2,2,2,1,179.8,13.8,"05:00:00",0,0,0,0,0,0,0,0,0,0,0,0,0,0,0,0,0,0,0,0,0,30,48,2.2999999999999998,2,0,0,"2023-10-20T04:52:51",35,36,38,35,45,44,45,43,26.3,62.4,100,1.3,52.5,52.6,52.5,57.5,27.6,42,34.299999999999997,120,120,120,120,120,120,120,120,120,120,120,120,59,59,59,4.3,4.2,5.6,3.9,0.2,0.5,0.3,0.5,0.5,0.5,0.3,0.7,0.4,0.4,0.5,0.4,-0.3,-0.1,-0.1,-0.1,-0.1,-0.1,-0.2,-0.1,-0.1,0,0,0,0,0.3,0.2,0.4,0.6,0.4,0.1,0.3,0.1,0.6,0.9,0.7,0,0,0,0.3,0.4,0.3,0.3,0.4,0.3,0.3,0.3,0.3,0.5,0.5,0.5,0,0,0,0,0,0,0,0,0,0,0,0,0,0,0,0,0,0,0,0,0,0,0,0,1,1,1,2,1,1,178.4,13.4,"02:00:00",445,0,0,0,0,0,0,0,0,0,0,0,0,0,0,0,0,0,0,0,0,30,48,2.1,1.6,0,0]
["2023-10-18T18:49:28",45,43,45,42,52,46,51,46,29.4,84.6,100,50.3,53.6,53.7,53.6,57.2,-71.099999999999994,-66.3,-68.7,121.2,121.4,121.3,120.6,120.7,120.6,121.3,121.4,121.3,120.6,120.7,120.6,60,60.1,60,8.6999999999999993,8.9,8.8000000000000007,9,-1.1000000000000001,-0.8,-0.9,-1.1000000000000001,-0.8,-0.9,-1.1000000000000001,-0.8,-0.9,-1,-0.8,-0.9,0,0,0,0,0,0,0.1,0.1,0.1,0.1,0.1,0.1,121.3,121.7,121.4,120.5,121.2,120.8,121.1,121.5,121.2,120.2,121,120.6,60,60.1,60,13.9,15.9,15,14,16.2,15,9.9,11.7,10.9,8.9,10.5,9.6999999999999993,1.7,1.9,1.8,1.7,1.9,1.8,1.2,1.4,1.3,1.1000000000000001,1.3,1.1000000000000001,0,0,0,0,0,0,-0.2,-0.1,-0.1,-0.1,0,0,6,2,2,2,2,1,179.8,13.8,"05:00:00",0,0,0,0,0,0,0,0,0,0,0,0,0,0,0,0,0,0,0,0,0,30,48,2.7,2.2999999999999998,0,0,"2023-10-20T05:08:06",35,36,38,35,45,43,45,43,26.3,61.5,100,1.3,52.5,52.5,52.5,57.5,40.200000000000003,42.2,41.3,120,120,120,120,120,120,120,120,120,120,120,120,59,59,59,4.5,4.0999999999999996,5.8,3.8,0.5,0.5,0.5,0.4,0.5,0.4,0.7,0.7,0.7,0.4,0.5,0.4,-0.1,-0.1,-0.1,-0.1,-0.1,-0.1,-0.1,-0.1,-0.1,0,0,0,0.1,0.3,0.2,0.3,0.5,0.4,0.1,0.3,0.1,0.6,1,0.7,0,0,0,0.3,0.4,0.3,0.3,0.3,0.3,0.2,0.3,0.3,0.5,0.6,0.5,0,0,0,0,0,0,0,0,0,0,0,0,0,0,0,0,0,0,0,0,0,0,0,0,1,1,1,2,1,1,178.4,13.4,"02:00:00",454,0,0,0,0,0,0,0,0,0,0,0,0,0,0,0,0,0,0,0,0,30,48,2.1,2,0,0]
["2023-10-18T19:00:38",45,43,45,42,52,46,51,47,29.4,85.8,100,50.3,53.6,53.7,53.6,57.2,-85.6,-63.3,-74.400000000000006,120.9,121.4,121.1,120.6,121.1,120.8,120.9,121.4,121.1,120.6,121.1,120.8,59.9,60.1,60,12.9,8.4,12.8,8.9,-1.6,-0.8,-1.1000000000000001,-1,-0.8,-0.8,-1.6,-0.8,-1.1000000000000001,-1,-0.8,-0.8,-0.2,0,0,0,0.1,0,-0.1,0.1,0,0.1,0.2,0.1,121,121.7,121.3,120.6,121.4,120.9,120.8,121.5,121.1,120.4,121.2,120.7,60,60.1,60,12.7,16.100000000000001,14.9,13.6,16.100000000000001,14.9,9.9,14,11.8,8.8000000000000007,10.4,9.6999999999999993,1.5,1.9,1.7,1.6,1.9,1.8,1.2,1.7,1.4,1,1.3,1.1000000000000001,0,0,0,0,0,0,-0.2,0,0,-0.1,0,0,6,2,2,2,2,1,179.8,13.8,"05:00:00",0,0,0,0,0,0,0,0,0,0,0,0,0,0,0,0,0,0,0,0,0,30,48,2.8,2,0,0,"2023-10-20T05:19:17",35,36,37,35,45,43,45,43,26.3,60.9,100,1.3,52.6,52.6,52.6,57.5,23.8,25.7,24.6,120,120,120,120,120,120,120,120,120,120,120,120,59,59,59,2.6,3.7,2.7,3.4,0.2,0.2,0.2,0.4,0.4,0.4,0.2,0.3,0.2,0.4,0.4,0.4,-0.3,-0.2,-0.2,-0.1,-0.1,-0.1,-0.2,-0.2,-0.2,0,0,0,0.1,0.3,0.2,0.4,0.6,0.4,0.1,0.3,0.2,0.6,0.9,0.7,0,0,0,0.3,0.4,0.3,0.3,0.4,0.3,0.2,0.3,0.2,0.5,0.5,0.5,0,0,0,0,0,0,0,0,0,0,0,0,0,0,0,0,0,0,0,0,0,0,0,0,1,1,1,2,1,1,178.4,13.4,"02:00:00",460,0,0,0,0,0,0,0,0,0,0,0,0,0,0,0,0,0,0,0,0,30,48,1.3,1.2,0,0]
["2023-10-18T19:03:41",46,43,46,42,52,46,51,47,29.4,86.2,100,50.3,53.7,53.8,53.7,57.2,-87.2,-80.7,-83.7,120.9,121.1,120.9,120.9,121,120.9,120.9,121,120.9,120.8,121,120.9,60,60.1,60,13.2,8.1,13,8.1999999999999993,-1.6,-1.2,-1.4,-1,-0.8,-0.8,-1.6,-1.3,-1.4,-1,-0.8,-0.8,-0.2,-0.1,-0.1,0,0.1,0,-0.1,0,0,0.1,0.2,0.1,121,121.5,121.2,120.8,121.4,121.1,120.8,121.3,120.9,120.5,121.2,120.8,60,60.1,60,13.6,16.3,14.9,14,15.8,15,11.7,14.1,12.9,9,10.3,9.6999999999999993,1.6,2,1.8,1.7,1.9,1.8,1.4,1.7,1.5,1.1000000000000001,1.2,1.1000000000000001,0,0.1,0,0,0,0,-0.1,0,0,-0.1,0,0,6,2,2,2,2,1,179.8,13.8,"05:00:00",0,0,0,0,0,0,0,0,0,0,0,0,0,0,0,0,0,0,0,0,0,30,48,2.1,1.7,0,0,"2023-10-20T05:22:19",35,36,37,35,45,43,45,43,26.3,60.7,100,1.3,52.5,52.5,52.5,57.5,38.9,40.1,39.6,120,120,120,120,120,120,120,120,120,120,120,120,59,59,59,4.4000000000000004,3.7,5.7,3.4,0.5,0.5,0.5,0.4,0.4,0.4,0.7,0.7,0.7,0.4,0.4,0.4,-0.1,-0.1,-0.1,-0.1,-0.1,-0.1,-0.1,-0.1,-0.1,0,0,0,0.1,0.3,0.2,0.3,0.5,0.4,0,0.3,0.1,0.7,1,0.8,0,0,0,0.3,0.3,0.3,0.3,0.3,0.3,0.3,0.3,0.3,0.5,0.6,0.5,0,0,0,0,0,0,0,0,0,0,0,0,0,0,0,0,0,0,0,0,0,0,0,0,1,1,1,2,1,1,178.4,13.4,"02:00:00",462,0,0,0,0,0,0,0,0,0,0,0,0,0,0,0,0,0,0,0,0,30,48,2,2,0,0]
["2023-10-18T19:17:55",45,43,45,42,52,47,51,47,29.5,87.7,100,50.3,53.6,53.8,53.6,57.2,-86.7,-64.8,-70.900000000000006,120.9,121.5,121.2,120.5,121,120.6,121,121.4,121.2,120.5,121,120.6,60,60.1,60,12.7,9.1,12.4,9.1999999999999993,-1.5,-0.7,-0.9,-1.1000000000000001,-0.8,-0.9,-1.5,-0.8,-0.9,-1.1000000000000001,-0.9,-0.9,-0.2,0,0,0,0,0,-0.1,0.1,0,0.1,0.1,0.1,121.1,121.8,121.4,120.5,121.4,120.8,120.9,121.5,121.2,120.3,121.2,120.6,60,60.1,60,12.8,16,14.9,13.8,16.399999999999999,15,9.4,13.6,11.1,8.9,10.5,9.6999999999999993,1.6,1.9,1.7,1.7,1.9,1.8,1.1000000000000001,1.7,1.3,1.1000000000000001,1.3,1.1000000000000001,0,0.1,0,0,0,0,-0.2,0,-0.1,-0.1,0,0,6,2,2,2,2,1,179.8,13.8,"05:00:00",0,0,0,0,0,0,0,0,0,0,0,0,0,0,0,0,0,0,0,0,0,30,48,2.7,2.1,0,0,"2023-10-20T05:36:32",35,36,37,35,45,43,45,43,26.2,60,100,1.3,52.4,52.6,52.5,57.5,24.9,38.700000000000003,32.6,119.8,120,120,120,120,120,119.9,120,120,119.9,120,120,58.8,59,59,7.3,3.4,6.3,3.1,0.2,0.8,0.3,0.4,0.4,0.4,0.3,0.7,0.4,0.3,0.4,0.3,-0.3,0.2,-0.1,-0.1,-0.1,-0.1,-0.2,-0.1,-0.1,0,0,0,0.1,0.4,0.2,0.3,0.5,0.4,0.1,0.3,0.1,0.6,0.9,0.6,0,0,0,0.3,0.3,0.3,0.3,0.3,0.3,0.3,0.3,0.3,0.5,0.5,0.5,0,0,0,0,0,0,0,0,0,0,0,0,0,0,0,0,0,0,0,0,0,0,0,0,1,1,1,2,1,1,178.4,13.4,"02:00:00",470,0,0,0,0,0,0,0,0,0,0,0,0,0,0,0,0,0,0,0,0,30,48,1.9,1.6,0,0]
["2023-10-18T19:33:09",45,43,45,42,52,47,51,47,29.5,89.5,100,50.3,53.6,53.7,53.7,57.2,-65.900000000000006,-61.2,-63.6,121.6,121.8,121.6,120.4,120.5,120.4,121.6,121.7,121.6,120.4,120.5,120.4,60,60.1,60,7.8,9.4,7.7,9.4,-0.9,-0.7,-0.7,-1.1000000000000001,-0.9,-0.9,-0.9,-0.7,-0.7,-1.1000000000000001,-0.8,-0.9,0.2,0.2,0.2,0,0,0,0.2,0.3,0.2,0.1,0.1,0.1,121.4,121.9,121.6,120.3,121,120.6,121.3,121.7,121.4,120.1,120.8,120.4,60,60.1,60,13.8,16.100000000000001,14.9,13.6,16.2,14.9,9.1999999999999993,11.2,10.3,8.9,10.5,9.6999999999999993,1.7,2,1.8,1.6,1.9,1.7,1.1000000000000001,1.3,1.2,1.1000000000000001,1.2,1.1000000000000001,0,0,0,0,0,0,-0.3,-0.2,-0.2,-0.1,0,0,6,2,2,2,2,1,179.8,13.8,"05:00:00",0,0,0,0,0,0,0,0,0,0,0,0,0,0,0,0,0,0,0,0,0,30,48,2.8,2.4,0,0,"2023-10-20T05:51:44",35,35,37,34,45,43,45,43,26.2,59.1,100,1.3,52.5,52.6,52.6,57.5,24,26.9,25.8,120,120,120,120,120,120,120,120,120,119.9,120,120,59,59,59,2.7,3.7,2.9,3.4,0.2,0.2,0.2,0.4,0.4,0.4,0.3,0.3,0.3,0.4,0.4,0.4,-0.3,-0.2,-0.2,-0.1,-0.1,-0.1,-0.2,-0.2,-0.2,0,0,0,0.1,0.4,0.2,0.3,0.5,0.4,0.1,0.4,0.2,0.6,0.9,0.7,0,0,0,0.3,0.3,0.3,0.3,0.3,0.3,0.2,0.3,0.2,0.5,0.5,0.5,0,0,0,0,0,0,0,0,0,0,0,0,0,0,0,0,0,0,0,0,0,0,0,0,1,1,1,2,1,1,178.3,13.3,"02:00:00",479,0,0,0,0,0,0,0,0,0,0,0,0,0,0,0,0,0,0,0,0,30,48,1.3,1.2,0,0]
["2023-10-18T19:38:14",46,43,46,42,52,47,51,47,29.5,90.1,100,50.3,53.7,53.8,53.8,57.2,-82.7,-77.099999999999994,-80.2,121.2,121.3,121.2,120.6,120.8,120.7,121.2,121.3,121.2,120.6,120.8,120.7,60,60.1,60,11.7,8.6999999999999993,11.7,8.8000000000000007,-1.4,-1.1000000000000001,-1.2,-1.1000000000000001,-0.8,-0.9,-1.4,-1.1000000000000001,-1.2,-1,-0.8,-0.9,0,0.1,0,0,0,0,0.1,0.2,0.1,0.1,0.1,0.1,121.2,121.6,121.4,120.6,121.2,120.8,121,121.4,121.1,120.3,121,120.6,60,60.1,60,13.7,16,15,13.5,15.9,15,11,13.4,12.3,8.5,10.4,9.6999999999999993,1.7,1.9,1.8,1.6,1.9,1.8,1.4,1.6,1.4,1.1000000000000001,1.2,1.1000000000000001,0,0,0,0,0,0,-0.2,-0.1,-0.1,-0.1,0,0,6,2,2,2,2,1,179.8,13.8,"05:00:00",0,0,0,0,0,0,0,0,0,0,0,0,0,0,0,0,0,0,0,0,0,30,48,2.1,1.8,0,0,"2023-10-20T05:56:49",35,36,38,35,45,43,45,43,26.2,58.8,100,1.3,52.4,52.5,52.5,57.5,41.2,42.5,41.8,120,120,120,120,120,120,120,120,120,120,120,120,59,59,59,4.4000000000000004,4.2,5.7,3.9,0.5,0.5,0.5,0.5,0.5,0.5,0.7,0.7,0.7,0.4,0.5,0.4,-0.1,-0.1,-0.1,-0.1,-0.1,-0.1,-0.1,-0.1,-0.1,0,0,0,0.1,0.3,0.2,0.3,0.5,0.4,0.1,0.3,0.2,0.6,1,0.7,0,0,0,0.3,0.4,0.3,0.3,0.3,0.3,0.2,0.3,0.2,0.5,0.5,0.5,0,0,0,0,0,0,0,0,0,0,0,0,0,0,0,0,0,0,0,0,0,0,0,0,1,1,1,2,1,1,178.3,13.3,"02:00:00",483,0,0,0,0,0,0,0,0,0,0,0,0,0,0,0,0,0,0,0,0,30,48,2.2000000000000002,2.1,0,0]
["2023-10-18T19:44:20",45,43,45,42,52,47,51,47,29.5,90.4,100,50.3,53.7,53.8,53.7,57.2,-68.599999999999994,-59.5,-64.099999999999994,121.3,121.8,121.5,120.3,120.7,120.5,121.3,121.7,121.5,120.3,120.7,120.5,60,60.1,60,8,9.1999999999999993,8,9.1,-1,-0.6,-0.8,-1.1000000000000001,-0.8,-0.9,-1,-0.7,-0.8,-1.1000000000000001,-0.8,-0.9,0,0.2,0,0,0.1,0,0.1,0.3,0.1,0.1,0.1,0.1,121.4,121.9,121.6,120.3,121.1,120.7,121.2,121.7,121.4,120,121,120.4,60,60.1,60,13.6,15.9,14.9,13.7,16.3,14.9,9.4,11.4,10.4,8.8000000000000007,10.7,9.6999999999999993,1.6,1.9,1.8,1.6,1.9,1.7,1.1000000000000001,1.4,1.2,1.1000000000000001,1.3,1.1000000000000001,-0.1,0,0,0,0,0,-0.3,-0.1,-0.1,-0.1,0,0,6,2,2,2,2,1,179.8,13.8,"05:00:00",0,0,0,0,0,0,0,0,0,0,0,0,0,0,0,0,0,0,0,0,0,30,48,2.9,2.4,0,0,"2023-10-20T06:02:53",35,36,37,35,45,43,45,43,26.1,58.5,100,1.3,52.5,52.5,52.5,57.5,41.6,43,42.3,120,120,120,120,120,120,120,120,120,120,120,120,59,59,59,4.3,4.5,5.6,4.2,0.5,0.5,0.5,0.5,0.5,0.5,0.6,0.7,0.6,0.4,0.5,0.4,-0.1,-0.1,-0.1,-0.1,-0.1,-0.1,-0.1,-0.1,-0.1,0,0,0,0.1,0.4,0.2,0.3,0.6,0.4,0.1,0.3,0.1,0.6,1,0.8,0,0,0,0.3,0.4,0.3,0.3,0.4,0.3,0.3,0.3,0.3,0.5,0.6,0.5,0,0,0,0,0,0,0,0,0,0,0,0,0,0,0,0,0,0,0,0,0,0,0,0,1,1,1,2,1,1,178.3,13.3,"02:00:00",486,0,0,0,0,0,0,0,0,0,0,0,0,0,0,0,0,0,0,0,0,30,48,2.2000000000000002,2.1,0,0]
["2023-10-18T19:55:31",45,43,45,43,52,47,51,47,29.4,91.1,100,50.3,53.7,53.8,53.7,57.2,-67.400000000000006,-60.5,-64.3,121.3,121.5,121.3,120.5,120.7,120.5,121.3,121.5,121.3,120.5,120.7,120.5,60,60.1,60,7.4,9.6999999999999993,7.6,9.4,-0.9,-0.6,-0.7,-1.1000000000000001,-0.8,-1,-0.9,-0.7,-0.7,-1.1000000000000001,-0.9,-0.9,0,0,0,0,0,0,0.1,0.1,0.1,0.1,0.1,0.1,121.3,121.8,121.5,120.4,121.1,120.7,121.2,121.6,121.3,120.2,121,120.5,60,60.1,60,13.8,16,14.9,13.4,16.7,14.9,9,11.3,10.1,8.9,10.6,9.6999999999999993,1.7,1.9,1.8,1.7,1.9,1.7,1.1000000000000001,1.3,1.2,1.1000000000000001,1.3,1.1000000000000001,0,0,0,0,0,0,-0.2,-0.1,-0.1,-0.1,0,0,6,2,2,2,2,1,179.8,13.8,"05:00:00",0,0,0,0,0,0,0,0,0,0,0,0,0,0,0,0,0,0,0,0,0,30,48,2.8,2.4,0,0,"2023-10-20T06:14:02",35,36,37,35,45,43,45,43,26.1,57.8,100,1.3,52.5,52.5,52.5,57.5,28.9,31,29.4,120,120,120,120,120,120,120,120,120,120,120,120,59,59,59,2.7,4.7,2.8,4.4000000000000004,0.2,0.2,0.2,0.5,0.6,0.5,0.3,0.3,0.3,0.5,0.5,0.5,-0.3,-0.2,-0.3,-0.1,-0.1,-0.1,-0.2,-0.2,-0.2,0,0,0,0.2,0.4,0.2,0.3,0.5,0.4,0.1,0.3,0.1,0.6,0.9,0.7,0,0,0,0.3,0.3,0.3,0.3,0.4,0.3,0.3,0.3,0.3,0.5,0.6,0.5,0,0,0,0,0,0,0,0,0,0,0,0,0,0,0,0,0,0,0,0,0,0,0,0,1,1,1,2,1,1,178.3,13.3,"02:00:00",493,0,0,0,0,0,0,0,0,0,0,0,0,0,0,0,0,0,0,0,0,30,48,1.5,1.4,0,0]
["2023-10-18T20:10:44",46,43,46,43,53,47,51,48,29.5,91.9,100,50.3,53.9,54,53.9,57.2,-86.5,-81.400000000000006,-84.1,120.9,121.1,121,120.9,121,120.9,120.9,121.1,121,120.9,121,120.9,60,60,60,12.3,9.1,12.2,9,-1.5,-1.2,-1.3,-1.1000000000000001,-0.9,-0.9,-1.5,-1.2,-1.3,-1.1000000000000001,-0.9,-0.9,-0.2,-0.1,-0.1,0,0,0,-0.1,0,0,0.1,0.1,0.1,121.1,121.5,121.2,120.7,121.4,121,120.8,121.2,121,120.5,121.3,120.9,60,60,60,13.8,16.2,15,13.9,15.9,14.9,11.6,13.6,12.5,9,10.4,9.8000000000000007,1.7,2,1.8,1.7,1.9,1.8,1.4,1.6,1.5,1.1000000000000001,1.3,1.1000000000000001,0,0,0,0,0,0,-0.1,0,0,-0.1,0,0,6,2,2,2,2,1,179.8,13.8,"05:00:00",0,0,0,0,0,0,0,0,0,0,0,0,0,0,0,0,0,0,0,0,0,30,48,2.1,1.6,0,0,"2023-10-20T06:29:16",35,36,37,35,44,43,45,43,26,57,100,1.4,52.4,52.5,52.5,57.5,26.4,39.5,31.2,120,120,120,120,120,120,120,120,120,120,120,120,59,59,59,4.4000000000000004,4.0999999999999996,5.7,3.8,0.2,0.5,0.2,0.4,0.5,0.4,0.3,0.7,0.4,0.4,0.5,0.4,-0.3,-0.1,-0.2,-0.1,-0.1,-0.1,-0.2,-0.1,-0.1,0,0,0,0.1,0.3,0.2,0.4,0.8,0.5,0.1,0.3,0.1,0.6,0.9,0.7,0,0,0,0.3,0.4,0.3,0.3,0.4,0.3,0.3,0.3,0.3,0.5,0.6,0.5,0,0,0,0,0,0,0,0,0,0,0,0,0,0,0,0,0,0,0,0,0,0,0,0,1,1,1,2,1,1,178.3,13.3,"02:00:00",502,0,0,0,0,0,0,0,0,0,0,0,0,0,0,0,0,0,0,0,0,30,48,2,1.5,0,0]
["2023-10-18T20:21:54",45,44,45,43,53,48,51,48,29.4,92.6,100,50.3,53.9,54,53.9,57.2,-68.400000000000006,-63.6,-66.2,121.3,121.5,121.3,120.6,120.7,120.6,121.3,121.5,121.3,120.6,120.7,120.6,60,60.1,60,7.9,9.4,7.8,9.4,-1,-0.7,-0.8,-1.1000000000000001,-0.9,-1,-0.9,-0.7,-0.8,-1.1000000000000001,-0.9,-0.9,0,0,0,0,0,0,0.1,0.1,0.1,0.1,0.1,0.1,121.3,121.8,121.5,120.5,121.1,120.7,121.1,121.6,121.3,120.3,120.9,120.5,60,60.1,60,14,15.9,15,13.8,16.3,15,9.3000000000000007,11.2,10.3,9,10.7,9.8000000000000007,1.7,1.9,1.8,1.7,1.9,1.7,1.1000000000000001,1.4,1.2,1.1000000000000001,1.3,1.1000000000000001,0,0,0,0,0,0,-0.2,-0.1,-0.1,-0.1,0,0,6,2,2,2,2,1,179.7,13.7,"05:00:00",0,0,0,0,0,0,0,0,0,0,0,0,0,0,0,0,0,0,0,0,0,30,48,2.8,2.2999999999999998,0,0,"2023-10-20T06:40:25",34,35,37,34,44,43,45,43,26,56.4,100,1.4,52.5,52.6,52.5,57.5,26.3,30.2,27.4,120,120,120,120,120,120,119.9,120,119.9,119.9,120,119.9,59,59,59,2.9,4,3.3,3.6,0.2,0.3,0.2,0.4,0.5,0.4,0.3,0.4,0.3,0.4,0.4,0.4,-0.3,-0.2,-0.2,-0.1,-0.1,-0.1,-0.2,-0.1,-0.2,0,0,0,0.1,0.3,0.1,0.3,0.6,0.4,0.1,0.3,0.2,0.6,0.9,0.7,0,0,0,0.3,0.4,0.3,0.3,0.4,0.3,0.3,0.3,0.3,0.5,0.6,0.5,0,0,0,0,0,0,0,0,0,0,0,0,0,0,0,0,0,0,0,0,0,0,0,0,1,1,1,2,1,1,178.3,13.3,"02:00:00",508,0,0,0,0,0,0,0,0,0,0,0,0,0,0,0,0,0,0,0,0,30,48,1.5,1.3,0,0]
["2023-10-18T20:32:02",46,44,46,43,53,48,52,48,29.2,93.3,100,50.3,54,54.2,54.1,57.2,-87.2,-69.3,-75.3,121,121.5,121.2,120.5,121.2,120.6,121,121.4,121.2,120.5,121.2,120.6,60,60.2,60.1,11.5,10.5,11.5,10.5,-1.4,-0.7,-0.9,-1.3,-1,-1.1000000000000001,-1.4,-0.7,-0.9,-1.3,-0.9,-1.1000000000000001,-0.1,0.2,0,0,0.1,0,0,0.2,0,-0.2,0.3,0.1,121.2,122,121.4,120.5,121.7,120.8,120.9,121.5,121.2,120.2,121.5,120.6,60,60.2,60.1,13.9,17.600000000000001,15,13.4,16.2,14.9,9.5,13.3,11,9,10.8,9.8000000000000007,1.7,2.1,1.8,1.6,1.9,1.7,1.2,1.6,1.3,1.1000000000000001,1.3,1.1000000000000001,-0.2,0.5,0,-0.1,0.2,0,-0.3,0.2,-0.1,-0.2,0,0,6,2,2,2,2,1,179.7,13.7,"05:00:00",0,0,0,0,0,0,0,0,0,0,0,0,0,0,0,0,0,0,0,0,0,30,48,2.5,1.9,0,0,"2023-10-20T06:50:33",35,35,37,34,44,43,45,43,26,55.9,100,1.4,52.5,52.5,52.5,57.5,38.4,40.4,39.4,120,120,120,120,120,120,120,120,120,120,120,120,59,59,59,4.4000000000000004,3.8,5.6,3.6,0.5,0.5,0.5,0.4,0.5,0.4,0.6,0.7,0.6,0.4,0.4,0.4,-0.1,-0.1,-0.1,-0.1,-0.1,-0.1,-0.1,-0.1,-0.1,0,0,0,0.1,0.3,0.1,0.3,0.6,0.4,0.1,0.3,0.1,0.6,0.9,0.7,0,0,0,0.3,0.4,0.3,0.3,0.4,0.3,0.3,0.3,0.3,0.5,0.5,0.5,0,0,0,0,0,0,0,0,0,0,0,0,0,0,0,0,0,0,0,0,0,0,0,0,1,1,1,2,1,1,178.3,13.3,"02:00:00",514,0,0,0,0,0,0,0,0,0,0,0,0,0,0,0,0,0,0,0,0,30,48,2.1,1.9,0,0]
["2023-10-18T20:39:08",46,44,46,43,53,48,52,48,29.2,93.7,100,50.3,54.1,54.2,54.2,57.2,-91.6,-85.6,-87.9,120.9,121.1,121,120.8,121,120.8,120.9,121.1,120.9,120.8,121,120.9,60,60.1,60,12.6,10,12.7,10,-1.5,-1.2,-1.3,-1.2,-1,-1,-1.5,-1.2,-1.3,-1.2,-1,-1,-0.2,-0.1,-0.1,0,0,0,-0.1,0,0,0.1,0.1,0.1,121.1,121.5,121.2,120.7,121.4,121,120.9,121.2,121,120.5,121.3,120.8,60,60.1,60,13.6,16.100000000000001,15,14,16.2,15,11.5,14,12.6,8.9,10.6,9.8000000000000007,1.6,1.9,1.8,1.7,1.9,1.8,1.4,1.7,1.5,1.1000000000000001,1.3,1.1000000000000001,0,0.1,0,0,0,0,-0.1,0,0,-0.1,0,0,6,2,2,2,2,1,179.7,13.7,"05:00:00",0,0,0,0,0,0,0,0,0,0,0,0,0,0,0,0,0,0,0,0,0,30,48,1.8,1.4,0,0,"2023-10-20T06:57:39",34,35,36,34,44,43,45,43,25.9,55.6,100,1.4,52.5,52.6,52.6,57.5,23.5,24.8,24,120,120,120,120,120,120,120,120,120,119.9,120,120,59,59,59,2.6,3.6,2.6,3.3,0.2,0.2,0.2,0.4,0.4,0.4,0.2,0.2,0.2,0.4,0.4,0.4,-0.3,-0.2,-0.2,-0.1,-0.1,-0.1,-0.2,-0.2,-0.2,0,0,0,0.1,0.3,0.2,0.4,0.7,0.4,0.1,0.3,0.1,0.6,1,0.8,0,0,0,0.3,0.4,0.3,0.3,0.4,0.3,0.3,0.3,0.3,0.5,0.6,0.5,0,0,0,0,0,0,0,0,0,0,0,0,0,0,0,0,0,0,0,0,0,0,0,0,1,1,1,2,1,1,178.3,13.3,"02:00:00",517,0,0,0,0,0,0,0,0,0,0,0,0,0,0,0,0,0,0,0,0,30,48,1.2,1.2,0,0]
["2023-10-18T20:54:22",46,44,46,43,53,48,52,48,29.3,94.6,100,50.3,54.2,54.3,54.2,57.2,-90,-85.2,-87.5,120.9,121.1,120.9,120.8,121,120.8,120.9,121,120.9,120.8,121,120.9,60,60.1,60,12.5,10,12.6,10.1,-1.5,-1.2,-1.3,-1.2,-1,-1,-1.5,-1.2,-1.3,-1.2,-1,-1.1000000000000001,-0.2,-0.1,-0.1,0,0,0,-0.1,0,0,0.1,0.2,0.1,121,121.5,121.2,120.7,121.4,121,120.9,121.2,121,120.5,121.3,120.8,60,60.1,60,13.9,16.100000000000001,15,13.8,16.100000000000001,14.9,11.4,13.8,12.5,9.1999999999999993,10.5,9.8000000000000007,1.7,1.9,1.8,1.7,1.9,1.8,1.3,1.6,1.5,1.1000000000000001,1.3,1.1000000000000001,0,0,0,-0.1,0,0,-0.1,0,0,-0.1,0,0,6,2,2,2,2,1,179.7,13.7,"05:00:00",0,0,0,0,0,0,0,0,0,0,0,0,0,0,0,0,0,0,0,0,0,30,48,1.7,1.4,0,0,"2023-10-20T07:12:53",34,35,36,34,44,43,44,43,25.9,55,100,1.4,52.5,52.6,52.5,57.5,24.6,26.3,25.2,120,120,120,120,120,120,119.9,120,119.9,119.9,120,119.9,59,59,59,2.9,4,2.7,3.6,0.2,0.2,0.2,0.4,0.5,0.4,0.2,0.2,0.2,0.4,0.4,0.4,-0.3,-0.2,-0.3,-0.1,-0.1,-0.1,-0.2,-0.2,-0.2,-0.1,0,0,0.1,0.3,0.2,0.3,0.5,0.4,0,0.3,0.1,0.6,1,0.7,0,0,0,0.3,0.4,0.3,0.3,0.3,0.3,0.3,0.3,0.3,0.5,0.6,0.5,0,0,0,0,0,0,0,0,0,0,0,0,0,0,0,0,0,0,0,0,0,0,0,0,1,1,1,2,1,1,178.3,13.3,"02:00:00",523,0,0,0,0,0,0,0,0,0,0,0,0,0,0,0,0,0,0,0,0,30,48,1.3,1.2,0,0]
["2023-10-18T20:59:26",47,44,46,43,53,48,52,48,29.3,95,100,50.3,54.2,54.3,54.2,57.2,-90,-84.8,-87.3,120.9,121.1,121,120.8,120.9,120.8,120.9,121.1,120.9,120.8,121,120.8,60,60.1,60,12.3,10.1,12.1,10,-1.5,-1.2,-1.3,-1.2,-1,-1,-1.5,-1.2,-1.3,-1.2,-1,-1,-0.1,-0.1,-0.1,0,0,0,-0.1,0,0,0.1,0.1,0.1,121.1,121.5,121.2,120.7,121.3,121,120.9,121.3,121,120.5,121.1,120.8,60,60.1,60,13.9,16.100000000000001,15,14,16,14.9,11.5,13.7,12.5,9,10.6,9.8000000000000007,1.7,1.9,1.8,1.7,1.9,1.8,1.4,1.6,1.5,1.1000000000000001,1.3,1.1000000000000001,0,0,0,0,0,0,-0.1,0,0,-0.1,0,0,6,2,2,2,2,1,179.7,13.7,"05:00:00",0,0,0,0,0,0,0,0,0,0,0,0,0,0,0,0,0,0,0,0,0,30,48,1.6,1.4,0,0,"2023-10-20T07:17:57",34,35,35,34,44,43,44,43,25.9,54.7,100,1.4,52.5,52.5,52.5,57.5,28.2,31.7,30.1,120,120,120,120,120,120,119.9,120,119.9,119.9,120,120,59,59,59,3.2,5.3,3,4.8,0.1,0.2,0.1,0.5,0.6,0.5,0.2,0.3,0.2,0.5,0.6,0.5,-0.3,-0.3,-0.3,-0.2,-0.1,-0.1,-0.3,-0.2,-0.2,-0.1,0,0,0.2,0.4,0.2,0.4,0.6,0.4,0.1,0.3,0.1,0.6,0.9,0.7,0,0,0,0.3,0.3,0.3,0.3,0.4,0.3,0.3,0.3,0.3,0.5,0.5,0.5,0,0,0,0,0,0,0,0,0,0,0,0,0,0,0,0,0,0,0,0,0,0,0,0,1,1,1,2,1,1,178.3,13.3,"02:00:00",526,0,0,0,0,0,0,0,0,0,0,0,0,0,0,0,0,0,0,0,0,30,48,1.6,1.4,0,0]
["2023-10-18T21:12:38",46,44,46,43,53,48,52,49,29.3,95,100,50.3,54.2,54.3,54.2,57.2,-86.8,-82.7,-84.8,120.9,121.1,121,120.8,121,120.8,120.9,121.1,120.9,120.8,121,120.9,60,60.1,60,12.6,9.1,12.5,9.1,-1.5,-1.2,-1.3,-1.1000000000000001,-0.9,-0.9,-1.5,-1.3,-1.3,-1.1000000000000001,-0.9,-0.9,-0.2,-0.1,-0.1,0,0,0,-0.1,0,0,0.1,0.1,0.1,121.1,121.5,121.2,120.7,121.4,121,120.8,121.2,121,120.5,121.2,120.8,60,60.1,60,13.6,16.100000000000001,14.9,14,15.9,14.9,11.8,13.6,12.7,9,10.4,9.6999999999999993,1.7,1.9,1.8,1.7,1.9,1.8,1.4,1.7,1.5,1.1000000000000001,1.3,1.1000000000000001,0,0.1,0,0,0,0,-0.1,0,0,-0.1,0,0,6,2,2,2,2,1,179.7,13.7,"05:00:00",0,0,0,0,0,0,0,0,0,0,0,0,0,0,0,0,0,0,0,0,0,30,48,1.9,1.5,0,0,"2023-10-20T07:31:08",34,36,35,34,44,43,44,43,25.9,54.1,100,1.4,52.5,52.5,52.5,57.5,26.3,29.8,27,120,120,120,120,120,120,120,120,120,119.9,120,119.9,59,59,59,2.9,4.8,2.9,4.3,0.2,0.2,0.2,0.5,0.6,0.5,0.2,0.2,0.2,0.4,0.5,0.4,-0.3,-0.3,-0.3,-0.1,-0.1,-0.1,-0.2,-0.2,-0.2,-0.1,-0.1,-0.1,0.1,0.3,0.2,0.4,0.7,0.5,0.1,0.3,0.1,0.6,1,0.7,0,0,0,0.3,0.3,0.3,0.3,0.4,0.3,0.3,0.3,0.3,0.5,0.6,0.5,0,0,0,0,0,0,0,0,0,0,0,0,0,0,0,0,0,0,0,0,0,0,0,0,1,1,1,2,1,1,178.3,13.3,"02:00:00",532,0,0,0,0,0,0,0,0,0,0,0,0,0,0,0,0,0,0,0,0,30,48,1.5,1.3,0,0]
["2023-10-18T21:26:50",47,44,47,43,54,48,52,49,29.3,95,100,50.3,54.2,54.3,54.2,57.2,-86.7,-82.4,-84.3,120.8,121.1,120.9,120.8,121,120.9,120.9,121,120.9,120.8,121,120.9,60,60.1,60,12.9,8.8000000000000007,13.1,8.9,-1.6,-1.3,-1.4,-1,-0.9,-0.9,-1.6,-1.3,-1.4,-1,-0.9,-0.9,-0.2,-0.1,-0.1,0,0,0,-0.1,0,0,0.1,0.1,0.1,121,121.4,121.2,120.7,121.4,121,120.8,121.2,121,120.5,121.3,120.8,60,60.1,60,14,16.3,15,14,16,15,11.7,14,12.8,9.1999999999999993,10.3,9.6999999999999993,1.7,2,1.8,1.7,1.9,1.8,1.4,1.7,1.5,1.1000000000000001,1.3,1.1000000000000001,0,0.1,0,0,0,0,-0.1,0,0,-0.1,0,0,6,2,2,2,2,1,179.7,13.7,"05:00:00",0,0,0,0,0,0,0,0,0,0,0,0,0,0,0,0,0,0,0,0,0,30,48,1.9,1.6,0,0,"2023-10-20T07:45:21",34,37,35,35,44,43,44,43,25.9,53.5,100,1.4,52.4,52.5,52.4,57.5,23.3,54.9,33,120,120,120,120,120.2,120,119.9,120,119.9,119.9,120.1,119.9,59,59,59,2.7,11.1,2.5,10.5,0.1,0.1,0.1,0.5,1.3,0.6,0.2,0.2,0.2,0.4,1.2,0.6,-0.3,-0.3,-0.3,-0.1,0.4,0,-0.2,-0.2,-0.2,-0.1,0.4,0,0.2,0.4,0.2,0.3,0.6,0.4,0.1,0.3,0.2,0.7,1,0.8,0,0,0,0.3,0.3,0.3,0.3,0.4,0.3,0.3,0.3,0.3,0.5,0.6,0.5,0,0,0,0,0,0,0,0,0,0,0,0,0,0,0,0,0,0,0,0,0,0,0,0,1,1,1,2,1,1,178.3,13.3,"02:00:00",538,0,0,0,0,0,0,0,0,0,0,0,0,0,0,0,0,0,0,0,0,30,48,2.7,1.6,0,0]
["2023-10-18T21:31:54",47,44,47,43,54,48,52,49,29.4,95,100,50.3,54.2,54.3,54.2,57.2,-86.1,-80.900000000000006,-83.7,120.9,121.1,120.9,120.8,121,120.8,120.8,121,120.9,120.8,121,120.9,60,60.1,60,12.7,8.8000000000000007,12.7,8.6,-1.5,-1.2,-1.3,-1.1000000000000001,-0.8,-0.9,-1.5,-1.2,-1.4,-1,-0.8,-0.9,-0.2,-0.1,-0.1,0,0,0,-0.1,0,0,0.1,0.1,0.1,121.1,121.4,121.2,120.7,121.4,121,120.8,121.2,121,120.5,121.2,120.8,60,60.1,60,13.6,16.3,15,13.8,15.9,14.9,11.3,13.8,12.8,8.9,10.4,9.6999999999999993,1.6,2,1.8,1.7,1.9,1.7,1.4,1.7,1.5,1.1000000000000001,1.2,1.1000000000000001,-0.1,0,0,0,0.1,0,-0.1,0,0,-0.1,0,0,6,2,2,2,2,1,179.7,13.7,"05:00:00",0,0,0,0,0,0,0,0,0,0,0,0,0,0,0,0,0,0,0,0,0,30,48,2.2999999999999998,1.6,0,0,"2023-10-20T07:50:25",34,35,35,34,44,43,44,43,25.9,53.3,100,1.4,52.5,52.6,52.5,57.5,22.6,24.3,23.2,120,120,120,120,120,120,119.9,120,119.9,120,120,120,59,59,59,2.6,4,2.2999999999999998,3.6,0.1,0.1,0.1,0.4,0.5,0.4,0.2,0.2,0.2,0.4,0.4,0.4,-0.3,-0.3,-0.3,-0.1,-0.1,-0.1,-0.2,-0.2,-0.2,-0.1,0,0,0.1,0.4,0.2,0.4,0.6,0.4,0.1,0.3,0.2,0.6,0.9,0.6,0,0,0,0.3,0.4,0.3,0.3,0.4,0.3,0.2,0.3,0.3,0.5,0.5,0.5,0,0,0,0,0,0,0,0,0,0,0,0,0,0,0,0,0,0,0,0,0,0,0,0,1,1,1,2,1,1,178.3,13.3,"02:00:00",540,0,0,0,0,0,0,0,0,0,0,0,0,0,0,0,0,0,0,0,0,30,48,1.2,1.1000000000000001,0,0]
["2023-10-18T21:43:04",47,44,47,43,54,48,52,49,29.3,95,100,50.3,54.2,54.3,54.2,57.2,-88.9,-84.4,-86.5,120.9,121.1,120.9,120.8,121,120.8,120.9,121,120.9,120.8,121,120.9,60,60.1,60,13,9.1999999999999993,12.9,9.1,-1.6,-1.3,-1.4,-1.1000000000000001,-0.9,-0.9,-1.6,-1.3,-1.4,-1.1000000000000001,-0.9,-0.9,-0.2,-0.1,-0.1,0,0,0,-0.1,0,0,0.1,0.1,0.1,121,121.4,121.2,120.7,121.4,121,120.9,121.2,121,120.5,121.2,120.8,60,60.1,60,13.6,16.100000000000001,14.9,13.9,16,14.9,11.6,14,12.9,9,10.5,9.8000000000000007,1.6,1.9,1.8,1.6,1.9,1.7,1.4,1.7,1.5,1.1000000000000001,1.2,1.1000000000000001,0,0.1,0,0,0,0,-0.1,0,0,-0.1,0,0,6,2,2,2,2,1,179.7,13.7,"05:00:00",0,0,0,0,0,0,0,0,0,0,0,0,0,0,0,0,0,0,0,0,0,30,48,1.7,1.4,0,0,"2023-10-20T08:01:36",34,35,35,34,44,43,44,42,25.9,52.9,100,1.4,52.5,52.6,52.5,57.5,20.5,21.6,21.2,120,120,120,120,120,120,119.9,120,119.9,120,120,120,59,59,59,2.5,3.5,2.2000000000000002,3.1,0.1,0.1,0.1,0.4,0.4,0.4,0.2,0.2,0.2,0.3,0.4,0.3,-0.3,-0.3,-0.3,-0.1,-0.1,-0.1,-0.2,-0.2,-0.2,0,0,0,0.2,0.4,0.2,0.3,0.6,0.4,0.1,0.3,0.2,0.6,0.9,0.7,0,0,0,0.3,0.3,0.3,0.3,0.3,0.3,0.2,0.3,0.3,0.5,0.5,0.5,0,0,0,0,0,0,0,0,0,0,0,0,0,0,0,0,0,0,0,0,0,0,0,0,1,1,1,2,1,1,178.3,13.3,"02:00:00",545,0,0,0,0,0,0,0,0,0,0,0,0,0,0,0,0,0,0,0,0,30,48,1.1000000000000001,1,0,0]
["2023-10-18T21:49:10",47,44,47,43,54,48,53,49,29.3,95,100,50.3,54.2,54.3,54.2,57.2,-89.1,-83.5,-86,120.9,121.1,120.9,120.8,121,120.8,120.9,121,120.9,120.8,121,120.8,60,60.1,60,12.7,9.3000000000000007,13,9.8000000000000007,-1.5,-1.3,-1.3,-1.1000000000000001,-0.9,-1,-1.5,-1.3,-1.4,-1.1000000000000001,-0.9,-1,-0.2,-0.1,-0.1,0,0,0,-0.1,0,0,0.1,0.1,0.1,121.1,121.5,121.2,120.7,121.4,121,120.9,121.2,120.9,120.5,121.2,120.8,60,60.1,60,13.8,16.100000000000001,15,13.9,15.8,15,11.7,13.9,12.7,9.1999999999999993,10.4,9.8000000000000007,1.7,1.9,1.8,1.7,1.9,1.8,1.4,1.6,1.5,1.1000000000000001,1.3,1.1000000000000001,0,0.1,0,0,0,0,-0.1,0,0,-0.1,0,0,6,2,2,2,2,1,179.7,13.7,"05:00:00",0,0,0,0,0,0,0,0,0,0,0,0,0,0,0,0,0,0,0,0,0,30,48,1.8,1.5,0,0,"2023-10-20T08:07:41",34,35,35,34,44,43,44,42,25.9,52.7,100,1.4,52.5,52.6,52.5,57.5,20.5,22.5,21.5,120,120,120,120,120,120,119.9,120,119.9,120,120,120,59,59,59,2.6,3.8,2.2000000000000002,3.4,0.1,0.1,0.1,0.4,0.4,0.4,0.2,0.2,0.2,0.4,0.4,0.4,-0.3,-0.3,-0.3,-0.1,-0.1,-0.1,-0.2,-0.2,-0.2,0,0,0,0.1,0.4,0.2,0.4,0.6,0.4,0.1,0.4,0.2,0.6,0.9,0.7,0,0,0,0.3,0.3,0.3,0.3,0.4,0.3,0.2,0.3,0.2,0.5,0.5,0.5,0,0,0,0,0,0,0,0,0,0,0,0,0,0,0,0,0,0,0,0,0,0,0,0,1,1,1,2,1,1,178.3,13.3,"02:00:00",547,0,0,0,0,0,0,0,0,0,0,0,0,0,0,0,0,0,0,0,0,30,48,1.1000000000000001,1,0,0]
["2023-10-18T22:00:19",48,44,48,43,54,49,53,49,29.2,95,100,50.3,54.2,54.3,54.2,57.2,-91.6,-86.3,-89.1,120.9,121.1,120.9,120.8,120.9,120.8,120.9,121,120.9,120.8,121,120.8,60,60.1,60,12.9,9.8000000000000007,12.9,9.8000000000000007,-1.6,-1.2,-1.4,-1.2,-1,-1,-1.5,-1.2,-1.4,-1.2,-0.9,-1,-0.2,-0.1,-0.1,0,0,0,-0.1,0,0,0.1,0.1,0.1,121.1,121.5,121.2,120.7,121.4,121,120.8,121.2,121,120.5,121.2,120.8,60,60.1,60,13.5,16,15,13.6,16,14.9,11.6,13.9,12.8,9,10.6,9.8000000000000007,1.6,1.9,1.8,1.6,1.9,1.8,1.4,1.7,1.5,1.1000000000000001,1.3,1.1000000000000001,0,0,0,0,0,0,-0.1,0,0,-0.1,0,0,6,2,2,2,2,1,179.7,13.7,"05:00:00",0,0,0,0,0,0,0,0,0,0,0,0,0,0,0,0,0,0,0,0,0,30,48,1.5,1.3,0,0,"2023-10-20T08:18:50",34,35,35,34,44,43,44,42,25.9,52.3,100,1.5,52.5,52.6,52.5,57.5,21.3,24.5,22.8,120,120,120,120,120,120,119.9,120,119.9,119.9,120,119.9,59,59,59,2.6,4.4000000000000004,2.2999999999999998,3.9,0.1,0.1,0.1,0.4,0.5,0.4,0.2,0.2,0.2,0.4,0.5,0.4,-0.3,-0.3,-0.3,-0.1,-0.1,-0.1,-0.2,-0.2,-0.2,-0.1,0,0,0.1,0.3,0.2,0.4,0.6,0.4,0.1,0.3,0.1,0.6,1,0.7,0,0,0,0.3,0.4,0.3,0.3,0.4,0.3,0.3,0.3,0.3,0.5,0.5,0.5,0,0,0,0,0,0,0,0,0,0,0,0,0,0,0,0,0,0,0,0,0,0,0,0,1,1,1,2,1,1,178.2,13.2,"02:00:00",551,0,0,0,0,0,0,0,0,0,0,0,0,0,0,0,0,0,0,0,0,30,48,1.2,1.1000000000000001,0,0]
["2023-10-18T22:15:32",48,45,48,44,55,49,53,49,29.2,95,100,50.3,54.2,54.3,54.2,57.2,-90.3,-85.7,-87.8,120.9,121.1,120.9,120.8,121,120.8,120.9,121,120.9,120.8,121,120.8,60,60.1,60,12.9,9.5,12.7,9.5,-1.6,-1.2,-1.3,-1.1000000000000001,-1,-1,-1.6,-1.3,-1.4,-1.2,-0.9,-1,-0.2,-0.1,-0.1,0,0,0,-0.1,0,0,0.1,0.1,0.1,121.1,121.4,121.2,120.7,121.3,121,120.9,121.2,121,120.5,121.2,120.8,60,60.1,60,13.7,16.100000000000001,15,14,16,14.9,11.6,14,12.7,9.1,10.5,9.8000000000000007,1.7,1.9,1.8,1.7,1.9,1.7,1.4,1.7,1.5,1.1000000000000001,1.3,1.1000000000000001,0,0,0,0,0.1,0,-0.1,0,0,-0.1,0,0,6,2,2,2,2,1,179.7,13.7,"05:00:00",0,0,0,0,0,0,0,0,0,0,0,0,0,0,0,0,0,0,0,0,0,30,48,1.7,1.4,0,0,"2023-10-20T08:34:03",36,38,37,37,44,43,44,43,25.5,52.4,100,1.5,53.4,53.5,53.4,57.6,-114.6,-107.6,-110.7,121.2,121.4,121.2,120.1,120.4,120.2,120.9,121.2,121,120.2,120.4,120.2,60,60.2,60.1,13.8,13.7,13.9,13.8,-1.7,-1.3,-1.5,-1.7,-1.4,-1.5,-1.7,-1.4,-1.5,-1.6,-1.4,-1.5,-0.2,-0.1,-0.1,0,0.1,0,-0.1,-0.1,-0.1,0.1,0.2,0.1,121.3,121.8,121.5,120.3,120.9,120.6,121.1,121.5,121.2,120,120.8,120.4,60,60.2,60.1,13.3,16.2,15,18.3,21.9,20.2,11.8,14.6,13.4,11.1,13.9,12.4,1.6,2,1.8,2.2999999999999998,2.6,2.4,1.4,1.7,1.6,1.3,1.7,1.4,-0.1,0.1,0,0,0.1,0,-0.1,0.1,0,-0.1,0,0,6,2,2,2,1,1,178.2,13.2,"02:00:00",555,0,0,0,0,0,0,0,0,0,0,0,0,0,0,0,0,0,0,0,0,30,48,1.7,1.2,0,0]
["2023-10-18T22:20:36",48,45,48,44,55,49,53,49,29.3,95,100,50.3,54.2,54.3,54.2,57.2,-92.4,-87.4,-89.6,120.9,121.1,120.9,120.8,121,120.9,120.9,121,120.9,120.8,121,120.9,60,60.1,60,13.2,9.6999999999999993,13,9.6,-1.6,-1.3,-1.4,-1.1000000000000001,-0.9,-1,-1.6,-1.3,-1.4,-1.1000000000000001,-1,-1,-0.2,-0.1,-0.1,0,0,0,-0.1,0,0,0.1,0.1,0.1,121.1,121.5,121.2,120.7,121.4,121,120.9,121.2,121,120.5,121.3,120.8,60,60.1,60,13.5,16.3,14.9,13.7,15.9,14.9,11.8,14,12.9,9.1,10.4,9.8000000000000007,1.6,2,1.8,1.7,1.9,1.8,1.5,1.7,1.5,1.1000000000000001,1.3,1.1000000000000001,0,0,0,0,0,0,-0.1,0,0,-0.1,0,0,6,2,2,2,2,1,179.7,13.7,"05:00:00",0,0,0,0,0,0,0,0,0,0,0,0,0,0,0,0,0,0,0,0,0,30,48,1.7,1.3,0,0,"2023-10-20T08:39:07",37,39,38,38,45,43,44,43,25.8,53.3,100,1.5,53.6,53.7,53.6,57.5,-115.3,-110.6,-113.2,121.3,121.5,121.3,120.2,120.4,120.2,121,121.2,121.1,120.2,120.4,120.3,60,60.1,60,14,14.1,14,14.1,-1.7,-1.4,-1.5,-1.7,-1.4,-1.5,-1.7,-1.5,-1.5,-1.7,-1.5,-1.5,-0.2,-0.1,-0.1,0,0.1,0,-0.1,-0.1,-0.1,0.1,0.2,0.1,121.4,121.8,121.5,120.3,120.8,120.5,121.2,121.5,121.3,120,120.8,120.3,60,60.1,60,13.8,16,15,19.100000000000001,21.8,20.5,12.2,14.7,13.6,11.5,13.8,12.9,1.7,1.9,1.8,2.2000000000000002,2.6,2.4,1.5,1.8,1.6,1.5,1.6,1.5,-0.1,0,0,0,0.1,0,0,0.1,0,-0.1,0,0,6,2,2,2,1,1,178.2,13.2,"02:00:00",555,0,0,0,0,0,0,0,0,0,0,0,0,0,0,0,0,0,0,0,0,30,48,1.6,1.2,0,0]
["2023-10-18T22:40:53",48,45,48,44,55,49,54,49,29.2,95,100,50.3,54.2,54.3,54.2,57.2,-87.3,-81.2,-84.7,121.2,121.3,121.2,120.6,120.8,120.6,121.2,121.3,121.2,120.6,120.8,120.6,60,60.1,60,12,9.6,12,9.6,-1.5,-1.1000000000000001,-1.3,-1.2,-0.9,-1,-1.5,-1.2,-1.3,-1.2,-0.9,-1,0,0.1,0,0,0,0,0.1,0.1,0.1,0.1,0.1,0.1,121.2,121.6,121.4,120.5,121.2,120.8,121,121.4,121.2,120.3,121.1,120.6,60,60.1,60,13.5,16,14.9,13.8,16,14.9,11.4,13.4,12.5,9.1999999999999993,10.6,9.9,1.6,1.9,1.8,1.7,1.9,1.8,1.4,1.6,1.5,1.1000000000000001,1.3,1.2,0,0,0,0,0,0,-0.2,-0.1,-0.1,-0.1,0,0,6,2,2,2,2,1,179.6,13.6,"05:00:00",0,0,0,0,0,0,0,0,0,0,0,0,0,0,0,0,0,0,0,0,0,30,48,2,1.5,0,0,"2023-10-20T08:59:26",40,42,41,40,46,44,45,44,26.1,56.8,100,1.5,53.6,53.7,53.6,57.5,-112.1,-107.4,-109.8,121,121.2,121,120.2,120.4,120.3,121,121.1,121,120.2,120.4,120.3,60,60.1,60,13.7,13.7,13.6,13.7,-1.7,-1.4,-1.5,-1.6,-1.4,-1.5,-1.6,-1.4,-1.5,-1.6,-1.4,-1.5,-0.2,-0.1,-0.1,0,0,0,-0.2,-0.1,-0.1,0,0.1,0.1,121.3,121.7,121.4,120.4,121,120.6,121.1,121.5,121.3,120,120.8,120.4,60,60.1,60,13.9,16,14.9,17.7,20.399999999999999,19.2,12.1,14.4,13.3,12.6,14.2,13.3,1.7,1.9,1.8,2.2000000000000002,2.4,2.2999999999999998,1.5,1.7,1.6,1.5,1.7,1.6,-0.1,0.1,0,-0.1,0.1,0,0,0.1,0,-0.1,0,0,6,2,2,2,1,1,178.2,13.2,"02:00:00",555,0,0,0,0,0,0,0,0,0,0,0,0,0,0,0,0,0,0,0,0,30,48,1.7,1.2,0,0]
["2023-10-18T22:47:58",48,45,48,44,55,49,54,49,29.3,95,100,50.3,54.2,54.3,54.2,57.2,-85.2,-81,-83,121.2,121.4,121.2,120.6,120.8,120.6,121.2,121.3,121.2,120.6,120.7,120.6,60,60.1,60,12.1,9.1,12.1,9.1999999999999993,-1.5,-1.2,-1.3,-1.1000000000000001,-0.9,-1,-1.5,-1.2,-1.3,-1.1000000000000001,-0.9,-1,0,0.1,0,0,0,0,0.1,0.2,0.1,0.1,0.1,0.1,121.3,121.6,121.4,120.5,121.2,120.8,121.1,121.4,121.2,120.3,121,120.6,60,60.1,60,13.7,16.2,14.9,13.7,15.9,15,11.1,13.4,12.4,9.1,10.6,10,1.7,2,1.8,1.6,1.9,1.7,1.4,1.6,1.5,1.1000000000000001,1.3,1.2,0,0,0,0,0,0,-0.2,-0.1,-0.1,-0.1,0,0,6,2,2,2,2,1,179.6,13.6,"05:00:00",0,0,0,0,0,0,0,0,0,0,0,0,0,0,0,0,0,0,0,0,0,30,48,2,1.6,0,0,"2023-10-20T09:06:33",41,41,41,40,46,44,46,44,26.2,57.8,100,1.5,53.6,53.7,53.6,57.5,-95.6,-90.7,-93.3,120.9,121.1,120.9,120.9,121.1,120.9,120.7,120.8,120.7,120.7,120.8,120.7,60,60.1,60,13.6,9.9,13.5,9.8000000000000007,-1.6,-1.4,-1.4,-1.2,-1,-1,-1.6,-1.4,-1.5,-1.2,-1,-1,-0.2,-0.1,-0.1,0,0,0,-0.2,-0.1,-0.1,0,0.1,0,121,121.4,121.1,120.7,121.4,121,120.8,121.2,120.9,120.5,121.2,120.8,60,60.1,60,13.8,16.2,15,14.1,15.7,14.9,11.9,14.2,13.1,10.199999999999999,11.5,10.8,1.7,2,1.8,1.7,1.9,1.8,1.4,1.7,1.5,1.2,1.4,1.3,0,0.1,0,0,0,0,0,0.1,0,-0.1,0,0,6,2,2,2,1,1,178.2,13.2,"02:00:00",555,0,0,0,0,0,0,0,0,0,0,0,0,0,0,0,0,0,0,0,0,30,48,1.7,1.3,0,0]
["2023-10-18T22:59:09",48,44,48,43,55,49,54,49,29.2,95,100,50.3,54.2,54.3,54.3,57.2,-89.3,-84,-87.1,120.9,121.1,120.9,120.8,120.9,120.8,120.8,121,120.9,120.8,120.9,120.8,60,60.1,60,13.1,9.3000000000000007,12.8,9.3000000000000007,-1.6,-1.3,-1.4,-1.1000000000000001,-0.9,-1,-1.6,-1.3,-1.4,-1.1000000000000001,-0.9,-1,-0.2,-0.1,-0.1,0,0,0,-0.1,0,0,0.1,0.1,0.1,121.1,121.4,121.2,120.8,121.4,121,120.9,121.2,121,120.5,121.3,120.8,60,60.1,60,13.8,16.2,14.9,14,15.9,15,11.7,14.1,12.9,9.1999999999999993,10.6,9.9,1.7,2,1.8,1.7,1.9,1.7,1.4,1.7,1.5,1.1000000000000001,1.3,1.2,0,0,0,0,0.1,0,-0.1,0,0,-0.1,0,0,6,2,2,2,2,1,179.6,13.6,"05:00:00",0,0,0,0,0,0,0,0,0,0,0,0,0,0,0,0,0,0,0,0,0,30,48,1.7,1.4,0,0,"2023-10-20T09:17:43",41,41,42,39,46,44,46,44,25.4,59.4,100,1.5,53.6,53.7,53.6,57.6,-93.7,-86.7,-90.1,120.9,121.1,120.9,120.9,121.1,121,120.7,120.8,120.7,120.7,120.9,120.7,60,60.1,60,13.8,9,13.8,9,-1.7,-1.4,-1.4,-1.1000000000000001,-0.9,-0.9,-1.7,-1.3,-1.5,-1.1000000000000001,-0.9,-0.9,-0.2,-0.1,-0.1,-0.1,0,0,-0.2,-0.1,-0.1,0,0.1,0,121,121.4,121.1,120.8,121.3,121,120.7,121.2,120.9,120.5,121.3,120.8,60,60.1,60,13.9,16.399999999999999,14.9,14,16,15,11.9,14.6,13.2,10,11.4,10.7,1.7,2,1.8,1.7,1.9,1.8,1.5,1.7,1.5,1.2,1.4,1.3,-0.1,0.1,0,-0.1,0,0,-0.1,0.1,0,-0.1,0,0,6,2,2,2,1,1,178.2,13.2,"02:00:00",555,0,0,0,0,0,0,0,0,0,0,0,0,0,0,0,0,0,0,0,0,30,48,1.9,1.5,0,0]
["2023-10-18T23:04:12",48,44,48,43,55,49,54,49,29.2,95,100,50.3,54.2,54.3,54.3,57.2,-88.9,-82.3,-85.7,120.9,121.1,120.9,120.8,121,120.8,120.9,121,120.9,120.8,120.9,120.8,60,60.1,60,13.2,8.8000000000000007,13,9,-1.6,-1.3,-1.4,-1.1000000000000001,-0.8,-0.9,-1.6,-1.3,-1.4,-1.1000000000000001,-0.9,-0.9,-0.2,-0.1,-0.1,0,0,0,-0.1,0,0,0.1,0.1,0.1,121.1,121.5,121.2,120.7,121.4,121,120.9,121.2,121,120.5,121.3,120.8,60,60.1,60,13.7,16.100000000000001,14.9,13.9,15.8,14.9,11.6,14,12.8,9.3000000000000007,10.5,9.9,1.7,2,1.8,1.7,1.9,1.8,1.4,1.7,1.5,1.1000000000000001,1.3,1.2,0,0.1,0,0,0.1,0,-0.1,0,0,-0.1,0,0,6,2,2,2,2,1,179.6,13.6,"05:00:00",0,0,0,0,0,0,0,0,0,0,0,0,0,0,0,0,0,0,0,0,0,30,48,2,1.5,0,0,"2023-10-20T09:22:47",41,40,42,39,46,44,46,44,25.5,60.1,100,1.5,53.5,53.6,53.6,57.6,-85.9,-79.3,-82,121,121.3,121.1,120.4,120.7,120.5,121,121.2,121.1,120.5,120.6,120.5,60,60.1,60,12.3,9,12.2,8.9,-1.5,-1.1000000000000001,-1.3,-1,-0.8,-0.9,-1.5,-1.2,-1.3,-1,-0.8,-0.9,-0.1,0,0,0,0,0,0,0.1,0,0,0.1,0,121.2,121.7,121.4,120.5,121.1,120.8,121,121.4,121.2,120.2,120.9,120.6,60,60.1,60,13.5,16.3,14.9,13.9,16.100000000000001,15,11.2,13.5,12.3,9.8000000000000007,11.5,10.7,1.6,2,1.8,1.6,1.9,1.8,1.3,1.6,1.4,1.2,1.4,1.2,-0.1,0.1,0,0,0.1,0,-0.2,-0.1,-0.1,-0.1,0,0,6,2,2,2,1,1,178.2,13.2,"02:00:00",555,0,0,0,0,0,0,0,0,0,0,0,0,0,0,0,0,0,0,0,0,30,48,2.2000000000000002,1.8,0,0]
["2023-10-18T23:17:23",48,45,49,44,55,49,54,49,29.3,95,100,50.3,54.3,54.4,54.3,57.2,-92.9,-87.1,-89.8,120.9,121.1,120.9,120.8,120.9,120.8,120.9,121,120.9,120.8,120.9,120.8,60,60.1,60,13.4,9.6999999999999993,13.3,9.6999999999999993,-1.6,-1.3,-1.4,-1.2,-1,-1,-1.6,-1.3,-1.4,-1.2,-1,-1,-0.2,-0.1,-0.1,0,0,0,-0.1,0,0,0.1,0.1,0.1,121,121.5,121.2,120.7,121.3,121,120.8,121.2,121,120.4,121.3,120.8,60,60.1,60,13.6,16.3,14.9,13.7,15.9,15,11.6,14,12.9,9.1999999999999993,10.6,9.9,1.6,2,1.8,1.7,1.9,1.8,1.4,1.7,1.5,1.1000000000000001,1.3,1.2,0,0,0,0,0,0,-0.1,0,0,-0.1,0,0,6,2,2,2,2,1,179.6,13.6,"05:00:00",0,0,0,0,0,0,0,0,0,0,0,0,0,0,0,0,0,0,0,0,0,30,48,1.7,1.3,0,0,"2023-10-20T09:35:59",42,40,42,39,47,44,46,44,25.4,61.8,100,1.5,53.6,53.7,53.6,57.6,-86.5,-82.7,-84.2,121,121.2,121.1,120.7,120.9,120.7,121,121.2,121.1,120.5,120.6,120.5,60,60.1,60,13.3,8,13.1,8.1999999999999993,-1.6,-1.3,-1.4,-1,-0.8,-0.8,-1.6,-1.3,-1.4,-1,-0.8,-0.8,0,0.1,0,-0.1,0,0,0,0.1,0.1,0,0.1,0,121.2,121.6,121.4,120.6,121.1,120.8,121,121.4,121.2,120.2,121,120.6,60,60.1,60,13.8,16.399999999999999,15,14.1,15.8,15,11.9,14.3,13,10.3,11.5,10.9,1.7,2,1.8,1.7,1.9,1.8,1.4,1.7,1.5,1.2,1.4,1.3,-0.1,0.1,0,-0.1,0.1,0,-0.2,-0.1,-0.1,-0.1,0,0,6,2,2,2,1,1,178.2,13.2,"02:00:00",555,0,0,0,0,0,0,0,0,0,0,0,0,0,0,0,0,0,0,0,0,30,48,2.1,1.8,0,0]
["2023-10-18T23:31:36",49,45,49,44,56,49,55,50,29.3,95,100,50.3,54.3,54.4,54.3,57.2,-92.4,-88.2,-90.2,120.9,121.1,120.9,120.7,120.9,120.8,120.9,121,120.9,120.7,120.9,120.8,60,60.1,60,12.8,9.9,12.7,10,-1.5,-1.2,-1.4,-1.2,-1,-1.1000000000000001,-1.5,-1.2,-1.4,-1.2,-1,-1.1000000000000001,-0.2,-0.1,-0.1,0,0,0,-0.1,0,0,0.1,0.1,0.1,121,121.5,121.2,120.8,121.3,121,120.8,121.2,121,120.5,121.2,120.8,60,60.1,60,13.5,16,14.9,13.5,16,15,11.6,13.9,12.9,9.1999999999999993,10.7,10,1.6,1.9,1.8,1.7,1.9,1.7,1.4,1.7,1.5,1.1000000000000001,1.3,1.2,0,0,0,0,0,0,-0.1,0,0,-0.1,0,0,6,2,2,2,2,1,179.6,13.6,"05:00:00",0,0,0,0,0,0,0,0,0,0,0,0,0,0,0,0,0,0,0,0,0,30,48,1.7,1.3,0,0,"2023-10-20T09:50:11",41,40,42,39,47,44,47,44,25.2,63.5,100,1.5,53.6,53.7,53.6,57.6,-90.1,-84.1,-87.2,121.1,121.2,121.1,120.4,120.6,120.5,121.1,121.2,121.1,120.4,120.6,120.5,60,60.1,60,13,9.3000000000000007,12.9,9.1999999999999993,-1.6,-1.2,-1.4,-1.2,-0.9,-1,-1.6,-1.2,-1.4,-1.1000000000000001,-0.9,-1,0,0,0,0,0,0,0.1,0.1,0.1,0,0.1,0,121.2,121.7,121.4,120.5,121.1,120.7,121.1,121.4,121.2,120.2,120.9,120.5,60,60.1,60,13.6,16.2,14.9,13.9,16,14.9,11.6,13.7,12.7,10.1,11.7,10.9,1.7,2,1.8,1.7,1.9,1.8,1.4,1.7,1.5,1.2,1.4,1.3,0,0.1,0,0,0.1,0,-0.2,-0.1,-0.1,-0.1,0,0,6,2,2,2,1,1,178.2,13.2,"02:00:00",555,0,0,0,0,0,0,0,0,0,0,0,0,0,0,0,0,0,0,0,0,30,48,2,1.6,0,0]
["2023-10-18T23:36:41",49,45,49,44,56,50,55,50,29.3,95,100,50.3,54.3,54.4,54.3,57.2,-92.9,-86.6,-89.8,120.9,121.1,120.9,120.8,120.9,120.8,120.9,121,120.9,120.7,120.9,120.8,60,60.1,60,13.1,10.3,13,10.1,-1.6,-1.2,-1.4,-1.2,-1,-1.1000000000000001,-1.6,-1.3,-1.4,-1.2,-1,-1.1000000000000001,-0.2,-0.1,-0.1,0,0,0,-0.1,0,0,0.1,0.1,0.1,121.1,121.5,121.2,120.7,121.4,121,120.8,121.2,121,120.5,121.2,120.8,60,60.1,60,13.5,16.100000000000001,14.9,13.8,15.9,14.9,11.5,13.9,12.8,9.3000000000000007,10.7,9.9,1.6,2,1.8,1.7,1.9,1.8,1.4,1.7,1.5,1.1000000000000001,1.3,1.2,0,0.1,0,0,0.1,0,-0.1,0,0,-0.1,0,0,6,2,2,2,2,1,179.6,13.6,"05:00:00",0,0,0,0,0,0,0,0,0,0,0,0,0,0,0,0,0,0,0,0,0,30,48,1.6,1.3,0,0,"2023-10-20T09:55:16",42,40,43,39,47,45,47,44,25.1,64.2,100,1.5,53.6,53.7,53.7,57.6,-91.9,-85.9,-89,121.1,121.2,121.1,120.4,120.6,120.4,121,121.2,121.1,120.4,120.6,120.5,60,60.1,60,12.9,10.1,13.1,9.9,-1.6,-1.2,-1.4,-1.2,-0.9,-1,-1.5,-1.3,-1.4,-1.2,-0.9,-1,0,0,0,0,0,0,0,0.1,0.1,0,0.1,0,121.2,121.7,121.4,120.5,121.1,120.7,121.1,121.5,121.2,120.2,121,120.5,60,60.1,60,13.7,16.100000000000001,14.9,13.8,16.100000000000001,14.9,11.2,13.9,12.8,10.1,11.9,11,1.7,2,1.8,1.7,1.9,1.8,1.4,1.7,1.5,1.2,1.4,1.3,0,0.1,0,0,0.1,0,-0.2,-0.1,-0.1,-0.1,0,0,6,2,2,2,1,1,178.2,13.2,"02:00:00",555,0,0,0,0,0,0,0,0,0,0,0,0,0,0,0,0,0,0,0,0,30,48,2.2000000000000002,1.5,0,0]
["2023-10-18T23:51:54",49,45,49,44,56,50,55,50,29.4,95,100,50.3,54.3,54.4,54.3,57.2,-94.3,-88.2,-91.6,120.8,121,120.9,120.8,121,120.8,120.9,121,120.9,120.8,120.9,120.8,60,60.1,60,13,10,13,10.1,-1.6,-1.3,-1.4,-1.2,-1,-1.1000000000000001,-1.6,-1.3,-1.4,-1.2,-1,-1.1000000000000001,-0.2,-0.1,-0.1,0,0,0,-0.1,0,0,0.1,0.1,0.1,121,121.4,121.2,120.8,121.3,121,120.9,121.2,121,120.5,121.2,120.8,60,60.1,60,13.6,16.100000000000001,15,13.9,15.9,14.9,11.9,13.9,13,9.1,10.7,10,1.6,1.9,1.8,1.7,1.9,1.8,1.4,1.7,1.5,1.1000000000000001,1.3,1.2,0,0,0,0,0.1,0,-0.1,0,0,-0.1,0,0,6,2,2,2,2,1,179.6,13.6,"05:00:00",0,0,0,0,0,0,0,0,0,0,0,0,0,0,0,0,0,0,0,0,0,30,48,1.6,1.2,0,0,"2023-10-20T10:10:28",43,40,43,39,48,45,47,44,25.4,66.3,100,1.6,53.7,53.8,53.8,57.6,-97,-91.2,-93.8,120.7,120.9,120.7,120.6,120.8,120.7,120.6,120.8,120.7,120.6,120.8,120.7,60,60.1,60,14.1,9.5,14.3,9.6999999999999993,-1.7,-1.4,-1.5,-1.1000000000000001,-1,-1,-1.7,-1.4,-1.5,-1.1000000000000001,-0.9,-1,-0.2,-0.1,-0.1,-0.1,0,0,-0.1,0,0,0,0.1,0,121,121.4,121.2,120.7,121.2,120.9,120.8,121.2,120.9,120.4,121.2,120.7,60,60.1,60,13.6,16.100000000000001,14.9,13.9,15.9,15,12.5,14.6,13.5,10.4,11.7,11,1.7,1.9,1.8,1.7,1.9,1.8,1.5,1.8,1.6,1.2,1.4,1.3,-0.1,0.1,0,-0.1,0.1,0,-0.1,0,0,-0.1,0,0,6,2,2,2,1,1,178.2,13.2,"02:00:00",555,0,0,0,0,0,0,0,0,0,0,0,0,0,0,0,0,0,0,0,0,30,48,1.7,1.3,0,0]
["2023-10-18T23:57:59",49,45,49,44,56,50,55,50,29.4,95,100,50.3,54.3,54.4,54.3,57.2,-90.8,-86.4,-88.7,120.9,121.1,120.9,120.8,121,120.8,120.8,121,120.9,120.8,120.9,120.8,60,60.1,60,13,9.3000000000000007,13,9.4,-1.6,-1.3,-1.4,-1.1000000000000001,-1,-1,-1.6,-1.3,-1.4,-1.1000000000000001,-1,-1,-0.2,-0.1,-0.1,0,0,0,-0.1,0,0,0.1,0.1,0.1,121,121.4,121.2,120.7,121.4,121,120.9,121.2,120.9,120.4,121.3,120.8,60,60.1,60,13.8,16,14.9,13.8,15.8,14.9,11.9,14,12.9,9.3000000000000007,10.6,9.9,1.7,1.9,1.8,1.7,1.9,1.7,1.5,1.7,1.5,1.1000000000000001,1.3,1.1000000000000001,0,0,0,0,0.1,0,-0.1,0,0,-0.1,0,0,6,2,2,2,2,1,179.6,13.6,"05:00:00",0,0,0,0,0,0,0,0,0,0,0,0,0,0,0,0,0,0,0,0,0,30,48,1.7,1.3,0,0,"2023-10-20T10:16:34",43,40,44,39,48,45,48,44,25.4,67.2,100,1.6,53.8,53.9,53.8,57.6,-97.2,-91.9,-93.8,120.7,120.9,120.7,120.6,120.8,120.7,120.7,120.9,120.7,120.7,120.9,120.7,60,60.1,60,14.4,9.5,14.3,9.4,-1.7,-1.4,-1.5,-1.2,-0.9,-1,-1.7,-1.4,-1.5,-1.2,-0.9,-1,-0.2,-0.1,-0.1,0,0,0,-0.1,-0.1,-0.1,0,0.1,0,121,121.4,121.1,120.7,121.3,121,120.8,121.2,120.9,120.5,121.2,120.8,60,60.1,60,13.8,16.2,14.9,14.2,15.8,14.9,12.4,14.6,13.6,10.4,11.9,11,1.7,2,1.8,1.7,1.9,1.8,1.5,1.8,1.6,1.2,1.4,1.3,-0.1,0.1,0,-0.1,0.1,0,-0.1,0,0,-0.1,0,0,6,2,2,2,1,1,178.2,13.2,"02:00:00",555,0,0,0,0,0,0,0,0,0,0,0,0,0,0,0,0,0,0,0,0,30,48,1.8,1.3,0,0]
[null,null,null,null,null,null,null,null,null,null,null,null,null,null,null,null,null,null,null,null,null,null,null,null,null,null,null,null,null,null,null,null,null,null,null,null,null,null,null,null,null,null,null,null,null,null,null,null,null,null,null,null,null,null,null,null,null,null,null,null,null,null,null,null,null,null,null,null,null,null,null,null,null,null,null,null,null,null,null,null,null,null,null,null,null,null,null,null,null,null,null,null,null,null,null,null,null,null,null,null,null,null,null,null,null,null,null,null,null,null,null,null,null,null,null,null,null,null,null,null,null,null,null,null,null,null,null,null,null,null,null,null,null,null,null,null,null,null,null,null,null,null,null,null,null,null,null,null,null,null,"2023-10-20T10:27:44",43,41,44,39,49,45,48,44,25.9,68.8,100,1.6,53.9,53.9,53.9,57.5,-96.8,-92.4,-94.5,120.7,120.9,120.7,120.7,120.8,120.7,120.7,120.8,120.7,120.7,120.9,120.7,60,60.1,60,14.7,9.1999999999999993,14.4,9.3000000000000007,-1.8,-1.5,-1.5,-1.1000000000000001,-0.9,-1,-1.7,-1.4,-1.5,-1.1000000000000001,-0.9,-1,-0.2,-0.1,-0.1,0,0,0,-0.1,0,-0.1,0,0.1,0,121,121.4,121.1,120.7,121.4,121,120.8,121.2,120.9,120.5,121.2,120.8,60,60.1,60,13.9,16.399999999999999,15,14.1,16,15,12.7,15,13.8,10.199999999999999,11.7,10.9,1.7,2,1.8,1.7,1.9,1.8,1.5,1.8,1.6,1.3,1.4,1.3,-0.1,0,0,0,0.1,0,-0.1,0,0,-0.1,0,0,6,2,2,2,1,1,178.2,13.2,"02:00:00",555,0,0,0,0,0,0,0,0,0,0,0,0,0,0,0,0,0,0,0,0,30,48,1.8,1.3,0,0]
[null,null,null,null,null,null,null,null,null,null,null,null,null,null,null,null,null,null,null,null,null,null,null,null,null,null,null,null,null,null,null,null,null,null,null,null,null,null,null,null,null,null,null,null,null,null,null,null,null,null,null,null,null,null,null,null,null,null,null,null,null,null,null,null,null,null,null,null,null,null,null,null,null,null,null,null,null,null,null,null,null,null,null,null,null,null,null,null,null,null,null,null,null,null,null,null,null,null,null,null,null,null,null,null,null,null,null,null,null,null,null,null,null,null,null,null,null,null,null,null,null,null,null,null,null,null,null,null,null,null,null,null,null,null,null,null,null,null,null,null,null,null,null,null,null,null,null,null,null,null,"2023-10-20T10:38:55",44,41,45,39,49,45,49,45,26.2,70.400000000000006,100,1.6,54,54.1,54,57.5,-91.9,-87.2,-89.6,120.7,120.9,120.7,120.7,120.8,120.7,120.6,120.9,120.7,120.7,120.9,120.7,60,60.1,60,14.4,8.4,14.5,8.5,-1.7,-1.4,-1.5,-1,-0.8,-0.9,-1.7,-1.5,-1.5,-1,-0.8,-0.9,-0.2,-0.1,-0.1,-0.1,0,0,-0.1,-0.1,-0.1,0,0.1,0,121,121.4,121.1,120.8,121.3,121,120.8,121.2,120.9,120.5,121.3,120.8,60,60.1,60,13.4,16.3,14.9,13.8,15.8,14.9,12.1,14.9,13.6,10,11.5,10.9,1.6,2,1.8,1.7,1.9,1.8,1.5,1.8,1.6,1.2,1.4,1.3,-0.1,0.1,0,-0.1,0.1,0,-0.1,0.1,0,-0.1,0,0,6,2,2,2,1,1,178.1,13.1,"02:00:00",555,0,0,0,0,0,0,0,0,0,0,0,0,0,0,0,0,0,0,0,0,30,48,1.9,1.5,0,0]
[null,null,null,null,null,null,null,null,null,null,null,null,null,null,null,null,null,null,null,null,null,null,null,null,null,null,null,null,null,null,null,null,null,null,null,null,null,null,null,null,null,null,null,null,null,null,null,null,null,null,null,null,null,null,null,null,null,null,null,null,null,null,null,null,null,null,null,null,null,null,null,null,null,null,null,null,null,null,null,null,null,null,null,null,null,null,null,null,null,null,null,null,null,null,null,null,null,null,null,null,null,null,null,null,null,null,null,null,null,null,null,null,null,null,null,null,null,null,null,null,null,null,null,null,null,null,null,null,null,null,null,null,null,null,null,null,null,null,null,null,null,null,null,null,null,null,null,null,null,null,"2023-10-20T10:43:59",44,40,45,39,49,45,49,45,26.3,71.099999999999994,100,1.6,54,54.1,54,57.5,-91.1,-86.4,-88.3,120.7,120.8,120.7,120.6,120.8,120.7,120.6,120.8,120.7,120.7,120.8,120.7,60,60.1,60,14.3,8.4,14.4,8.4,-1.7,-1.4,-1.5,-1,-0.8,-0.9,-1.7,-1.4,-1.5,-1,-0.8,-0.8,-0.2,-0.1,-0.1,-0.1,0,0,-0.1,-0.1,-0.1,0,0.1,0,121,121.4,121.1,120.7,121.4,121,120.8,121.1,120.9,120.5,121.2,120.8,60,60.1,60,13.7,16.399999999999999,15,14.2,15.8,15,12.5,14.9,13.6,10.3,11.6,10.9,1.7,2,1.8,1.7,1.9,1.8,1.5,1.8,1.6,1.2,1.4,1.3,0,0,0,0,0.1,0,-0.1,0,0,-0.1,0,0,6,2,2,2,1,1,178.1,13.1,"02:00:00",555,0,0,0,0,0,0,0,0,0,0,0,0,0,0,0,0,0,0,0,0,30,48,1.9,1.6,0,0]
[null,null,null,null,null,null,null,null,null,null,null,null,null,null,null,null,null,null,null,null,null,null,null,null,null,null,null,null,null,null,null,null,null,null,null,null,null,null,null,null,null,null,null,null,null,null,null,null,null,null,null,null,null,null,null,null,null,null,null,null,null,null,null,null,null,null,null,null,null,null,null,null,null,null,null,null,null,null,null,null,null,null,null,null,null,null,null,null,null,null,null,null,null,null,null,null,null,null,null,null,null,null,null,null,null,null,null,null,null,null,null,null,null,null,null,null,null,null,null,null,null,null,null,null,null,null,null,null,null,null,null,null,null,null,null,null,null,null,null,null,null,null,null,null,null,null,null,null,null,null,"2023-10-20T11:04:20",45,41,46,39,50,45,50,45,26.5,73.900000000000006,100,1.6,54.1,54.2,54.2,57.5,-95.5,-91.3,-93.1,120.7,120.9,120.7,120.6,120.8,120.7,120.6,120.8,120.7,120.7,120.9,120.7,60,60.1,60,14.5,9.1,14.5,8.9,-1.7,-1.4,-1.5,-1.1000000000000001,-0.9,-0.9,-1.8,-1.5,-1.6,-1.1000000000000001,-0.9,-0.9,-0.2,-0.1,-0.1,-0.1,0,0,-0.1,0,-0.1,0,0.1,0,121,121.4,121.2,120.7,121.3,121,120.8,121.2,120.9,120.4,121.2,120.8,60,60.1,60,13.7,16.2,14.9,14.2,15.8,15,12.6,15.1,13.8,10.199999999999999,11.6,10.9,1.7,2,1.8,1.7,1.9,1.8,1.5,1.8,1.6,1.2,1.4,1.3,0,0.1,0,-0.1,0.1,0,-0.1,0,0,-0.1,0,0,6,2,2,2,1,1,178.1,13.1,"02:00:00",555,0,0,0,0,0,0,0,0,0,0,0,0,0,0,0,0,0,0,0,0,30,48,1.7,1.4,0,0]
[null,null,null,null,null,null,null,null,null,null,null,null,null,null,null,null,null,null,null,null,null,null,null,null,null,null,null,null,null,null,null,null,null,null,null,null,null,null,null,null,null,null,null,null,null,null,null,null,null,null,null,null,null,null,null,null,null,null,null,null,null,null,null,null,null,null,null,null,null,null,null,null,null,null,null,null,null,null,null,null,null,null,null,null,null,null,null,null,null,null,null,null,null,null,null,null,null,null,null,null,null,null,null,null,null,null,null,null,null,null,null,null,null,null,null,null,null,null,null,null,null,null,null,null,null,null,null,null,null,null,null,null,null,null,null,null,null,null,null,null,null,null,null,null,null,null,null,null,null,null,"2023-10-20T11:11:26",46,41,46,40,50,45,50,45,26.7,74.900000000000006,100,1.6,54.1,54.2,54.2,57.4,-97.4,-90.5,-93.1,120.7,120.9,120.7,120.6,120.8,120.7,120.7,120.8,120.7,120.7,120.8,120.7,60,60.1,60,14.4,9.5,14.4,9.6,-1.7,-1.4,-1.5,-1.1000000000000001,-0.9,-1,-1.7,-1.4,-1.5,-1.1000000000000001,-0.9,-1,-0.2,-0.1,-0.1,-0.1,0,0,-0.1,0,-0.1,0,0.1,0,121,121.4,121.1,120.8,121.4,121,120.8,121.1,120.9,120.5,121.2,120.8,60,60.1,60,13.6,16.2,14.9,14.1,15.9,14.9,12.5,14.8,13.7,10.199999999999999,11.6,10.9,1.6,2,1.8,1.7,1.9,1.8,1.5,1.8,1.6,1.2,1.4,1.3,0,0.1,0,-0.1,0.1,0,-0.1,0.1,0,-0.1,0,0,6,2,2,2,1,1,178.1,13.1,"02:00:00",555,0,0,0,0,0,0,0,0,0,0,0,0,0,0,0,0,0,0,0,0,30,48,1.6,1.3,0,0]
[null,null,null,null,null,null,null,null,null,null,null,null,null,null,null,null,null,null,null,null,null,null,null,null,null,null,null,null,null,null,null,null,null,null,null,null,null,null,null,null,null,null,null,null,null,null,null,null,null,null,null,null,null,null,null,null,null,null,null,null,null,null,null,null,null,null,null,null,null,null,null,null,null,null,null,null,null,null,null,null,null,null,null,null,null,null,null,null,null,null,null,null,null,null,null,null,null,null,null,null,null,null,null,null,null,null,null,null,null,null,null,null,null,null,null,null,null,null,null,null,null,null,null,null,null,null,null,null,null,null,null,null,null,null,null,null,null,null,null,null,null,null,null,null,null,null,null,null,null,null,"2023-10-20T11:16:31",46,41,46,40,50,45,50,45,26.8,75.599999999999994,100,1.6,54.1,54.2,54.2,57.4,-95.4,-86.8,-91.1,120.7,120.9,120.7,120.7,120.8,120.7,120.6,120.8,120.7,120.7,120.9,120.7,60,60.1,60,13.9,9.5,14,9.5,-1.7,-1.4,-1.5,-1.2,-0.9,-1,-1.7,-1.4,-1.5,-1.1000000000000001,-0.9,-1,-0.2,-0.1,-0.2,0,0,0,-0.1,-0.1,-0.1,0,0.1,0,121,121.4,121.1,120.8,121.3,121,120.8,121.2,120.9,120.5,121.2,120.8,60,60.1,60,13.4,16.100000000000001,14.9,13.8,15.7,14.9,12,14.6,13.4,10.3,11.5,10.9,1.6,1.9,1.8,1.7,1.9,1.7,1.5,1.7,1.6,1.2,1.4,1.3,-0.1,0.1,0,-0.1,0.1,0,0,0.1,0,-0.1,0,0,6,2,2,2,1,1,178.1,13.1,"02:00:00",555,0,0,0,0,0,0,0,0,0,0,0,0,0,0,0,0,0,0,0,0,30,48,1.7,1.4,0,0]
[null,null,null,null,null,null,null,null,null,null,null,null,null,null,null,null,null,null,null,null,null,null,null,null,null,null,null,null,null,null,null,null,null,null,null,null,null,null,null,null,null,null,null,null,null,null,null,null,null,null,null,null,null,null,null,null,null,null,null,null,null,null,null,null,null,null,null,null,null,null,null,null,null,null,null,null,null,null,null,null,null,null,null,null,null,null,null,null,null,null,null,null,null,null,null,null,null,null,null,null,null,null,null,null,null,null,null,null,null,null,null,null,null,null,null,null,null,null,null,null,null,null,null,null,null,null,null,null,null,null,null,null,null,null,null,null,null,null,null,null,null,null,null,null,null,null,null,null,null,null,"2023-10-20T11:27:42",46,40,46,39,51,45,51,45,26.4,77.099999999999994,100,1.6,54.1,54.2,54.1,57.5,-88.2,-83.2,-85.6,120.6,120.9,120.7,120.7,120.8,120.7,120.6,120.8,120.7,120.7,120.9,120.7,60,60.1,60,14.1,7.8,14.2,7.9,-1.7,-1.3,-1.5,-0.9,-0.8,-0.8,-1.7,-1.4,-1.5,-0.9,-0.8,-0.8,-0.2,-0.1,-0.2,-0.1,0,0,-0.2,-0.1,-0.1,0,0.1,0,121,121.4,121.1,120.8,121.3,121,120.8,121.2,120.9,120.4,121.3,120.8,60,60.1,60,13.3,16.100000000000001,14.9,13.9,15.9,14.9,12.4,14.8,13.5,10.1,11.6,10.8,1.6,1.9,1.8,1.7,1.9,1.8,1.5,1.8,1.6,1.2,1.4,1.3,-0.1,0.1,0,0,0,0,0,0.1,0,-0.1,0,0,6,2,2,2,1,1,178.1,13.1,"02:00:00",555,0,0,0,0,0,0,0,0,0,0,0,0,0,0,0,0,0,0,0,0,30,48,2.1,1.7,0,0]
[null,null,null,null,null,null,null,null,null,null,null,null,null,null,null,null,null,null,null,null,null,null,null,null,null,null,null,null,null,null,null,null,null,null,null,null,null,null,null,null,null,null,null,null,null,null,null,null,null,null,null,null,null,null,null,null,null,null,null,null,null,null,null,null,null,null,null,null,null,null,null,null,null,null,null,null,null,null,null,null,null,null,null,null,null,null,null,null,null,null,null,null,null,null,null,null,null,null,null,null,null,null,null,null,null,null,null,null,null,null,null,null,null,null,null,null,null,null,null,null,null,null,null,null,null,null,null,null,null,null,null,null,null,null,null,null,null,null,null,null,null,null,null,null,null,null,null,null,null,null,"2023-10-20T11:44:59",45,41,45,40,51,45,51,45,26.7,79.2,100,1.6,54.1,54.2,54.1,57.4,-89.8,-81.900000000000006,-86.1,121.1,121.2,121.1,120.4,120.6,120.5,121.1,121.2,121.1,120.5,120.6,120.5,60,60.1,60,12.5,9.9,12.7,9.9,-1.5,-1.2,-1.3,-1.2,-0.9,-1,-1.5,-1.2,-1.3,-1.2,-0.9,-1,0,0,0,0,0,0,0,0.1,0,0,0.1,0.1,121.3,121.7,121.4,120.5,121.1,120.7,121.1,121.4,121.2,120.2,121,120.5,60,60.1,60,13.7,16.100000000000001,14.9,14,16.100000000000001,14.9,11.5,13.9,12.6,10.1,11.8,10.9,1.7,1.9,1.8,1.7,1.9,1.7,1.4,1.6,1.5,1.2,1.4,1.3,0,0.1,0,0,0,0,-0.2,-0.1,-0.1,-0.1,0,0,6,2,2,2,1,1,178.1,13.1,"02:00:00",555,0,0,0,0,0,0,0,0,0,0,0,0,0,0,0,0,0,0,0,0,30,48,2,1.6,0,0]
[null,null,null,null,null,null,null,null,null,null,null,null,null,null,null,null,null,null,null,null,null,null,null,null,null,null,null,null,null,null,null,null,null,null,null,null,null,null,null,null,null,null,null,null,null,null,null,null,null,null,null,null,null,null,null,null,null,null,null,null,null,null,null,null,null,null,null,null,null,null,null,null,null,null,null,null,null,null,null,null,null,null,null,null,null,null,null,null,null,null,null,null,null,null,null,null,null,null,null,null,null,null,null,null,null,null,null,null,null,null,null,null,null,null,null,null,null,null,null,null,null,null,null,null,null,null,null,null,null,null,null,null,null,null,null,null,null,null,null,null,null,null,null,null,null,null,null,null,null,null,"2023-10-20T11:49:02",45,41,45,40,51,45,51,45,26.5,79.7,100,1.7,54.1,54.2,54.1,57.5,-86.3,-77.2,-82,121.1,121.3,121.1,120.5,120.7,120.5,121,121.3,121.1,120.5,120.7,120.5,60,60.1,60,12.7,8.1999999999999993,13,8.4,-1.5,-1.2,-1.4,-1,-0.7,-0.8,-1.5,-1.3,-1.4,-1,-0.7,-0.8,-0.1,0,0,0,0.1,0,0,0.1,0.1,0,0.2,0.1,121.2,121.7,121.4,120.5,121.2,120.8,121.1,121.4,121.2,120.3,121,120.6,60,60.1,60,13.2,16.2,14.9,14.1,16.100000000000001,15,11.4,14,12.7,10.1,11.8,10.8,1.6,2,1.8,1.7,2,1.8,1.3,1.7,1.5,1.2,1.4,1.2,-0.1,0.1,0,-0.1,0.1,0,-0.2,0,-0.1,-0.1,0.1,0,6,2,2,2,1,1,178.1,13.1,"02:00:00",555,0,0,0,0,0,0,0,0,0,0,0,0,0,0,0,0,0,0,0,0,30,48,2.2999999999999998,1.8,0,0]
[null,null,null,null,null,null,null,null,null,null,null,null,null,null,null,null,null,null,null,null,null,null,null,null,null,null,null,null,null,null,null,null,null,null,null,null,null,null,null,null,null,null,null,null,null,null,null,null,null,null,null,null,null,null,null,null,null,null,null,null,null,null,null,null,null,null,null,null,null,null,null,null,null,null,null,null,null,null,null,null,null,null,null,null,null,null,null,null,null,null,null,null,null,null,null,null,null,null,null,null,null,null,null,null,null,null,null,null,null,null,null,null,null,null,null,null,null,null,null,null,null,null,null,null,null,null,null,null,null,null,null,null,null,null,null,null,null,null,null,null,null,null,null,null,null,null,null,null,null,null,"2023-10-20T12:00:11",46,41,46,40,51,46,51,45,25.7,81.2,100,1.7,54.1,54.2,54.2,57.5,-91.2,-83,-86.4,120.6,120.9,120.7,120.7,120.9,120.7,120.6,120.8,120.7,120.7,120.9,120.7,60,60.1,60,14.2,8.6,14.3,8.6,-1.7,-1.4,-1.5,-1.1000000000000001,-0.8,-0.8,-1.7,-1.4,-1.5,-1.1000000000000001,-0.8,-0.8,-0.2,-0.1,-0.2,0,0.1,0,-0.2,-0.1,-0.1,0,0.1,0,121,121.4,121.2,120.7,121.4,121,120.8,121.2,120.9,120.5,121.3,120.8,60,60.1,60,13.5,16.2,15,14,16,15,12,14.9,13.4,10,11.5,10.8,1.6,2,1.8,1.7,1.9,1.8,1.5,1.8,1.6,1.2,1.4,1.3,-0.1,0.1,0,0,0,0,-0.1,0.1,0,-0.1,0,0,6,2,2,2,1,1,178.1,13.1,"02:00:00",555,0,0,0,0,0,0,0,0,0,0,0,0,0,0,0,0,0,0,0,0,30,48,2.1,1.7,0,0]
[null,null,null,null,null,null,null,null,null,null,null,null,null,null,null,null,null,null,null,null,null,null,null,null,null,null,null,null,null,null,null,null,null,null,null,null,null,null,null,null,null,null,null,null,null,null,null,null,null,null,null,null,null,null,null,null,null,null,null,null,null,null,null,null,null,null,null,null,null,null,null,null,null,null,null,null,null,null,null,null,null,null,null,null,null,null,null,null,null,null,null,null,null,null,null,null,null,null,null,null,null,null,null,null,null,null,null,null,null,null,null,null,null,null,null,null,null,null,null,null,null,null,null,null,null,null,null,null,null,null,null,null,null,null,null,null,null,null,null,null,null,null,null,null,null,null,null,null,null,null,"2023-10-20T12:15:25",46,39,46,38,52,45,52,45,26.1,83,100,1.7,54,54.1,54.1,57.5,-69.7,-63.7,-66,120.6,120.9,120.7,120.7,120.9,120.8,120.6,120.8,120.7,120.8,121,120.8,60,60.1,60,14.1,3.4,13.9,3.5,-1.7,-1.4,-1.5,-0.4,-0.2,-0.3,-1.7,-1.4,-1.5,-0.4,-0.2,-0.3,-0.3,-0.1,-0.2,-0.1,0,0,-0.2,0,-0.1,0,0.1,0,121,121.4,121.1,120.8,121.4,121,120.8,121.2,120.9,120.5,121.3,120.8,60,60.1,60,13.7,16.2,15,14.3,15.7,15,12.2,14.7,13.4,9.8000000000000007,11,10.4,1.7,2,1.8,1.7,1.9,1.8,1.5,1.8,1.6,1.2,1.3,1.2,-0.1,0.1,0,-0.1,0.1,0,-0.1,0.1,0,-0.1,0,0,6,2,2,2,1,1,178.1,13.1,"02:00:00",555,0,0,0,0,0,0,0,0,0,0,0,0,0,0,0,0,0,0,0,0,30,48,3.1,2.8,0,0]
[null,null,null,null,null,null,null,null,null,null,null,null,null,null,null,null,null,null,null,null,null,null,null,null,null,null,null,null,null,null,null,null,null,null,null,null,null,null,null,null,null,null,null,null,null,null,null,null,null,null,null,null,null,null,null,null,null,null,null,null,null,null,null,null,null,null,null,null,null,null,null,null,null,null,null,null,null,null,null,null,null,null,null,null,null,null,null,null,null,null,null,null,null,null,null,null,null,null,null,null,null,null,null,null,null,null,null,null,null,null,null,null,null,null,null,null,null,null,null,null,null,null,null,null,null,null,null,null,null,null,null,null,null,null,null,null,null,null,null,null,null,null,null,null,null,null,null,null,null,null,"2023-10-20T12:21:28",46,39,46,38,52,45,52,45,26.2,83.7,100,1.7,54,54.2,54.1,57.5,-72.900000000000006,-63.5,-67.900000000000006,120.6,120.9,120.7,120.7,121,120.8,120.6,120.8,120.6,120.8,121,120.8,60,60.1,60,14.3,4.2,14.1,4.0999999999999996,-1.7,-1.3,-1.5,-0.5,-0.2,-0.3,-1.7,-1.4,-1.5,-0.5,-0.2,-0.3,-0.3,-0.1,-0.1,-0.1,0,0,-0.2,0,-0.1,0,0.1,0,120.9,121.4,121.1,120.8,121.6,121.1,120.7,121.2,120.9,120.5,121.4,120.9,60,60.1,60,13.2,16.3,14.9,13.9,16.100000000000001,14.9,12.2,14.9,13.5,9.5,11.1,10.4,1.6,2,1.8,1.6,1.9,1.8,1.5,1.8,1.6,1.2,1.3,1.2,-0.1,0.1,0,-0.1,0.1,0,-0.1,0.1,0,-0.1,0,0,6,2,2,2,1,1,178.1,13.1,"02:00:00",555,0,0,0,0,0,0,0,0,0,0,0,0,0,0,0,0,0,0,0,0,30,48,3.3,2.6,0,0]
[null,null,null,null,null,null,null,null,null,null,null,null,null,null,null,null,null,null,null,null,null,null,null,null,null,null,null,null,null,null,null,null,null,null,null,null,null,null,null,null,null,null,null,null,null,null,null,null,null,null,null,null,null,null,null,null,null,null,null,null,null,null,null,null,null,null,null,null,null,null,null,null,null,null,null,null,null,null,null,null,null,null,null,null,null,null,null,null,null,null,null,null,null,null,null,null,null,null,null,null,null,null,null,null,null,null,null,null,null,null,null,null,null,null,null,null,null,null,null,null,null,null,null,null,null,null,null,null,null,null,null,null,null,null,null,null,null,null,null,null,null,null,null,null,null,null,null,null,null,null,"2023-10-20T12:32:39",46,38,46,37,52,45,52,45,26.1,84.8,100,1.7,54,54.1,54.1,57.5,-68.3,-60.7,-63.6,120.6,120.9,120.7,120.7,121,120.7,120.6,120.9,120.7,120.7,121,120.8,60,60.1,60,14,3.4,13.9,3.4,-1.7,-1.3,-1.5,-0.4,-0.1,-0.2,-1.7,-1.4,-1.5,-0.4,-0.2,-0.2,-0.3,-0.1,-0.1,-0.1,0,0,-0.2,0,0,0,0.1,0,121,121.6,121.1,120.7,121.5,121,120.7,121.2,120.9,120.5,121.3,120.8,60,60.1,60,13.4,16.3,14.9,14.1,15.8,14.9,11.8,14.4,13.3,9.9,10.9,10.4,1.6,2,1.8,1.7,1.9,1.8,1.4,1.8,1.5,1.2,1.3,1.2,-0.1,0.2,0,-0.1,0.1,0,-0.1,0.2,0,-0.1,0.1,0,6,2,2,2,1,1,178.1,13.1,"02:00:00",555,0,0,0,0,0,0,0,0,0,0,0,0,0,0,0,0,0,0,0,0,30,48,3.3,2.8,0,0]
[null,null,null,null,null,null,null,null,null,null,null,null,null,null,null,null,null,null,null,null,null,null,null,null,null,null,null,null,null,null,null,null,null,null,null,null,null,null,null,null,null,null,null,null,null,null,null,null,null,null,null,null,null,null,null,null,null,null,null,null,null,null,null,null,null,null,null,null,null,null,null,null,null,null,null,null,null,null,null,null,null,null,null,null,null,null,null,null,null,null,null,null,null,null,null,null,null,null,null,null,null,null,null,null,null,null,null,null,null,null,null,null,null,null,null,null,null,null,null,null,null,null,null,null,null,null,null,null,null,null,null,null,null,null,null,null,null,null,null,null,null,null,null,null,null,null,null,null,null,null,"2023-10-20T12:47:53",47,39,47,38,53,45,52,45,26.3,86.4,100,1.7,54.2,54.3,54.2,57.5,-98.5,-88.4,-92.9,120.8,121.1,120.9,120.8,121.1,120.9,120.8,121,120.9,120.7,120.9,120.8,60,60.1,60,14.3,10.1,14.2,10,-1.7,-1.4,-1.5,-1.2,-0.9,-1,-1.7,-1.4,-1.5,-1.2,-0.9,-1,-0.3,-0.1,-0.2,0,0.1,0,-0.1,-0.1,-0.1,0,0.2,0,121,121.5,121.2,120.7,121.4,121,120.8,121.2,120.9,120.5,121.2,120.8,60,60.1,60,13.6,16.3,14.9,13.8,15.9,14.9,12.2,14.6,13.5,10.199999999999999,11.7,11,1.6,2,1.8,1.7,1.9,1.8,1.5,1.8,1.6,1.3,1.4,1.3,-0.1,0.1,0,0,0,0,0,0.1,0,-0.1,0.1,0,6,2,2,2,1,1,178.1,13.1,"02:00:00",555,0,0,0,0,0,0,0,0,0,0,0,0,0,0,0,0,0,0,0,0,30,48,1.9,1.3,0,0]
[null,null,null,null,null,null,null,null,null,null,null,null,null,null,null,null,null,null,null,null,null,null,null,null,null,null,null,null,null,null,null,null,null,null,null,null,null,null,null,null,null,null,null,null,null,null,null,null,null,null,null,null,null,null,null,null,null,null,null,null,null,null,null,null,null,null,null,null,null,null,null,null,null,null,null,null,null,null,null,null,null,null,null,null,null,null,null,null,null,null,null,null,null,null,null,null,null,null,null,null,null,null,null,null,null,null,null,null,null,null,null,null,null,null,null,null,null,null,null,null,null,null,null,null,null,null,null,null,null,null,null,null,null,null,null,null,null,null,null,null,null,null,null,null,null,null,null,null,null,null,"2023-10-20T12:48:54",47,39,47,38,53,45,52,45,26.2,86.5,100,1.7,54.2,54.3,54.2,57.5,-92.3,-87,-89.6,120.8,121,120.8,120.8,121,120.9,120.8,121,120.8,120.7,120.9,120.8,60,60.1,60,14.2,8.8000000000000007,14.3,8.6999999999999993,-1.7,-1.4,-1.5,-1.1000000000000001,-0.8,-0.9,-1.7,-1.4,-1.5,-1,-0.8,-0.9,-0.2,-0.1,-0.2,0,0.2,0,-0.1,-0.1,-0.1,0,0.2,0.1,121,121.4,121.1,120.7,121.4,121,120.8,121.2,120.9,120.4,121.2,120.8,60,60.1,60,13.5,16.2,15,14,15.9,15,12.4,14.9,13.6,10.199999999999999,11.6,10.9,1.6,2,1.8,1.7,1.9,1.8,1.5,1.8,1.6,1.2,1.4,1.3,-0.1,0.1,0,0,0.1,0,-0.1,0,0,-0.1,0,0,6,2,2,2,1,1,178.1,13.1,"02:00:00",555,0,0,0,0,0,0,0,0,0,0,0,0,0,0,0,0,0,0,0,0,30,48,1.9,1.5,0,0]
[null,null,null,null,null,null,null,null,null,null,null,null,null,null,null,null,null,null,null,null,null,null,null,null,null,null,null,null,null,null,null,null,null,null,null,null,null,null,null,null,null,null,null,null,null,null,null,null,null,null,null,null,null,null,null,null,null,null,null,null,null,null,null,null,null,null,null,null,null,null,null,null,null,null,null,null,null,null,null,null,null,null,null,null,null,null,null,null,null,null,null,null,null,null,null,null,null,null,null,null,null,null,null,null,null,null,null,null,null,null,null,null,null,null,null,null,null,null,null,null,null,null,null,null,null,null,null,null,null,null,null,null,null,null,null,null,null,null,null,null,null,null,null,null,null,null,null,null,null,null,"2023-10-20T13:02:06",47,40,47,39,53,45,53,45,26.3,88.3,100,1.7,54.2,54.3,54.2,57.5,-93.3,-87.4,-89.9,120.8,121,120.8,120.8,121,120.8,120.8,121,120.8,120.7,120.9,120.7,60,60.1,60,14.3,9,14.1,8.9,-1.7,-1.3,-1.5,-1.1000000000000001,-0.9,-0.9,-1.7,-1.3,-1.5,-1.1000000000000001,-0.8,-0.9,-0.2,-0.2,-0.2,0,0,0,-0.2,-0.1,-0.1,0,0.1,0,121,121.4,121.1,120.7,121.3,121,120.8,121.2,120.9,120.5,121.2,120.8,60,60.1,60,13.3,16.5,15,13.9,16,15,12.3,14.8,13.5,9.9,11.6,10.9,1.6,2,1.8,1.6,1.9,1.8,1.4,1.8,1.6,1.2,1.4,1.3,0,0.1,0,-0.1,0,0,-0.1,0.1,0,-0.1,0,0,6,2,2,2,1,1,178.1,13,"02:00:00",555,0,0,0,0,0,0,0,0,0,0,0,0,0,0,0,0,0,0,0,0,30,48,2.1,1.5,0,0]
[null,null,null,null,null,null,null,null,null,null,null,null,null,null,null,null,null,null,null,null,null,null,null,null,null,null,null,null,null,null,null,null,null,null,null,null,null,null,null,null,null,null,null,null,null,null,null,null,null,null,null,null,null,null,null,null,null,null,null,null,null,null,null,null,null,null,null,null,null,null,null,null,null,null,null,null,null,null,null,null,null,null,null,null,null,null,null,null,null,null,null,null,null,null,null,null,null,null,null,null,null,null,null,null,null,null,null,null,null,null,null,null,null,null,null,null,null,null,null,null,null,null,null,null,null,null,null,null,null,null,null,null,null,null,null,null,null,null,null,null,null,null,null,null,null,null,null,null,null,null,"2023-10-20T13:10:13",47,40,47,39,53,45,53,45,26.1,89.4,100,1.7,54.2,54.3,54.2,57.5,-92.8,-79,-84.4,120.8,121.4,121.1,120.5,120.9,120.6,120.8,121.3,121.1,120.4,120.9,120.5,60,60.1,60,14,9,14,8.9,-1.7,-1.2,-1.4,-1.1000000000000001,-0.7,-0.9,-1.7,-1.2,-1.4,-1.1000000000000001,-0.8,-0.8,-0.2,0.1,0,0,0,0,-0.1,0.1,0,0,0.1,0.1,121.1,121.7,121.3,120.5,121.3,120.8,120.8,121.5,121.1,120.3,121.2,120.6,60,60.1,60,13.2,16.399999999999999,15,13.5,15.9,15,11.3,14.4,13,9.9,11.7,10.9,1.6,2,1.8,1.7,1.9,1.8,1.4,1.7,1.5,1.2,1.4,1.3,0,0.1,0,0,0.1,0,-0.2,0,0,-0.1,0,0,6,2,2,2,1,1,178,13,"02:00:00",555,0,0,0,0,0,0,0,0,0,0,0,0,0,0,0,0,0,0,0,0,30,48,2.2999999999999998,1.7,0,0]
[null,null,null,null,null,null,null,null,null,null,null,null,null,null,null,null,null,null,null,null,null,null,null,null,null,null,null,null,null,null,null,null,null,null,null,null,null,null,null,null,null,null,null,null,null,null,null,null,null,null,null,null,null,null,null,null,null,null,null,null,null,null,null,null,null,null,null,null,null,null,null,null,null,null,null,null,null,null,null,null,null,null,null,null,null,null,null,null,null,null,null,null,null,null,null,null,null,null,null,null,null,null,null,null,null,null,null,null,null,null,null,null,null,null,null,null,null,null,null,null,null,null,null,null,null,null,null,null,null,null,null,null,null,null,null,null,null,null,null,null,null,null,null,null,null,null,null,null,null,null,"2023-10-20T13:21:22",43,39,44,38,52,45,52,45,26,89.6,100,1.7,53.5,53.5,53.5,57.5,24.6,29.5,27.4,120,120,120,120,120,120,119.9,120,119.9,119.9,120,119.9,59,59,59,2.9,5.2,2.5,4.7,0.1,0.1,0.1,0.5,0.6,0.5,0.2,0.2,0.2,0.4,0.6,0.4,-0.3,-0.3,-0.3,-0.1,-0.1,-0.1,-0.2,-0.2,-0.2,-0.1,0,0,0.8,1.1000000000000001,0.9,0.8,1.1000000000000001,0.9,0.8,1,0.9,0.8,1.2,0.9,0,0,0,0.4,0.4,0.4,0.3,0.4,0.4,0.3,0.3,0.3,0.5,0.6,0.5,0,0,0,0,0,0,0,0,0,0,0,0,0,0,0,0,0,0,0,0,0,0,0,0,10,1,1,2,1,1,178,13,"02:00:00",559,0,0,0,0,0,0,0,0,0,0,0,0,0,0,0,0,0,0,0,0,30,48,1.5,1.3,0,0]
[null,null,null,null,null,null,null,null,null,null,null,null,null,null,null,null,null,null,null,null,null,null,null,null,null,null,null,null,null,null,null,null,null,null,null,null,null,null,null,null,null,null,null,null,null,null,null,null,null,null,null,null,null,null,null,null,null,null,null,null,null,null,null,null,null,null,null,null,null,null,null,null,null,null,null,null,null,null,null,null,null,null,null,null,null,null,null,null,null,null,null,null,null,null,null,null,null,null,null,null,null,null,null,null,null,null,null,null,null,null,null,null,null,null,null,null,null,null,null,null,null,null,null,null,null,null,null,null,null,null,null,null,null,null,null,null,null,null,null,null,null,null,null,null,null,null,null,null,null,null,"2023-10-20T13:36:36",47,43,47,41,54,46,53,45,26.2,90.7,100,1.8,54.4,54.5,54.4,57.5,-125.7,-120.5,-123.2,120,120,120,120,120,120,119.8,119.9,119.8,119.9,120,119.9,59,59,59,16,14.1,16.5,13.4,-1.9,-1.9,-1.9,-1.7,-1.5,-1.5,-2,-1.9,-1.9,-1.6,-1.4,-1.5,-0.3,-0.3,-0.3,0,0,0,0,0,0,0.1,0.1,0.1,0.1,0.3,0.2,0.4,0.6,0.4,0,0.2,0.1,0.6,0.9,0.7,0,0,0,0.4,0.4,0.4,0.3,0.4,0.3,0.3,0.3,0.3,0.5,0.6,0.5,0,0,0,0,0,0,0,0,0,0,0,0,0,0,0,0,0,0,0,0,0,0,0,0,1,1,1,2,1,1,178,13,"02:00:00",561,0,0,0,0,0,0,0,0,0,0,0,0,0,0,0,0,0,0,0,0,30,48,-6.8,-6.9,0,0]
[null,null,null,null,null,null,null,null,null,null,null,null,null,null,null,null,null,null,null,null,null,null,null,null,null,null,null,null,null,null,null,null,null,null,null,null,null,null,null,null,null,null,null,null,null,null,null,null,null,null,null,null,null,null,null,null,null,null,null,null,null,null,null,null,null,null,null,null,null,null,null,null,null,null,null,null,null,null,null,null,null,null,null,null,null,null,null,null,null,null,null,null,null,null,null,null,null,null,null,null,null,null,null,null,null,null,null,null,null,null,null,null,null,null,null,null,null,null,null,null,null,null,null,null,null,null,null,null,null,null,null,null,null,null,null,null,null,null,null,null,null,null,null,null,null,null,null,null,null,null,"2023-10-20T13:49:47",48,42,49,40,54,46,54,45,26.4,91.8,100,1.8,54.3,54.4,54.3,57.5,-105.8,-99,-102.9,120,120,120,120,120,120,119.8,119.9,119.8,119.9,120,119.9,59,59,59,16,9.1,16.399999999999999,8.6999999999999993,-1.9,-1.9,-1.9,-1.1000000000000001,-0.9,-0.9,-2,-1.9,-1.9,-1,-0.9,-0.9,-0.3,-0.3,-0.3,0,0,0,0,0,0,0.1,0.1,0.1,0.1,0.3,0.2,0.4,0.7,0.5,0.1,0.2,0.1,0.6,0.8,0.6,0,0,0,0.4,0.4,0.4,0.3,0.4,0.3,0.3,0.3,0.3,0.5,0.5,0.5,0,0,0,0,0,0,0,0,0,0,0,0,0,0,0,0,0,0,0,0,0,0,0,0,1,1,1,2,1,1,178,13,"02:00:00",561,0,0,0,0,0,0,0,0,0,0,0,0,0,0,0,0,0,0,0,0,30,48,-5.6,-5.7,0,0]
[null,null,null,null,null,null,null,null,null,null,null,null,null,null,null,null,null,null,null,null,null,null,null,null,null,null,null,null,null,null,null,null,null,null,null,null,null,null,null,null,null,null,null,null,null,null,null,null,null,null,null,null,null,null,null,null,null,null,null,null,null,null,null,null,null,null,null,null,null,null,null,null,null,null,null,null,null,null,null,null,null,null,null,null,null,null,null,null,null,null,null,null,null,null,null,null,null,null,null,null,null,null,null,null,null,null,null,null,null,null,null,null,null,null,null,null,null,null,null,null,null,null,null,null,null,null,null,null,null,null,null,null,null,null,null,null,null,null,null,null,null,null,null,null,null,null,null,null,null,null,"2023-10-20T13:53:50",48,42,49,40,55,46,55,45,26.4,92.1,100,1.8,54.3,54.5,54.4,57.5,-123.4,-96.1,-111.2,120,120,120,119.8,120.1,120,119.8,119.9,119.8,119.8,120.1,119.9,59,59,59,16.100000000000001,14,16.399999999999999,13,-1.9,-1.9,-1.9,-1.7,-0.4,-1.2,-2,-1.9,-1.9,-1.6,-0.4,-1.1000000000000001,-0.4,-0.3,-0.3,0,0.5,0,0,0.1,0,0.1,0.6,0.1,0.1,0.3,0.1,0.4,0.7,0.4,0.1,0.3,0.1,0.5,0.8,0.6,0,0,0,0.4,0.4,0.4,0.3,0.4,0.3,0.3,0.3,0.3,0.5,0.5,0.5,0,0,0,0,0,0,0,0,0,0,0,0,0,0,0,0,0,0,0,0,0,0,0,0,1,1,1,2,1,1,178,13,"02:00:00",561,0,0,0,0,0,0,0,0,0,0,0,0,0,0,0,0,0,0,0,0,30,48,-4.7,-6.2,0,0]
[null,null,null,null,null,null,null,null,null,null,null,null,null,null,null,null,null,null,null,null,null,null,null,null,null,null,null,null,null,null,null,null,null,null,null,null,null,null,null,null,null,null,null,null,null,null,null,null,null,null,null,null,null,null,null,null,null,null,null,null,null,null,null,null,null,null,null,null,null,null,null,null,null,null,null,null,null,null,null,null,null,null,null,null,null,null,null,null,null,null,null,null,null,null,null,null,null,null,null,null,null,null,null,null,null,null,null,null,null,null,null,null,null,null,null,null,null,null,null,null,null,null,null,null,null,null,null,null,null,null,null,null,null,null,null,null,null,null,null,null,null,null,null,null,null,null,null,null,null,null,"2023-10-20T14:09:04",49,43,50,41,55,46,55,46,26.4,93.3,100,1.8,54.4,54.5,54.4,57.5,-120.9,-115.8,-118.1,120,120,120,120,120,120,119.8,119.9,119.8,119.9,120,119.9,59,59,59,15.6,13.2,16.100000000000001,12.5,-1.9,-1.8,-1.8,-1.6,-1.4,-1.5,-1.9,-1.9,-1.9,-1.5,-1.3,-1.4,-0.3,-0.3,-0.3,0,0,0,0,0,0,0.1,0.1,0.1,0.1,0.3,0.2,0.4,0.6,0.4,0.1,0.2,0.1,0.6,0.8,0.6,0,0,0,0.4,0.4,0.4,0.3,0.4,0.3,0.3,0.3,0.3,0.5,0.6,0.5,0,0,0,0,0,0,0,0,0,0,0,0,0,0,0,0,0,0,0,0,0,0,0,0,1,1,1,2,1,1,178,13,"02:00:00",561,0,0,0,0,0,0,0,0,0,0,0,0,0,0,0,0,0,0,0,0,30,48,-6.5,-6.6,0,0]
[null,null,null,null,null,null,null,null,null,null,null,null,null,null,null,null,null,null,null,null,null,null,null,null,null,null,null,null,null,null,null,null,null,null,null,null,null,null,null,null,null,null,null,null,null,null,null,null,null,null,null,null,null,null,null,null,null,null,null,null,null,null,null,null,null,null,null,null,null,null,null,null,null,null,null,null,null,null,null,null,null,null,null,null,null,null,null,null,null,null,null,null,null,null,null,null,null,null,null,null,null,null,null,null,null,null,null,null,null,null,null,null,null,null,null,null,null,null,null,null,null,null,null,null,null,null,null,null,null,null,null,null,null,null,null,null,null,null,null,null,null,null,null,null,null,null,null,null,null,null,"2023-10-20T14:20:14",50,43,50,42,56,47,56,46,26.4,94.3,100,1.8,54.5,54.5,54.5,57.5,-119.8,-114.4,-116.7,120,120,120,120,120,120,119.8,119.9,119.8,119.9,120,119.9,59,59,59,15.5,13.1,15.9,12.4,-1.8,-1.8,-1.8,-1.6,-1.4,-1.4,-1.9,-1.9,-1.9,-1.5,-1.3,-1.3,-0.3,-0.3,-0.3,0,0,0,0,0,0,0.1,0.1,0.1,0.1,0.3,0.2,0.4,0.7,0.5,0,0.2,0.1,0.5,0.7,0.6,0,0,0,0.4,0.4,0.4,0.3,0.4,0.4,0.3,0.3,0.3,0.5,0.5,0.5,0,0,0,0,0,0,0,0,0,0,0,0,0,0,0,0,0,0,0,0,0,0,0,0,1,1,1,2,1,1,178,13,"02:00:00",561,0,0,0,0,0,0,0,0,0,0,0,0,0,0,0,0,0,0,0,0,30,48,-6.4,-6.5,0,0]
[null,null,null,null,null,null,null,null,null,null,null,null,null,null,null,null,null,null,null,null,null,null,null,null,null,null,null,null,null,null,null,null,null,null,null,null,null,null,null,null,null,null,null,null,null,null,null,null,null,null,null,null,null,null,null,null,null,null,null,null,null,null,null,null,null,null,null,null,null,null,null,null,null,null,null,null,null,null,null,null,null,null,null,null,null,null,null,null,null,null,null,null,null,null,null,null,null,null,null,null,null,null,null,null,null,null,null,null,null,null,null,null,null,null,null,null,null,null,null,null,null,null,null,null,null,null,null,null,null,null,null,null,null,null,null,null,null,null,null,null,null,null,null,null,null,null,null,null,null,null,"2023-10-20T14:30:24",50,44,50,42,56,47,56,47,26,94.9,100,1.8,54.5,54.6,54.5,57.5,-116.7,-111.2,-113.3,120,120,120,120,120,120,119.8,119.9,119.8,119.9,120,119.9,59,59,59,15.3,12.8,15.6,12.3,-1.8,-1.8,-1.8,-1.5,-1.3,-1.3,-1.9,-1.8,-1.8,-1.4,-1.3,-1.3,-0.3,-0.3,-0.3,0,0,0,0,0,0,0.1,0.1,0.1,0.1,0.3,0.1,0.4,0.6,0.4,0,0.2,0.1,0.5,0.8,0.6,0,0,0,0.4,0.4,0.4,0.3,0.4,0.3,0.3,0.3,0.3,0.5,0.5,0.5,0,0,0,0,0,0,0,0,0,0,0,0,0,0,0,0,0,0,0,0,0,0,0,0,1,1,1,2,1,1,178,13,"02:00:00",561,0,0,0,0,0,0,0,0,0,0,0,0,0,0,0,0,0,0,0,0,30,48,-6.3,-6.4,0,0]
[null,null,null,null,null,null,null,null,null,null,null,null,null,null,null,null,null,null,null,null,null,null,null,null,null,null,null,null,null,null,null,null,null,null,null,null,null,null,null,null,null,null,null,null,null,null,null,null,null,null,null,null,null,null,null,null,null,null,null,null,null,null,null,null,null,null,null,null,null,null,null,null,null,null,null,null,null,null,null,null,null,null,null,null,null,null,null,null,null,null,null,null,null,null,null,null,null,null,null,null,null,null,null,null,null,null,null,null,null,null,null,null,null,null,null,null,null,null,null,null,null,null,null,null,null,null,null,null,null,null,null,null,null,null,null,null,null,null,null,null,null,null,null,null,null,null,null,null,null,null,"2023-10-20T14:41:33",50,44,50,43,57,47,57,47,26.2,94.9,100,1.8,54.6,54.7,54.6,57.5,-113.3,-109.6,-110.7,120,120,120,120,120,120,119.8,119.9,119.8,119.9,120,119.9,59,59,59,14.7,12.4,15,11.7,-1.7,-1.7,-1.7,-1.5,-1.4,-1.4,-1.8,-1.8,-1.8,-1.4,-1.3,-1.3,-0.3,-0.3,-0.3,0,0,0,0,0,0,0.1,0.1,0.1,0.1,0.3,0.1,0.4,0.6,0.5,0.1,0.2,0.1,0.5,0.8,0.6,0,0,0,0.4,0.4,0.4,0.3,0.4,0.3,0.3,0.3,0.3,0.5,0.6,0.5,0,0,0,0,0,0,0,0,0,0,0,0,0,0,0,0,0,0,0,0,0,0,0,0,1,1,1,2,1,1,178,13,"02:00:00",561,0,0,0,0,0,0,0,0,0,0,0,0,0,0,0,0,0,0,0,0,30,48,-6.2,-6.2,0,0]
[null,null,null,null,null,null,null,null,null,null,null,null,null,null,null,null,null,null,null,null,null,null,null,null,null,null,null,null,null,null,null,null,null,null,null,null,null,null,null,null,null,null,null,null,null,null,null,null,null,null,null,null,null,null,null,null,null,null,null,null,null,null,null,null,null,null,null,null,null,null,null,null,null,null,null,null,null,null,null,null,null,null,null,null,null,null,null,null,null,null,null,null,null,null,null,null,null,null,null,null,null,null,null,null,null,null,null,null,null,null,null,null,null,null,null,null,null,null,null,null,null,null,null,null,null,null,null,null,null,null,null,null,null,null,null,null,null,null,null,null,null,null,null,null,null,null,null,null,null,null,"2023-10-20T14:52:42",50,45,50,43,57,48,57,48,26.7,94.9,100,1.8,55,55.2,55,57.4,-116.2,-112.6,-115.3,120,120,120,120,120,120,119.8,119.9,119.8,119.9,120,119.9,59,59,59,14.7,13.4,15,12.6,-1.7,-1.6,-1.7,-1.6,-1.5,-1.5,-1.8,-1.7,-1.8,-1.5,-1.4,-1.4,-0.3,-0.3,-0.3,0,0,0,0,0,0,0,0.1,0,0.1,0.3,0.2,0.4,0.6,0.4,0,0.3,0.1,0.5,0.8,0.6,0,0,0,0.4,0.4,0.4,0.3,0.4,0.3,0.3,0.3,0.3,0.5,0.6,0.5,0,0,0,0,0,0,0,0,0,0,0,0,0,0,0,0,0,0,0,0,0,0,0,0,1,1,1,2,1,1,178,13,"02:00:00",561,0,0,0,0,0,0,0,0,0,0,0,0,0,0,0,0,0,0,0,0,30,48,-6.4,-6.5,0,0]
[null,null,null,null,null,null,null,null,null,null,null,null,null,null,null,null,null,null,null,null,null,null,null,null,null,null,null,null,null,null,null,null,null,null,null,null,null,null,null,null,null,null,null,null,null,null,null,null,null,null,null,null,null,null,null,null,null,null,null,null,null,null,null,null,null,null,null,null,null,null,null,null,null,null,null,null,null,null,null,null,null,null,null,null,null,null,null,null,null,null,null,null,null,null,null,null,null,null,null,null,null,null,null,null,null,null,null,null,null,null,null,null,null,null,null,null,null,null,null,null,null,null,null,null,null,null,null,null,null,null,null,null,null,null,null,null,null,null,null,null,null,null,null,null,null,null,null,null,null,null,"2023-10-20T14:57:48",50,45,50,43,57,48,57,48,26.7,94.9,100,1.8,56,56.5,56.2,57.4,-109.8,-104.9,-108.6,120,120,120,120,120,120,119.8,119.9,119.8,119.9,120,119.9,59,59,59,14.5,12.6,14.7,12,-1.7,-1.7,-1.7,-1.5,-1.4,-1.4,-1.8,-1.7,-1.7,-1.4,-1.3,-1.3,-0.3,-0.3,-0.3,0,0,0,0,0,0,0,0.1,0,0.1,0.3,0.1,0.3,0.6,0.4,0,0.3,0.1,0.6,0.8,0.7,0,0,0,0.4,0.4,0.4,0.3,0.4,0.3,0.3,0.3,0.3,0.5,0.6,0.5,0,0,0,0,0,0,0,0,0,0,0,0,0,0,0,0,0,0,0,0,0,0,0,0,1,1,1,2,1,1,178,13,"01:59:55",561,0,0,0,0,0,0,0,0,0,0,0,0,0,0,0,0,0,0,0,0,30,48,-6.1,-6.3,0,0]
[null,null,null,null,null,null,null,null,null,null,null,null,null,null,null,null,null,null,null,null,null,null,null,null,null,null,null,null,null,null,null,null,null,null,null,null,null,null,null,null,null,null,null,null,null,null,null,null,null,null,null,null,null,null,null,null,null,null,null,null,null,null,null,null,null,null,null,null,null,null,null,null,null,null,null,null,null,null,null,null,null,null,null,null,null,null,null,null,null,null,null,null,null,null,null,null,null,null,null,null,null,null,null,null,null,null,null,null,null,null,null,null,null,null,null,null,null,null,null,null,null,null,null,null,null,null,null,null,null,null,null,null,null,null,null,null,null,null,null,null,null,null,null,null,null,null,null,null,null,null,"2023-10-20T15:10:59",45,42,46,41,56,48,56,47,26.6,94.5,100,1.8,52.7,66.599999999999994,53.1,57.5,0.4,40.4,18.3,0.6,143.6,97,0.4,120.1,96.6,0.1,149.5,96.7,0.2,120.1,96.3,0,61.1,48.8,4.5999999999999996,52.9,3.4,52.5,-0.4,0.1,0,0,1.2,0.4,-0.3,0.1,0,0,1,0.3,-0.4,0,-0.2,-0.3,0.1,-0.1,-0.3,0,-0.1,-1.7,0,-0.1,0.1,0.4,0.1,0.4,0.9,0.4,0.1,0.2,0.1,0.5,1,0.8,0,0,0,0.4,0.4,0.4,0.3,0.4,0.3,0.3,0.3,0.3,0.5,0.6,0.5,0,0,0,0,0,0,0,0,0,0,0,0,0,0,0,0,0,0,0,0,0,0,0,0,1,1,1,2,1,1,178,13,"01:58:59",565,0,0,0,0,0,0,0,0,0,0,0,0,0,0,0,0,0,0,0,0,30,48,2.4,0.8,0,0]
[null,null,null,null,null,null,null,null,null,null,null,null,null,null,null,null,null,null,null,null,null,null,null,null,null,null,null,null,null,null,null,null,null,null,null,null,null,null,null,null,null,null,null,null,null,null,null,null,null,null,null,null,null,null,null,null,null,null,null,null,null,null,null,null,null,null,null,null,null,null,null,null,null,null,null,null,null,null,null,null,null,null,null,null,null,null,null,null,null,null,null,null,null,null,null,null,null,null,null,null,null,null,null,null,null,null,null,null,null,null,null,null,null,null,null,null,null,null,null,null,null,null,null,null,null,null,null,null,null,null,null,null,null,null,null,null,null,null,null,null,null,null,null,null,null,null,null,null,null,null,"2023-10-20T15:15:03",45,42,45,40,55,48,55,47,26.4,94.3,100,1.8,52.7,52.7,52.7,57.5,22.4,23.8,23.3,120,120,120,120,120,120,120,120,120,119.9,119.9,119.9,60,60,60,2.6,4.5999999999999996,1.8,4.0999999999999996,0,0,0,0.5,0.5,0.5,0.1,0.1,0.1,0.5,0.5,0.5,-0.3,-0.3,-0.3,-0.1,-0.1,-0.1,-0.2,-0.2,-0.2,-0.1,-0.1,-0.1,0.1,0.3,0.1,0.4,0.7,0.5,0.1,0.2,0.1,0.6,0.9,0.7,0,0,0,0.4,0.4,0.4,0.3,0.4,0.3,0.3,0.3,0.3,0.5,0.6,0.5,0,0,0,0,0,0,0,0,0,0,0,0,0,0,0,0,0,0,0,0,0,0,0,0,1,1,1,2,1,1,178,13,"01:58:59",567,0,0,0,0,0,0,0,0,0,0,0,0,0,0,0,0,0,0,0,0,30,48,1.2,1.1000000000000001,0,0]
[null,null,null,null,null,null,null,null,null,null,null,null,null,null,null,null,null,null,null,null,null,null,null,null,null,null,null,null,null,null,null,null,null,null,null,null,null,null,null,null,null,null,null,null,null,null,null,null,null,null,null,null,null,null,null,null,null,null,null,null,null,null,null,null,null,null,null,null,null,null,null,null,null,null,null,null,null,null,null,null,null,null,null,null,null,null,null,null,null,null,null,null,null,null,null,null,null,null,null,null,null,null,null,null,null,null,null,null,null,null,null,null,null,null,null,null,null,null,null,null,null,null,null,null,null,null,null,null,null,null,null,null,null,null,null,null,null,null,null,null,null,null,null,null,null,null,null,null,null,null,"2023-10-20T15:30:16",42,39,43,38,54,47,54,46,26.1,94,100,1.8,52.9,52.9,52.9,57.5,0.4,0.4,0.4,0.5,0.7,0.6,0.3,0.4,0.4,0.1,0.3,0.2,0,0.2,0,0,0,0,0.3,0.3,0.1,0.2,0,0,0,0,0,0,0,0,0,0,0,0,0,0,0,0,0,0,0,0,0,0,0,0,0.1,0.4,0.2,0.4,0.6,0.4,0,0.3,0.1,0.6,0.9,0.7,0,0,0,0.4,0.4,0.4,0.3,0.4,0.3,0.3,0.3,0.3,0.5,0.6,0.5,0,0,0,0,0,0,0,0,0,0,0,0,0,0,0,0,0,0,0,0,0,0,0,0,1,1,1,2,1,3,177.9,12.9,"02:00:00",570,0,0,0,0,0,0,0,0,0,0,0,0,0,0,0,0,0,0,0,0,30,48,0,0,0,0]
[null,null,null,null,null,null,null,null,null,null,null,null,null,null,null,null,null,null,null,null,null,null,null,null,null,null,null,null,null,null,null,null,null,null,null,null,null,null,null,null,null,null,null,null,null,null,null,null,null,null,null,null,null,null,null,null,null,null,null,null,null,null,null,null,null,null,null,null,null,null,null,null,null,null,null,null,null,null,null,null,null,null,null,null,null,null,null,null,null,null,null,null,null,null,null,null,null,null,null,null,null,null,null,null,null,null,null,null,null,null,null,null,null,null,null,null,null,null,null,null,null,null,null,null,null,null,null,null,null,null,null,null,null,null,null,null,null,null,null,null,null,null,null,null,null,null,null,null,null,null,"2023-10-20T15:41:26",41,40,42,39,54,47,53,46,26.4,93.6,100,1.8,52.5,52.6,52.5,57.5,27.3,38.4,29,120,120,120,120,120,120,120,120,120,120,120,120,60,60,60,2.6,8.6999999999999993,1.8,7.9,0,0.1,0,0.6,1,0.6,0.1,0.1,0.1,0.6,0.9,0.6,-0.3,-0.3,-0.3,-0.1,-0.1,-0.1,-0.2,-0.2,-0.2,-0.1,-0.1,-0.1,0.1,0.2,0.1,0.4,0.6,0.4,0.1,0.2,0.1,0.6,0.9,0.7,0,0,0,0.3,0.4,0.3,0.3,0.4,0.3,0.3,0.3,0.3,0.5,0.6,0.5,0,0,0,0,0,0,0,0,0,0,0,0,0,0,0,0,0,0,0,0,0,0,0,0,1,1,1,2,1,1,177.9,12.9,"02:00:00",574,0,0,0,0,0,0,0,0,0,0,0,0,0,0,0,0,0,0,0,0,30,48,2.1,1.4,0,0]
[null,null,null,null,null,null,null,null,null,null,null,null,null,null,null,null,null,null,null,null,null,null,null,null,null,null,null,null,null,null,null,null,null,null,null,null,null,null,null,null,null,null,null,null,null,null,null,null,null,null,null,null,null,null,null,null,null,null,null,null,null,null,null,null,null,null,null,null,null,null,null,null,null,null,null,null,null,null,null,null,null,null,null,null,null,null,null,null,null,null,null,null,null,null,null,null,null,null,null,null,null,null,null,null,null,null,null,null,null,null,null,null,null,null,null,null,null,null,null,null,null,null,null,null,null,null,null,null,null,null,null,null,null,null,null,null,null,null,null,null,null,null,null,null,null,null,null,null,null,null,"2023-10-20T15:47:33",41,40,41,38,54,47,53,46,26.3,93.3,100,1.8,52.5,52.6,52.6,57.5,21.1,32.299999999999997,23.9,120,120,120,120,120,120,120,120,120,119.9,120,119.9,60,60,60,2.7,6.9,2.2000000000000002,6.3,0.1,0.1,0.1,0.4,0.8,0.4,0.1,0.2,0.1,0.4,0.7,0.4,-0.3,-0.3,-0.3,-0.1,-0.1,-0.1,-0.2,-0.2,-0.2,-0.1,-0.1,-0.1,0.1,0.4,0.1,0.3,0.6,0.4,0.1,0.3,0.1,0.5,0.9,0.7,0,0,0,0.4,0.4,0.4,0.3,0.4,0.3,0.3,0.3,0.3,0.5,0.6,0.5,0,0,0,0,0,0,0,0,0,0,0,0,0,0,0,0,0,0,0,0,0,0,0,0,1,1,1,2,1,2,177.9,12.9,"02:00:00",577,0,0,0,0,0,0,0,0,0,0,0,0,0,0,0,0,0,0,0,0,30,48,1.7,1.1000000000000001,0,0]
[null,null,null,null,null,null,null,null,null,null,null,null,null,null,null,null,null,null,null,null,null,null,null,null,null,null,null,null,null,null,null,null,null,null,null,null,null,null,null,null,null,null,null,null,null,null,null,null,null,null,null,null,null,null,null,null,null,null,null,null,null,null,null,null,null,null,null,null,null,null,null,null,null,null,null,null,null,null,null,null,null,null,null,null,null,null,null,null,null,null,null,null,null,null,null,null,null,null,null,null,null,null,null,null,null,null,null,null,null,null,null,null,null,null,null,null,null,null,null,null,null,null,null,null,null,null,null,null,null,null,null,null,null,null,null,null,null,null,null,null,null,null,null,null,null,null,null,null,null,null,"2023-10-20T16:02:44",40,38,40,37,53,46,52,45,25.9,93.1,100,1.9,36.299999999999997,52.8,52.3,57.5,0.4,46.6,27.3,0.6,120.1,96.6,0.4,120.1,96.9,0.2,120.1,96.4,0,120,96.2,0,60,48.4,6.3,13.5,3.6,17.2,0,0.2,0,0,1.4,0.5,0,0.2,0.1,0,1.3,0.5,-0.7,0,-0.2,-0.1,1.6,0,-0.2,0,-0.1,-1.4,0.4,-0.1,0.1,0.3,0.1,0.5,0.7,0.6,0.1,0.3,0.1,0.6,0.9,0.7,0,0,0,0.4,0.4,0.4,0.3,0.4,0.3,0.3,0.3,0.3,0.5,0.6,0.5,0,0,0,0,0,0,0,0,0,0,0,0,0,0,0,0,0,0,0,0,0,0,0,0,1,1,1,2,1,1,177.9,12.9,"02:00:00",579,0,0,0,0,0,0,0,0,0,0,0,0,0,0,0,0,0,0,0,0,30,48,3.1,1.3,0,0]
[null,null,null,null,null,null,null,null,null,null,null,null,null,null,null,null,null,null,null,null,null,null,null,null,null,null,null,null,null,null,null,null,null,null,null,null,null,null,null,null,null,null,null,null,null,null,null,null,null,null,null,null,null,null,null,null,null,null,null,null,null,null,null,null,null,null,null,null,null,null,null,null,null,null,null,null,null,null,null,null,null,null,null,null,null,null,null,null,null,null,null,null,null,null,null,null,null,null,null,null,null,null,null,null,null,null,null,null,null,null,null,null,null,null,null,null,null,null,null,null,null,null,null,null,null,null,null,null,null,null,null,null,null,null,null,null,null,null,null,null,null,null,null,null,null,null,null,null,null,null,"2023-10-20T16:13:54",39,39,40,38,52,46,51,45,25,92.5,100,1.9,52.5,69.5,53.7,57.6,0.4,28.7,15.4,0.6,127.2,70.599999999999994,0.4,120,70.900000000000006,0.2,120,70.8,0.1,120,70.8,0,60.9,34.799999999999997,5.6,5.5,4.7,4.9000000000000004,-0.4,0.1,0,0,0.6,0.3,-0.3,0.1,0,0,0.6,0.3,-0.4,0,-0.1,-0.2,0,0,-0.3,0,-0.1,-0.1,0,0,0,0.3,0.1,0.4,0.6,0.4,0.1,0.3,0.1,0.6,0.9,0.7,0,0,0,0.3,0.4,0.4,0.3,0.4,0.3,0.3,0.3,0.3,0.5,0.6,0.5,0,0,0,0,0,0,0,0,0,0,0,0,0,0,0,0,0,0,0,0,0,0,0,0,1,1,1,2,1,3,177.9,12.9,"02:00:00",584,0,0,0,0,0,0,0,0,0,0,0,0,0,0,0,0,0,0,0,0,30,48,1.4,0.7,0,0]
[null,null,null,null,null,null,null,null,null,null,null,null,null,null,null,null,null,null,null,null,null,null,null,null,null,null,null,null,null,null,null,null,null,null,null,null,null,null,null,null,null,null,null,null,null,null,null,null,null,null,null,null,null,null,null,null,null,null,null,null,null,null,null,null,null,null,null,null,null,null,null,null,null,null,null,null,null,null,null,null,null,null,null,null,null,null,null,null,null,null,null,null,null,null,null,null,null,null,null,null,null,null,null,null,null,null,null,null,null,null,null,null,null,null,null,null,null,null,null,null,null,null,null,null,null,null,null,null,null,null,null,null,null,null,null,null,null,null,null,null,null,null,null,null,null,null,null,null,null,null,"2023-10-20T16:18:58",39,38,39,37,52,46,51,45,24.9,92.4,100,1.9,52.6,52.6,52.6,57.6,21.9,31.5,23,120,120,120,120,120,120,119.9,120,119.9,119.9,120,119.9,60,60,60,2.7,7,2.1,6.4,0.1,0.1,0.1,0.4,0.8,0.4,0.2,0.2,0.2,0.4,0.7,0.4,-0.3,-0.3,-0.3,-0.1,-0.1,-0.1,-0.2,-0.2,-0.2,-0.1,0,0,0.1,0.2,0.1,0.4,0.7,0.5,0.1,0.4,0.1,0.5,0.8,0.6,0,0,0,0.3,0.4,0.3,0.3,0.4,0.3,0.3,0.3,0.3,0.5,0.6,0.5,0,0,0,0,0,0,0,0,0,0,0,0,0,0,0,0,0,0,0,0,0,0,0,0,1,1,1,2,1,1,177.9,12.9,"02:00:00",585,0,0,0,0,0,0,0,0,0,0,0,0,0,0,0,0,0,0,0,0,30,48,1.8,1.1000000000000001,0,0]
[null,null,null,null,null,null,null,null,null,null,null,null,null,null,null,null,null,null,null,null,null,null,null,null,null,null,null,null,null,null,null,null,null,null,null,null,null,null,null,null,null,null,null,null,null,null,null,null,null,null,null,null,null,null,null,null,null,null,null,null,null,null,null,null,null,null,null,null,null,null,null,null,null,null,null,null,null,null,null,null,null,null,null,null,null,null,null,null,null,null,null,null,null,null,null,null,null,null,null,null,null,null,null,null,null,null,null,null,null,null,null,null,null,null,null,null,null,null,null,null,null,null,null,null,null,null,null,null,null,null,null,null,null,null,null,null,null,null,null,null,null,null,null,null,null,null,null,null,null,null,"2023-10-20T16:28:06",38,38,39,37,52,46,51,45,24.9,92,100,1.9,52.5,69.099999999999994,53.6,57.6,0.4,43.3,19.8,0.4,123.1,96.2,0.3,120.1,96.1,0.2,120.1,96.2,0.1,120,96.2,0,60.9,48.6,3.8,9.5,2.6,9.3000000000000007,-0.3,0.1,0,0,1.2,0.4,-0.2,0.2,0,0,1,0.3,-0.4,0,-0.2,-0.2,0.1,0,-0.3,0,-0.1,-0.4,0,0,0.1,0.3,0.1,0.4,0.6,0.4,0.1,0.3,0.1,0.6,1,0.7,0,0,0,0.3,0.4,0.4,0.3,0.4,0.3,0.2,0.3,0.3,0.5,0.6,0.5,0,0,0,0,0,0,0,0,0,0,0,0,0,0,0,0,0,0,0,0,0,0,0,0,1,1,1,2,1,2,177.9,12.9,"02:00:00",589,0,0,0,0,0,0,0,0,0,0,0,0,0,0,0,0,0,0,0,0,30,48,2.4,0.9,0,0]
[null,null,null,null,null,null,null,null,null,null,null,null,null,null,null,null,null,null,null,null,null,null,null,null,null,null,null,null,null,null,null,null,null,null,null,null,null,null,null,null,null,null,null,null,null,null,null,null,null,null,null,null,null,null,null,null,null,null,null,null,null,null,null,null,null,null,null,null,null,null,null,null,null,null,null,null,null,null,null,null,null,null,null,null,null,null,null,null,null,null,null,null,null,null,null,null,null,null,null,null,null,null,null,null,null,null,null,null,null,null,null,null,null,null,null,null,null,null,null,null,null,null,null,null,null,null,null,null,null,null,null,null,null,null,null,null,null,null,null,null,null,null,null,null,null,null,null,null,null,null,"2023-10-20T16:46:21",37,36,38,35,51,45,50,44,24.8,91.5,100,1.9,52.8,52.9,52.9,57.6,0.4,0.4,0.4,0.5,0.6,0.5,0.3,0.4,0.4,0.2,0.3,0.2,0,0.1,0,0,0,0,0.3,0.3,0.2,0.2,0,0,0,0,0,0,0,0,0,0,0,0,0,0,0,0,0,0,0,0,0,0,0,0,0.1,0.3,0.2,0.4,0.7,0.5,0,0.2,0.1,0.6,0.9,0.7,0,0,0,0.3,0.4,0.4,0.3,0.4,0.3,0.3,0.3,0.3,0.5,0.5,0.5,0,0,0,0,0,0,0,0,0,0,0,0,0,0,0,0,0,0,0,0,0,0,0,0,1,1,1,2,1,3,177.9,12.9,"02:00:00",593,0,0,0,0,0,0,0,0,0,0,0,0,0,0,0,0,0,0,0,0,30,48,0,0,0,0]
[null,null,null,null,null,null,null,null,null,null,null,null,null,null,null,null,null,null,null,null,null,null,null,null,null,null,null,null,null,null,null,null,null,null,null,null,null,null,null,null,null,null,null,null,null,null,null,null,null,null,null,null,null,null,null,null,null,null,null,null,null,null,null,null,null,null,null,null,null,null,null,null,null,null,null,null,null,null,null,null,null,null,null,null,null,null,null,null,null,null,null,null,null,null,null,null,null,null,null,null,null,null,null,null,null,null,null,null,null,null,null,null,null,null,null,null,null,null,null,null,null,null,null,null,null,null,null,null,null,null,null,null,null,null,null,null,null,null,null,null,null,null,null,null,null,null,null,null,null,null,"2023-10-20T16:51:25",37,37,38,36,51,45,50,44,24.4,91.3,100,1.9,52.5,52.6,52.5,57.7,32.1,43,34.700000000000003,120,120,120,120,120,120,120,120,120,119.9,120,119.9,60,60,60,2.8,9.1,2.4,8.3000000000000007,0.1,0.1,0.1,0.7,1,0.7,0.2,0.2,0.2,0.6,0.9,0.6,-0.3,-0.3,-0.3,-0.1,-0.1,-0.1,-0.2,-0.2,-0.2,-0.1,0,0,0.1,0.2,0.1,0.4,0.7,0.5,0.1,0.3,0.1,0.6,0.9,0.7,0,0,0,0.3,0.4,0.3,0.3,0.4,0.3,0.3,0.3,0.3,0.5,0.6,0.5,0,0,0,0,0,0,0,0,0,0,0,0,0,0,0,0,0,0,0,0,0,0,0,0,1,1,1,2,1,2,177.9,12.9,"02:00:00",594,0,0,0,0,0,0,0,0,0,0,0,0,0,0,0,0,0,0,0,0,30,48,2.2999999999999998,1.7,0,0]
[null,null,null,null,null,null,null,null,null,null,null,null,null,null,null,null,null,null,null,null,null,null,null,null,null,null,null,null,null,null,null,null,null,null,null,null,null,null,null,null,null,null,null,null,null,null,null,null,null,null,null,null,null,null,null,null,null,null,null,null,null,null,null,null,null,null,null,null,null,null,null,null,null,null,null,null,null,null,null,null,null,null,null,null,null,null,null,null,null,null,null,null,null,null,null,null,null,null,null,null,null,null,null,null,null,null,null,null,null,null,null,null,null,null,null,null,null,null,null,null,null,null,null,null,null,null,null,null,null,null,null,null,null,null,null,null,null,null,null,null,null,null,null,null,null,null,null,null,null,null,"2023-10-20T17:02:34",37,37,38,36,50,45,49,44,24.4,90.8,100,2,52.5,52.6,52.6,57.7,23.3,24.6,23.6,120,120,120,120,120,120,120,120,120,120,120,120,60,60,60,3,3.8,2.7,3.4,0.1,0.2,0.1,0.4,0.4,0.4,0.2,0.2,0.2,0.4,0.4,0.4,-0.3,-0.3,-0.3,-0.1,-0.1,-0.1,-0.2,-0.2,-0.2,-0.1,-0.1,-0.1,0.1,0.3,0.1,0.4,0.7,0.5,0,0.3,0.1,0.5,0.7,0.6,0,0,0,0.3,0.4,0.3,0.3,0.4,0.3,0.3,0.3,0.3,0.5,0.5,0.5,0,0,0,0,0,0,0,0,0,0,0,0,0,0,0,0,0,0,0,0,0,0,0,0,1,1,1,2,1,1,177.9,12.9,"02:00:00",600,0,0,0,0,0,0,0,0,0,0,0,0,0,0,0,0,0,0,0,0,30,48,1.2,1.1000000000000001,0,0]
[null,null,null,null,null,null,null,null,null,null,null,null,null,null,null,null,null,null,null,null,null,null,null,null,null,null,null,null,null,null,null,null,null,null,null,null,null,null,null,null,null,null,null,null,null,null,null,null,null,null,null,null,null,null,null,null,null,null,null,null,null,null,null,null,null,null,null,null,null,null,null,null,null,null,null,null,null,null,null,null,null,null,null,null,null,null,null,null,null,null,null,null,null,null,null,null,null,null,null,null,null,null,null,null,null,null,null,null,null,null,null,null,null,null,null,null,null,null,null,null,null,null,null,null,null,null,null,null,null,null,null,null,null,null,null,null,null,null,null,null,null,null,null,null,null,null,null,null,null,null,"2023-10-20T17:15:45",35,35,37,34,50,45,49,44,24.7,90.6,100,2,52.8,52.9,52.8,57.6,0.4,0.4,0.4,0.4,0.6,0.5,0.4,0.5,0.4,0.2,0.3,0.2,0.1,0.1,0.1,0,0,0,0.3,0.3,0.1,0.1,0,0,0,0,0,0,0,0,0,0,0,0,0,0,0,0,0,0,0,0,0,0,0,0,0.1,0.4,0.2,0.4,0.7,0.5,0,0.2,0.1,0.6,0.8,0.6,0,0,0,0.3,0.4,0.4,0.3,0.4,0.3,0.3,0.3,0.3,0.5,0.5,0.5,0,0,0,0,0,0,0,0,0,0,0,0,0,0,0,0,0,0,0,0,0,0,0,0,1,1,1,2,1,3,177.9,12.9,"02:00:00",602,0,0,0,0,0,0,0,0,0,0,0,0,0,0,0,0,0,0,0,0,30,48,0,0,0,0]
[null,null,null,null,null,null,null,null,null,null,null,null,null,null,null,null,null,null,null,null,null,null,null,null,null,null,null,null,null,null,null,null,null,null,null,null,null,null,null,null,null,null,null,null,null,null,null,null,null,null,null,null,null,null,null,null,null,null,null,null,null,null,null,null,null,null,null,null,null,null,null,null,null,null,null,null,null,null,null,null,null,null,null,null,null,null,null,null,null,null,null,null,null,null,null,null,null,null,null,null,null,null,null,null,null,null,null,null,null,null,null,null,null,null,null,null,null,null,null,null,null,null,null,null,null,null,null,null,null,null,null,null,null,null,null,null,null,null,null,null,null,null,null,null,null,null,null,null,null,null,"2023-10-20T17:23:50",36,36,37,35,49,45,49,44,24.5,90.3,100,2,52.5,52.6,52.5,57.6,26.3,32.4,29.4,120,120,120,120,120,120,119.9,120,120,119.9,120,119.9,60,60,60,3.1,5.5,2.8,5,0.1,0.2,0.1,0.5,0.6,0.5,0.2,0.2,0.2,0.4,0.6,0.4,-0.3,-0.3,-0.3,-0.1,-0.1,-0.1,-0.2,-0.2,-0.2,-0.1,0,0,0.1,0.3,0.1,0.3,0.6,0.4,0,0.3,0.1,0.4,0.7,0.6,0,0,0,0.3,0.4,0.3,0.3,0.4,0.3,0.3,0.3,0.3,0.5,0.5,0.5,0,0,0,0,0,0,0,0,0,0,0,0,0,0,0,0,0,0,0,0,0,0,0,0,1,1,1,2,1,2,177.9,12.9,"02:00:00",605,0,0,0,0,0,0,0,0,0,0,0,0,0,0,0,0,0,0,0,0,30,48,1.6,1.4,0,0]
[null,null,null,null,null,null,null,null,null,null,null,null,null,null,null,null,null,null,null,null,null,null,null,null,null,null,null,null,null,null,null,null,null,null,null,null,null,null,null,null,null,null,null,null,null,null,null,null,null,null,null,null,null,null,null,null,null,null,null,null,null,null,null,null,null,null,null,null,null,null,null,null,null,null,null,null,null,null,null,null,null,null,null,null,null,null,null,null,null,null,null,null,null,null,null,null,null,null,null,null,null,null,null,null,null,null,null,null,null,null,null,null,null,null,null,null,null,null,null,null,null,null,null,null,null,null,null,null,null,null,null,null,null,null,null,null,null,null,null,null,null,null,null,null,null,null,null,null,null,null,"2023-10-20T17:35:02",36,37,37,35,49,44,48,43,24.3,89.8,100,2,53.3,53.4,53.3,57.7,-12.4,-10.5,-11.5,120,120,120,120,120,120,119.9,120,119.9,119.9,120,119.9,60,60,60,4.3,1.1000000000000001,3.4,0.8,-0.4,-0.4,-0.4,0,0,0,-0.3,-0.3,-0.3,-0.1,0,0,-0.3,-0.3,-0.3,-0.1,-0.1,-0.1,-0.2,-0.2,-0.2,-0.1,0,0,0.1,0.2,0.1,0.4,0.7,0.5,0.1,0.3,0.1,0.6,0.8,0.6,0,0,0,0.3,0.4,0.3,0.3,0.4,0.3,0.3,0.3,0.3,0.5,0.5,0.5,0,0,0,0,0,0,0,0,0,0,0,0,0,0,0,0,0,0,0,0,0,0,0,0,1,1,1,2,1,1,177.9,12.9,"02:00:00",610,0,0,0,0,0,0,0,0,0,0,0,0,0,0,0,0,0,0,0,0,30,48,-0.6,-0.6,0,0]
[null,null,null,null,null,null,null,null,null,null,null,null,null,null,null,null,null,null,null,null,null,null,null,null,null,null,null,null,null,null,null,null,null,null,null,null,null,null,null,null,null,null,null,null,null,null,null,null,null,null,null,null,null,null,null,null,null,null,null,null,null,null,null,null,null,null,null,null,null,null,null,null,null,null,null,null,null,null,null,null,null,null,null,null,null,null,null,null,null,null,null,null,null,null,null,null,null,null,null,null,null,null,null,null,null,null,null,null,null,null,null,null,null,null,null,null,null,null,null,null,null,null,null,null,null,null,null,null,null,null,null,null,null,null,null,null,null,null,null,null,null,null,null,null,null,null,null,null,null,null,"2023-10-20T17:40:05",36,35,37,34,49,44,48,43,24.3,89.8,100,2,53.2,53.5,53.5,57.7,-6.5,4.5999999999999996,-5.0999999999999996,120,120,120,119.8,120.1,120,119.9,120,119.9,119.8,120,119.9,60,60,60,3.9,6.8,2.9,6.7,-0.3,-0.3,-0.3,0.1,0.7,0.1,-0.3,-0.2,-0.2,0.1,0.7,0.1,-0.4,-0.3,-0.3,-0.1,0.4,-0.1,-0.2,-0.2,-0.2,-0.1,0.4,0,0.1,0.2,0.1,0.4,0.8,0.6,0.1,0.3,0.1,0.5,0.7,0.6,0,0,0,0.3,0.4,0.3,0.4,0.4,0.4,0.3,0.3,0.3,0.5,0.5,0.5,0,0,0,0,0,0,0,0,0,0,0,0,0,0,0,0,0,0,0,0,0,0,0,0,1,1,1,2,1,1,177.9,12.9,"02:00:00",610,0,0,0,0,0,0,0,0,0,0,0,0,0,0,0,0,0,0,0,0,30,48,0.9,-0.3,0,0]
[null,null,null,null,null,null,null,null,null,null,null,null,null,null,null,null,null,null,null,null,null,null,null,null,null,null,null,null,null,null,null,null,null,null,null,null,null,null,null,null,null,null,null,null,null,null,null,null,null,null,null,null,null,null,null,null,null,null,null,null,null,null,null,null,null,null,null,null,null,null,null,null,null,null,null,null,null,null,null,null,null,null,null,null,null,null,null,null,null,null,null,null,null,null,null,null,null,null,null,null,null,null,null,null,null,null,null,null,null,null,null,null,null,null,null,null,null,null,null,null,null,null,null,null,null,null,null,null,null,null,null,null,null,null,null,null,null,null,null,null,null,null,null,null,null,null,null,null,null,null,"2023-10-20T17:56:20",35,35,36,34,48,44,47,43,24.3,89.6,100,2,53.1,53.1,53.1,57.7,15.1,20.5,17.3,120,120,120,120,120,120,119.9,120,119.9,119.9,120,119.9,60,60,60,2.4,4.0999999999999996,1.7,3.6,-0.1,0,0,0.3,0.5,0.4,0,0.1,0,0.3,0.4,0.3,-0.3,-0.2,-0.2,-0.2,-0.2,-0.2,-0.2,-0.1,-0.1,-0.1,-0.1,-0.1,0.1,0.3,0.2,0.4,0.7,0.4,0.1,0.4,0.2,0.6,0.9,0.6,0,0,0,0.3,0.4,0.3,0.3,0.4,0.3,0.3,0.3,0.3,0.5,0.6,0.5,0,0,0,0,0,0,0,0,0,0,0,0,0,0,0,0,0,0,0,0,0,0,0,0,1,1,1,2,1,1,177.8,12.8,"02:00:00",612,0,0,0,0,0,0,0,0,0,0,0,0,0,0,0,0,0,0,0,0,30,48,1,0.8,0,0]
[null,null,null,null,null,null,null,null,null,null,null,null,null,null,null,null,null,null,null,null,null,null,null,null,null,null,null,null,null,null,null,null,null,null,null,null,null,null,null,null,null,null,null,null,null,null,null,null,null,null,null,null,null,null,null,null,null,null,null,null,null,null,null,null,null,null,null,null,null,null,null,null,null,null,null,null,null,null,null,null,null,null,null,null,null,null,null,null,null,null,null,null,null,null,null,null,null,null,null,null,null,null,null,null,null,null,null,null,null,null,null,null,null,null,null,null,null,null,null,null,null,null,null,null,null,null,null,null,null,null,null,null,null,null,null,null,null,null,null,null,null,null,null,null,null,null,null,null,null,null,"2023-10-20T18:07:29",35,36,36,34,48,44,47,43,25.4,89.4,100,2,53,53.1,53,57.6,20.5,25.3,23.3,120,120,120,120,120,120,120,120,120,119.9,120,119.9,60,60,60,3.2,5.3,2.2999999999999998,4.8,0,0,0,0.5,0.6,0.5,0.1,0.1,0.1,0.4,0.6,0.4,-0.4,-0.4,-0.4,-0.2,-0.2,-0.2,-0.3,-0.2,-0.2,-0.1,-0.1,-0.1,0.1,0.4,0.2,0.3,0.6,0.4,0.1,0.3,0.1,0.6,0.9,0.7,0,0,0,0.3,0.4,0.3,0.3,0.4,0.3,0.3,0.3,0.3,0.5,0.6,0.5,0,0,0,0,0,0,0,0,0,0,0,0,0,0,0,0,0,0,0,0,0,0,0,0,1,1,1,2,1,1,177.8,12.8,"02:00:00",616,0,0,0,0,0,0,0,0,0,0,0,0,0,0,0,0,0,0,0,0,30,48,1.3,1.1000000000000001,0,0]
[null,null,null,null,null,null,null,null,null,null,null,null,null,null,null,null,null,null,null,null,null,null,null,null,null,null,null,null,null,null,null,null,null,null,null,null,null,null,null,null,null,null,null,null,null,null,null,null,null,null,null,null,null,null,null,null,null,null,null,null,null,null,null,null,null,null,null,null,null,null,null,null,null,null,null,null,null,null,null,null,null,null,null,null,null,null,null,null,null,null,null,null,null,null,null,null,null,null,null,null,null,null,null,null,null,null,null,null,null,null,null,null,null,null,null,null,null,null,null,null,null,null,null,null,null,null,null,null,null,null,null,null,null,null,null,null,null,null,null,null,null,null,null,null,null,null,null,null,null,null,"2023-10-20T18:12:33",35,36,36,35,48,44,47,43,25.1,89.2,100,2,53,53,53,57.6,22.5,28.8,26.4,120,120,120,120,120,120,119.9,120,119.9,119.9,120,119.9,60,60,60,3.3,5.7,2.5,5.0999999999999996,0,0.1,0,0.5,0.7,0.5,0.1,0.1,0.1,0.4,0.6,0.5,-0.4,-0.4,-0.4,-0.2,-0.2,-0.2,-0.3,-0.3,-0.3,-0.1,-0.1,-0.1,0.1,0.3,0.2,0.4,0.7,0.4,0.1,0.3,0.2,0.6,1,0.8,0,0,0,0.3,0.4,0.3,0.3,0.4,0.3,0.2,0.3,0.3,0.5,0.6,0.5,0,0,0,0,0,0,0,0,0,0,0,0,0,0,0,0,0,0,0,0,0,0,0,0,1,1,1,2,1,1,177.8,12.8,"02:00:00",618,0,0,0,0,0,0,0,0,0,0,0,0,0,0,0,0,0,0,0,0,30,48,1.4,1.2,0,0]
[null,null,null,null,null,null,null,null,null,null,null,null,null,null,null,null,null,null,null,null,null,null,null,null,null,null,null,null,null,null,null,null,null,null,null,null,null,null,null,null,null,null,null,null,null,null,null,null,null,null,null,null,null,null,null,null,null,null,null,null,null,null,null,null,null,null,null,null,null,null,null,null,null,null,null,null,null,null,null,null,null,null,null,null,null,null,null,null,null,null,null,null,null,null,null,null,null,null,null,null,null,null,null,null,null,null,null,null,null,null,null,null,null,null,null,null,null,null,null,null,null,null,null,null,null,null,null,null,null,null,null,null,null,null,null,null,null,null,null,null,null,null,null,null,null,null,null,null,null,null,"2023-10-20T18:23:42",35,37,36,35,48,44,47,43,25.8,88.6,100,2,53.1,53.2,53.1,57.5,33.799999999999997,35.799999999999997,34.6,120,120,120,120,120,120,119.9,120,119.9,119.9,120,119.9,60,60,60,3.4,6.2,3,5.6,0.2,0.2,0.2,0.7,0.7,0.7,0.2,0.3,0.2,0.6,0.7,0.6,-0.4,-0.3,-0.3,-0.2,-0.1,-0.1,-0.3,-0.2,-0.2,-0.1,0,-0.1,0.1,0.3,0.2,0.4,0.7,0.5,0.2,0.4,0.2,0.5,0.9,0.6,0,0,0,0.3,0.4,0.3,0.3,0.4,0.3,0.2,0.3,0.2,0.5,0.5,0.5,0,0,0,0,0,0,0,0,0,0,0,0,0,0,0,0,0,0,0,0,0,0,0,0,1,1,1,2,1,1,177.8,12.8,"02:00:00",623,0,0,0,0,0,0,0,0,0,0,0,0,0,0,0,0,0,0,0,0,30,48,1.8,1.7,0,0]
[null,null,null,null,null,null,null,null,null,null,null,null,null,null,null,null,null,null,null,null,null,null,null,null,null,null,null,null,null,null,null,null,null,null,null,null,null,null,null,null,null,null,null,null,null,null,null,null,null,null,null,null,null,null,null,null,null,null,null,null,null,null,null,null,null,null,null,null,null,null,null,null,null,null,null,null,null,null,null,null,null,null,null,null,null,null,null,null,null,null,null,null,null,null,null,null,null,null,null,null,null,null,null,null,null,null,null,null,null,null,null,null,null,null,null,null,null,null,null,null,null,null,null,null,null,null,null,null,null,null,null,null,null,null,null,null,null,null,null,null,null,null,null,null,null,null,null,null,null,null,"2023-10-20T18:32:49",35,37,36,35,48,44,47,43,26,88.2,100,2,53.1,53.1,53.1,57.5,31.9,32.9,32.299999999999997,120,120,120,120,120,120,119.9,120,119.9,119.9,120,119.9,60,60,60,2.9,5.5,2.6,5.0999999999999996,0.2,0.2,0.2,0.6,0.7,0.6,0.2,0.3,0.2,0.6,0.6,0.6,-0.3,-0.3,-0.3,-0.1,-0.1,-0.1,-0.2,-0.2,-0.2,0,0,0,0.1,0.3,0.1,0.4,0.6,0.5,0.2,0.3,0.2,0.4,0.8,0.6,0,0,0,0.3,0.4,0.3,0.3,0.4,0.3,0.2,0.3,0.3,0.5,0.5,0.5,0,0,0,0,0,0,0,0,0,0,0,0,0,0,0,0,0,0,0,0,0,0,0,0,1,1,1,2,1,1,177.8,12.8,"02:00:00",628,0,0,0,0,0,0,0,0,0,0,0,0,0,0,0,0,0,0,0,0,30,48,1.7,1.6,0,0]
[null,null,null,null,null,null,null,null,null,null,null,null,null,null,null,null,null,null,null,null,null,null,null,null,null,null,null,null,null,null,null,null,null,null,null,null,null,null,null,null,null,null,null,null,null,null,null,null,null,null,null,null,null,null,null,null,null,null,null,null,null,null,null,null,null,null,null,null,null,null,null,null,null,null,null,null,null,null,null,null,null,null,null,null,null,null,null,null,null,null,null,null,null,null,null,null,null,null,null,null,null,null,null,null,null,null,null,null,null,null,null,null,null,null,null,null,null,null,null,null,null,null,null,null,null,null,null,null,null,null,null,null,null,null,null,null,null,null,null,null,null,null,null,null,null,null,null,null,null,null,"2023-10-20T18:51:03",35,37,36,35,47,44,46,43,26.1,87.3,100,2.1,53.1,53.2,53.1,57.5,30.1,31.5,31,120,120,120,120,120,120,119.9,120,119.9,120,120,120,60,60,60,2.9,5.0999999999999996,2.6,4.7,0.2,0.2,0.2,0.6,0.6,0.6,0.2,0.2,0.2,0.5,0.6,0.5,-0.3,-0.3,-0.3,-0.1,-0.1,-0.1,-0.2,-0.2,-0.2,0,0,0,0.1,0.3,0.1,0.4,0.7,0.5,0.1,0.3,0.2,0.5,0.9,0.6,0,0,0,0.3,0.4,0.3,0.3,0.4,0.3,0.2,0.3,0.2,0.5,0.5,0.5,0,0,0,0,0,0,0,0,0,0,0,0,0,0,0,0,0,0,0,0,0,0,0,0,1,1,1,2,1,1,177.8,12.8,"02:00:00",638,0,0,0,0,0,0,0,0,0,0,0,0,0,0,0,0,0,0,0,0,30,48,1.6,1.5,0,0]
[null,null,null,null,null,null,null,null,null,null,null,null,null,null,null,null,null,null,null,null,null,null,null,null,null,null,null,null,null,null,null,null,null,null,null,null,null,null,null,null,null,null,null,null,null,null,null,null,null,null,null,null,null,null,null,null,null,null,null,null,null,null,null,null,null,null,null,null,null,null,null,null,null,null,null,null,null,null,null,null,null,null,null,null,null,null,null,null,null,null,null,null,null,null,null,null,null,null,null,null,null,null,null,null,null,null,null,null,null,null,null,null,null,null,null,null,null,null,null,null,null,null,null,null,null,null,null,null,null,null,null,null,null,null,null,null,null,null,null,null,null,null,null,null,null,null,null,null,null,null,"2023-10-20T18:56:09",35,37,36,35,47,44,46,43,26.2,87,100,2.1,53.1,53.1,53.1,57.5,33.200000000000003,34.1,33.700000000000003,120,120,120,120,120,120,120,120,120,119.9,120,120,60,60,60,2.9,5.6,2.7,5.2,0.2,0.2,0.2,0.6,0.7,0.6,0.2,0.3,0.3,0.6,0.6,0.6,-0.3,-0.3,-0.3,-0.1,-0.1,-0.1,-0.2,-0.2,-0.2,-0.1,0,0,0.1,0.3,0.1,0.4,0.7,0.5,0.1,0.3,0.2,0.5,0.7,0.6,0,0,0,0.3,0.4,0.3,0.3,0.4,0.3,0.2,0.3,0.3,0.5,0.5,0.5,0,0,0,0,0,0,0,0,0,0,0,0,0,0,0,0,0,0,0,0,0,0,0,0,1,1,1,2,1,1,177.8,12.8,"02:00:00",641,0,0,0,0,0,0,0,0,0,0,0,0,0,0,0,0,0,0,0,0,30,48,1.7,1.7,0,0]
[null,null,null,null,null,null,null,null,null,null,null,null,null,null,null,null,null,null,null,null,null,null,null,null,null,null,null,null,null,null,null,null,null,null,null,null,null,null,null,null,null,null,null,null,null,null,null,null,null,null,null,null,null,null,null,null,null,null,null,null,null,null,null,null,null,null,null,null,null,null,null,null,null,null,null,null,null,null,null,null,null,null,null,null,null,null,null,null,null,null,null,null,null,null,null,null,null,null,null,null,null,null,null,null,null,null,null,null,null,null,null,null,null,null,null,null,null,null,null,null,null,null,null,null,null,null,null,null,null,null,null,null,null,null,null,null,null,null,null,null,null,null,null,null,null,null,null,null,null,null,"2023-10-20T19:11:21",35,37,36,36,47,44,46,43,26.2,86.2,100,2.1,53.1,53.1,53.1,57.5,31.5,33.6,32.4,120,120,120,120,120,120,120,120,120,120,120,120,60,60,60,3,5.4,2.9,4.9000000000000004,0.2,0.2,0.2,0.6,0.6,0.6,0.3,0.3,0.3,0.5,0.6,0.5,-0.3,-0.3,-0.3,-0.1,-0.1,-0.1,-0.2,-0.2,-0.2,0,0,0,0.1,0.3,0.2,0.4,0.7,0.4,0.1,0.3,0.2,0.6,0.7,0.6,0,0,0,0.3,0.4,0.3,0.3,0.4,0.3,0.3,0.3,0.3,0.5,0.5,0.5,0,0,0,0,0,0,0,0,0,0,0,0,0,0,0,0,0,0,0,0,0,0,0,0,1,1,1,2,1,1,177.8,12.8,"02:00:00",649,0,0,0,0,0,0,0,0,0,0,0,0,0,0,0,0,0,0,0,0,30,48,1.7,1.6,0,0]
[null,null,null,null,null,null,null,null,null,null,null,null,null,null,null,null,null,null,null,null,null,null,null,null,null,null,null,null,null,null,null,null,null,null,null,null,null,null,null,null,null,null,null,null,null,null,null,null,null,null,null,null,null,null,null,null,null,null,null,null,null,null,null,null,null,null,null,null,null,null,null,null,null,null,null,null,null,null,null,null,null,null,null,null,null,null,null,null,null,null,null,null,null,null,null,null,null,null,null,null,null,null,null,null,null,null,null,null,null,null,null,null,null,null,null,null,null,null,null,null,null,null,null,null,null,null,null,null,null,null,null,null,null,null,null,null,null,null,null,null,null,null,null,null,null,null,null,null,null,null,"2023-10-20T19:13:23",35,37,36,35,47,44,46,43,26.2,86.1,100,2.1,53.1,53.1,53.1,57.5,33.700000000000003,35.700000000000003,34.700000000000003,120,120,120,120,120,120,119.9,120,119.9,119.9,120,119.9,60,60,60,3.2,5.6,3.1,5.0999999999999996,0.2,0.2,0.2,0.6,0.7,0.6,0.3,0.3,0.3,0.6,0.6,0.6,-0.3,-0.3,-0.3,-0.1,-0.1,-0.1,-0.2,-0.2,-0.2,-0.1,0,0,0.1,0.2,0.1,0.4,0.5,0.4,0.1,0.3,0.2,0.5,0.8,0.6,0,0,0,0.3,0.4,0.3,0.3,0.4,0.3,0.2,0.3,0.3,0.5,0.5,0.5,0,0,0,0,0,0,0,0,0,0,0,0,0,0,0,0,0,0,0,0,0,0,0,0,1,1,1,2,1,1,177.8,12.8,"02:00:00",650,0,0,0,0,0,0,0,0,0,0,0,0,0,0,0,0,0,0,0,0,30,48,1.8,1.7,0,0]
[null,null,null,null,null,null,null,null,null,null,null,null,null,null,null,null,null,null,null,null,null,null,null,null,null,null,null,null,null,null,null,null,null,null,null,null,null,null,null,null,null,null,null,null,null,null,null,null,null,null,null,null,null,null,null,null,null,null,null,null,null,null,null,null,null,null,null,null,null,null,null,null,null,null,null,null,null,null,null,null,null,null,null,null,null,null,null,null,null,null,null,null,null,null,null,null,null,null,null,null,null,null,null,null,null,null,null,null,null,null,null,null,null,null,null,null,null,null,null,null,null,null,null,null,null,null,null,null,null,null,null,null,null,null,null,null,null,null,null,null,null,null,null,null,null,null,null,null,null,null,"2023-10-20T19:28:34",35,37,36,36,47,44,46,43,26.2,85.3,100,2.1,53.1,53.1,53.1,57.5,35.700000000000003,36.799999999999997,36.4,120,120,120,120,120,120,119.9,120,119.9,119.9,120,119.9,60,60,60,3.1,5.8,3,5.3,0.2,0.2,0.2,0.7,0.7,0.7,0.3,0.3,0.3,0.6,0.6,0.6,-0.3,-0.3,-0.3,-0.1,-0.1,-0.1,-0.2,-0.2,-0.2,0,0,0,0.1,0.3,0.2,0.3,0.5,0.4,0.1,0.3,0.1,0.6,1,0.7,0,0,0,0.3,0.4,0.3,0.3,0.4,0.3,0.3,0.3,0.3,0.5,0.6,0.5,0,0,0,0,0,0,0,0,0,0,0,0,0,0,0,0,0,0,0,0,0,0,0,0,1,1,1,2,1,1,177.8,12.8,"02:00:00",659,0,0,0,0,0,0,0,0,0,0,0,0,0,0,0,0,0,0,0,0,30,48,1.9,1.8,0,0]
[null,null,null,null,null,null,null,null,null,null,null,null,null,null,null,null,null,null,null,null,null,null,null,null,null,null,null,null,null,null,null,null,null,null,null,null,null,null,null,null,null,null,null,null,null,null,null,null,null,null,null,null,null,null,null,null,null,null,null,null,null,null,null,null,null,null,null,null,null,null,null,null,null,null,null,null,null,null,null,null,null,null,null,null,null,null,null,null,null,null,null,null,null,null,null,null,null,null,null,null,null,null,null,null,null,null,null,null,null,null,null,null,null,null,null,null,null,null,null,null,null,null,null,null,null,null,null,null,null,null,null,null,null,null,null,null,null,null,null,null,null,null,null,null,null,null,null,null,null,null,"2023-10-20T19:43:45",35,37,36,35,46,44,46,43,26.2,84.4,100,2.1,53.1,53.2,53.1,57.5,28.8,29.9,29.3,120,120,120,120,120,120,119.9,120,119.9,119.9,120,119.9,60,60,60,3,4.5999999999999996,2.7,4.2,0.2,0.2,0.2,0.5,0.5,0.5,0.3,0.3,0.3,0.5,0.5,0.5,-0.3,-0.3,-0.3,-0.1,-0.1,-0.1,-0.2,-0.2,-0.2,0,0,0,0.1,0.3,0.2,0.4,0.6,0.4,0.1,0.3,0.1,0.6,1,0.7,0,0,0,0.3,0.4,0.3,0.3,0.4,0.3,0.3,0.3,0.3,0.5,0.6,0.5,0,0,0,0,0,0,0,0,0,0,0,0,0,0,0,0,0,0,0,0,0,0,0,0,1,1,1,2,1,1,177.8,12.8,"02:00:00",667,0,0,0,0,0,0,0,0,0,0,0,0,0,0,0,0,0,0,0,0,30,48,1.5,1.4,0,0]
[null,null,null,null,null,null,null,null,null,null,null,null,null,null,null,null,null,null,null,null,null,null,null,null,null,null,null,null,null,null,null,null,null,null,null,null,null,null,null,null,null,null,null,null,null,null,null,null,null,null,null,null,null,null,null,null,null,null,null,null,null,null,null,null,null,null,null,null,null,null,null,null,null,null,null,null,null,null,null,null,null,null,null,null,null,null,null,null,null,null,null,null,null,null,null,null,null,null,null,null,null,null,null,null,null,null,null,null,null,null,null,null,null,null,null,null,null,null,null,null,null,null,null,null,null,null,null,null,null,null,null,null,null,null,null,null,null,null,null,null,null,null,null,null,null,null,null,null,null,null,"2023-10-20T19:44:48",35,37,36,35,46,44,46,43,26.2,84.4,100,2.1,53.1,53.2,53.1,57.5,27.6,29.4,28.7,120,120,120,120,120,120,119.9,120,119.9,120,120,120,60,60,60,2.9,4.5,2.7,4.0999999999999996,0.2,0.2,0.2,0.5,0.5,0.5,0.2,0.3,0.2,0.5,0.5,0.5,-0.3,-0.3,-0.3,-0.1,-0.1,-0.1,-0.2,-0.2,-0.2,0,0,0,0.1,0.3,0.2,0.4,0.6,0.4,0,0.3,0.1,0.6,0.9,0.6,0,0,0,0.3,0.4,0.3,0.3,0.4,0.3,0.3,0.3,0.3,0.5,0.6,0.5,0,0,0,0,0,0,0,0,0,0,0,0,0,0,0,0,0,0,0,0,0,0,0,0,1,1,1,2,1,1,177.8,12.8,"02:00:00",668,0,0,0,0,0,0,0,0,0,0,0,0,0,0,0,0,0,0,0,0,30,48,1.5,1.4,0,0]
[null,null,null,null,null,null,null,null,null,null,null,null,null,null,null,null,null,null,null,null,null,null,null,null,null,null,null,null,null,null,null,null,null,null,null,null,null,null,null,null,null,null,null,null,null,null,null,null,null,null,null,null,null,null,null,null,null,null,null,null,null,null,null,null,null,null,null,null,null,null,null,null,null,null,null,null,null,null,null,null,null,null,null,null,null,null,null,null,null,null,null,null,null,null,null,null,null,null,null,null,null,null,null,null,null,null,null,null,null,null,null,null,null,null,null,null,null,null,null,null,null,null,null,null,null,null,null,null,null,null,null,null,null,null,null,null,null,null,null,null,null,null,null,null,null,null,null,null,null,null,"2023-10-20T20:01:01",35,37,36,35,46,44,45,43,26.2,83.7,100,2.1,53.1,53.2,53.2,57.5,24.3,28.1,26.1,120,120,120,120,120,120,119.9,120,119.9,119.9,120,119.9,60,60,60,2.9,4.3,2.7,3.9,0.2,0.2,0.2,0.4,0.5,0.4,0.2,0.3,0.2,0.4,0.5,0.4,-0.3,-0.3,-0.3,-0.1,-0.1,-0.1,-0.2,-0.2,-0.2,0,0,0,0.1,0.3,0.1,0.3,0.6,0.4,0.1,0.3,0.1,0.5,0.8,0.6,0,0,0,0.3,0.4,0.3,0.3,0.4,0.3,0.3,0.3,0.3,0.5,0.5,0.5,0,0,0,0,0,0,0,0,0,0,0,0,0,0,0,0,0,0,0,0,0,0,0,0,1,1,1,2,1,1,177.8,12.8,"02:00:00",675,0,0,0,0,0,0,0,0,0,0,0,0,0,0,0,0,0,0,0,0,30,48,1.4,1.2,0,0]
[null,null,null,null,null,null,null,null,null,null,null,null,null,null,null,null,null,null,null,null,null,null,null,null,null,null,null,null,null,null,null,null,null,null,null,null,null,null,null,null,null,null,null,null,null,null,null,null,null,null,null,null,null,null,null,null,null,null,null,null,null,null,null,null,null,null,null,null,null,null,null,null,null,null,null,null,null,null,null,null,null,null,null,null,null,null,null,null,null,null,null,null,null,null,null,null,null,null,null,null,null,null,null,null,null,null,null,null,null,null,null,null,null,null,null,null,null,null,null,null,null,null,null,null,null,null,null,null,null,null,null,null,null,null,null,null,null,null,null,null,null,null,null,null,null,null,null,null,null,null,"2023-10-20T20:12:10",35,36,36,35,46,44,45,43,26.2,83.2,100,2.1,53.1,53.2,53.1,57.5,25.2,28.3,26.5,120,120,120,120,120,120,120,120,120,120,120,120,60,60,60,2.9,4.3,2.7,3.9,0.2,0.2,0.2,0.4,0.5,0.4,0.3,0.3,0.3,0.4,0.5,0.4,-0.3,-0.3,-0.3,-0.1,-0.1,-0.1,-0.2,-0.2,-0.2,0,0,0,0.1,0.3,0.1,0.4,0.6,0.4,0.1,0.3,0.1,0.6,0.9,0.6,0,0,0,0.3,0.4,0.3,0.3,0.4,0.3,0.2,0.3,0.3,0.5,0.5,0.5,0,0,0,0,0,0,0,0,0,0,0,0,0,0,0,0,0,0,0,0,0,0,0,0,1,1,1,2,1,1,177.8,12.8,"02:00:00",680,0,0,0,0,0,0,0,0,0,0,0,0,0,0,0,0,0,0,0,0,30,48,1.4,1.3,0,0]
[null,null,null,null,null,null,null,null,null,null,null,null,null,null,null,null,null,null,null,null,null,null,null,null,null,null,null,null,null,null,null,null,null,null,null,null,null,null,null,null,null,null,null,null,null,null,null,null,null,null,null,null,null,null,null,null,null,null,null,null,null,null,null,null,null,null,null,null,null,null,null,null,null,null,null,null,null,null,null,null,null,null,null,null,null,null,null,null,null,null,null,null,null,null,null,null,null,null,null,null,null,null,null,null,null,null,null,null,null,null,null,null,null,null,null,null,null,null,null,null,null,null,null,null,null,null,null,null,null,null,null,null,null,null,null,null,null,null,null,null,null,null,null,null,null,null,null,null,null,null,"2023-10-20T20:17:14",35,36,36,35,46,44,45,43,26.2,83,100,2.1,53.1,53.2,53.1,57.5,25.5,28.2,27.3,120,120,120,120,120,120,119.9,120,119.9,120,120,120,60,60,60,2.9,4.4000000000000004,2.6,4,0.2,0.2,0.2,0.4,0.5,0.5,0.2,0.3,0.2,0.4,0.5,0.4,-0.3,-0.3,-0.3,-0.1,-0.1,-0.1,-0.2,-0.2,-0.2,0,0,0,0.1,0.3,0.1,0.4,0.7,0.5,0.1,0.3,0.1,0.6,0.9,0.6,0,0,0,0.3,0.4,0.3,0.3,0.4,0.4,0.3,0.3,0.3,0.5,0.5,0.5,0,0,0,0,0,0,0,0,0,0,0,0,0,0,0,0,0,0,0,0,0,0,0,0,1,1,1,2,1,1,177.7,12.7,"02:00:00",682,0,0,0,0,0,0,0,0,0,0,0,0,0,0,0,0,0,0,0,0,30,48,1.4,1.3,0,0]
[null,null,null,null,null,null,null,null,null,null,null,null,null,null,null,null,null,null,null,null,null,null,null,null,null,null,null,null,null,null,null,null,null,null,null,null,null,null,null,null,null,null,null,null,null,null,null,null,null,null,null,null,null,null,null,null,null,null,null,null,null,null,null,null,null,null,null,null,null,null,null,null,null,null,null,null,null,null,null,null,null,null,null,null,null,null,null,null,null,null,null,null,null,null,null,null,null,null,null,null,null,null,null,null,null,null,null,null,null,null,null,null,null,null,null,null,null,null,null,null,null,null,null,null,null,null,null,null,null,null,null,null,null,null,null,null,null,null,null,null,null,null,null,null,null,null,null,null,null,null,"2023-10-20T20:32:25",35,36,36,35,46,44,45,43,26.2,82.3,100,2.1,53.1,53.2,53.1,57.5,28.9,31.9,30.1,120,120,120,120,120,120,119.9,120,119.9,119.9,120,119.9,60,60,60,3,4.8,3,4.4000000000000004,0.2,0.2,0.2,0.5,0.6,0.5,0.3,0.3,0.3,0.5,0.5,0.5,-0.3,-0.3,-0.3,-0.1,-0.1,-0.1,-0.2,-0.2,-0.2,0,0,0,0.1,0.3,0.1,0.4,0.7,0.5,0.1,0.4,0.2,0.6,0.9,0.7,0,0,0,0.3,0.4,0.3,0.3,0.4,0.3,0.3,0.3,0.3,0.5,0.6,0.5,0,0,0,0,0,0,0,0,0,0,0,0,0,0,0,0,0,0,0,0,0,0,0,0,1,1,1,2,1,1,177.7,12.7,"02:00:00",689,0,0,0,0,0,0,0,0,0,0,0,0,0,0,0,0,0,0,0,0,30,48,1.6,1.5,0,0]
[null,null,null,null,null,null,null,null,null,null,null,null,null,null,null,null,null,null,null,null,null,null,null,null,null,null,null,null,null,null,null,null,null,null,null,null,null,null,null,null,null,null,null,null,null,null,null,null,null,null,null,null,null,null,null,null,null,null,null,null,null,null,null,null,null,null,null,null,null,null,null,null,null,null,null,null,null,null,null,null,null,null,null,null,null,null,null,null,null,null,null,null,null,null,null,null,null,null,null,null,null,null,null,null,null,null,null,null,null,null,null,null,null,null,null,null,null,null,null,null,null,null,null,null,null,null,null,null,null,null,null,null,null,null,null,null,null,null,null,null,null,null,null,null,null,null,null,null,null,null,"2023-10-20T20:41:33",35,37,36,35,46,44,45,43,26.2,81.8,100,2.2000000000000002,53.1,53.1,53.1,57.5,30.8,32.700000000000003,31.7,120,120,120,120,120,120,119.9,120,119.9,119.9,120,119.9,60,60,60,3,4.9000000000000004,3,4.5999999999999996,0.2,0.2,0.2,0.5,0.6,0.5,0.3,0.3,0.3,0.5,0.5,0.5,-0.3,-0.3,-0.3,-0.1,-0.1,-0.1,-0.2,-0.2,-0.2,0,0,0,0.1,0.3,0.2,0.4,0.6,0.4,0.1,0.3,0.2,0.5,0.8,0.6,0,0,0,0.3,0.4,0.3,0.3,0.4,0.3,0.2,0.3,0.3,0.5,0.5,0.5,0,0,0,0,0,0,0,0,0,0,0,0,0,0,0,0,0,0,0,0,0,0,0,0,1,1,1,2,1,1,177.7,12.7,"02:00:00",695,0,0,0,0,0,0,0,0,0,0,0,0,0,0,0,0,0,0,0,0,30,48,1.7,1.5,0,0]
[null,null,null,null,null,null,null,null,null,null,null,null,null,null,null,null,null,null,null,null,null,null,null,null,null,null,null,null,null,null,null,null,null,null,null,null,null,null,null,null,null,null,null,null,null,null,null,null,null,null,null,null,null,null,null,null,null,null,null,null,null,null,null,null,null,null,null,null,null,null,null,null,null,null,null,null,null,null,null,null,null,null,null,null,null,null,null,null,null,null,null,null,null,null,null,null,null,null,null,null,null,null,null,null,null,null,null,null,null,null,null,null,null,null,null,null,null,null,null,null,null,null,null,null,null,null,null,null,null,null,null,null,null,null,null,null,null,null,null,null,null,null,null,null,null,null,null,null,null,null,"2023-10-20T20:49:40",35,37,36,35,46,44,45,43,26.1,81.400000000000006,100,2.2000000000000002,53.1,53.1,53.1,57.5,29.2,30.5,29.8,120,120,120,120,120,120,119.9,120,119.9,120,120,120,60,60,60,3,4.4000000000000004,3,4.0999999999999996,0.2,0.2,0.2,0.5,0.5,0.5,0.3,0.3,0.3,0.5,0.5,0.5,-0.3,-0.3,-0.3,-0.1,-0.1,-0.1,-0.2,-0.2,-0.2,0,0,0,0.1,0.3,0.2,0.4,0.6,0.4,0.1,0.3,0.1,0.6,0.9,0.7,0,0,0,0.3,0.4,0.3,0.3,0.4,0.3,0.3,0.3,0.3,0.5,0.5,0.5,0,0,0,0,0,0,0,0,0,0,0,0,0,0,0,0,0,0,0,0,0,0,0,0,1,1,1,2,1,1,177.7,12.7,"02:00:00",699,0,0,0,0,0,0,0,0,0,0,0,0,0,0,0,0,0,0,0,0,30,48,1.5,1.5,0,0]
[null,null,null,null,null,null,null,null,null,null,null,null,null,null,null,null,null,null,null,null,null,null,null,null,null,null,null,null,null,null,null,null,null,null,null,null,null,null,null,null,null,null,null,null,null,null,null,null,null,null,null,null,null,null,null,null,null,null,null,null,null,null,null,null,null,null,null,null,null,null,null,null,null,null,null,null,null,null,null,null,null,null,null,null,null,null,null,null,null,null,null,null,null,null,null,null,null,null,null,null,null,null,null,null,null,null,null,null,null,null,null,null,null,null,null,null,null,null,null,null,null,null,null,null,null,null,null,null,null,null,null,null,null,null,null,null,null,null,null,null,null,null,null,null,null,null,null,null,null,null,"2023-10-20T21:00:49",35,37,36,35,46,44,45,43,26.1,80.900000000000006,100,2.2000000000000002,53.1,53.1,53.1,57.5,30.9,33.299999999999997,32.1,120,120,120,120,120,120,119.9,120,119.9,119.9,120,119.9,60,60,60,3.1,4.9000000000000004,3.1,4.5,0.2,0.2,0.2,0.5,0.6,0.5,0.3,0.3,0.3,0.5,0.5,0.5,-0.3,-0.3,-0.3,-0.1,0,0,-0.2,-0.2,-0.2,0,0,0,0.2,0.4,0.2,0.3,0.6,0.4,0.1,0.3,0.2,0.6,0.9,0.8,0,0,0,0.3,0.3,0.3,0.3,0.4,0.3,0.2,0.3,0.3,0.5,0.6,0.5,0,0,0,0,0,0,0,0,0,0,0,0,0,0,0,0,0,0,0,0,0,0,0,0,1,1,1,2,1,1,177.7,12.7,"02:00:00",705,0,0,0,0,0,0,0,0,0,0,0,0,0,0,0,0,0,0,0,0,30,48,1.7,1.6,0,0]
[null,null,null,null,null,null,null,null,null,null,null,null,null,null,null,null,null,null,null,null,null,null,null,null,null,null,null,null,null,null,null,null,null,null,null,null,null,null,null,null,null,null,null,null,null,null,null,null,null,null,null,null,null,null,null,null,null,null,null,null,null,null,null,null,null,null,null,null,null,null,null,null,null,null,null,null,null,null,null,null,null,null,null,null,null,null,null,null,null,null,null,null,null,null,null,null,null,null,null,null,null,null,null,null,null,null,null,null,null,null,null,null,null,null,null,null,null,null,null,null,null,null,null,null,null,null,null,null,null,null,null,null,null,null,null,null,null,null,null,null,null,null,null,null,null,null,null,null,null,null,"2023-10-20T21:16:02",35,37,35,35,45,44,45,43,26.1,80.099999999999994,100,2.2000000000000002,53.1,53.1,53.1,57.5,30,32.1,30.9,120,120,120,120,120,120,120,120,120,120,120,120,60,60,60,3.1,4.7,3.1,4.3,0.2,0.2,0.2,0.5,0.6,0.5,0.3,0.3,0.3,0.5,0.5,0.5,-0.3,-0.3,-0.3,-0.1,-0.1,-0.1,-0.2,-0.2,-0.2,0,0,0,0.2,0.4,0.2,0.4,0.7,0.4,0.1,0.3,0.1,0.6,0.9,0.6,0,0,0,0.3,0.3,0.3,0.3,0.4,0.3,0.3,0.3,0.3,0.5,0.5,0.5,0,0,0,0,0,0,0,0,0,0,0,0,0,0,0,0,0,0,0,0,0,0,0,0,1,1,1,2,1,1,177.7,12.7,"02:00:00",713,0,0,0,0,0,0,0,0,0,0,0,0,0,0,0,0,0,0,0,0,30,48,1.6,1.5,0,0]
[null,null,null,null,null,null,null,null,null,null,null,null,null,null,null,null,null,null,null,null,null,null,null,null,null,null,null,null,null,null,null,null,null,null,null,null,null,null,null,null,null,null,null,null,null,null,null,null,null,null,null,null,null,null,null,null,null,null,null,null,null,null,null,null,null,null,null,null,null,null,null,null,null,null,null,null,null,null,null,null,null,null,null,null,null,null,null,null,null,null,null,null,null,null,null,null,null,null,null,null,null,null,null,null,null,null,null,null,null,null,null,null,null,null,null,null,null,null,null,null,null,null,null,null,null,null,null,null,null,null,null,null,null,null,null,null,null,null,null,null,null,null,null,null,null,null,null,null,null,null,"2023-10-20T21:18:04",35,37,35,35,45,44,45,43,26,80,100,2.2000000000000002,53.1,53.1,53.1,57.5,28.7,30.4,29.4,120,120,120,120,120,120,119.9,120,119.9,120,120,120,60,60,60,3.1,4.3,3,4,0.2,0.2,0.2,0.5,0.5,0.5,0.3,0.3,0.3,0.5,0.5,0.5,-0.3,-0.3,-0.3,-0.1,-0.1,-0.1,-0.2,-0.2,-0.2,0,0,0,0.1,0.3,0.2,0.4,0.6,0.4,0.1,0.3,0.1,0.6,0.9,0.7,0,0,0,0.3,0.4,0.3,0.3,0.4,0.3,0.3,0.3,0.3,0.5,0.5,0.5,0,0,0,0,0,0,0,0,0,0,0,0,0,0,0,0,0,0,0,0,0,0,0,0,1,1,1,2,1,1,177.7,12.7,"02:00:00",714,0,0,0,0,0,0,0,0,0,0,0,0,0,0,0,0,0,0,0,0,30,48,1.5,1.4,0,0]
[null,null,null,null,null,null,null,null,null,null,null,null,null,null,null,null,null,null,null,null,null,null,null,null,null,null,null,null,null,null,null,null,null,null,null,null,null,null,null,null,null,null,null,null,null,null,null,null,null,null,null,null,null,null,null,null,null,null,null,null,null,null,null,null,null,null,null,null,null,null,null,null,null,null,null,null,null,null,null,null,null,null,null,null,null,null,null,null,null,null,null,null,null,null,null,null,null,null,null,null,null,null,null,null,null,null,null,null,null,null,null,null,null,null,null,null,null,null,null,null,null,null,null,null,null,null,null,null,null,null,null,null,null,null,null,null,null,null,null,null,null,null,null,null,null,null,null,null,null,null,"2023-10-20T21:33:15",34,36,35,35,45,43,45,43,26,79.3,100,2.2000000000000002,53.1,53.1,53.1,57.5,27.9,29.8,29.2,120,120,120,120,120,120,119.9,120,119.9,120,120,120,60,60,60,3.1,4.2,3,3.9,0.2,0.2,0.2,0.5,0.5,0.5,0.3,0.3,0.3,0.4,0.5,0.4,-0.3,-0.3,-0.3,-0.1,-0.1,-0.1,-0.2,-0.2,-0.2,0,0,0,0.1,0.3,0.2,0.3,0.6,0.4,0.1,0.3,0.1,0.6,0.9,0.6,0,0,0,0.3,0.4,0.3,0.3,0.4,0.3,0.3,0.3,0.3,0.5,0.5,0.5,0,0,0,0,0,0,0,0,0,0,0,0,0,0,0,0,0,0,0,0,0,0,0,0,1,1,1,2,1,1,177.7,12.7,"02:00:00",721,0,0,0,0,0,0,0,0,0,0,0,0,0,0,0,0,0,0,0,0,30,48,1.5,1.4,0,0]
[null,null,null,null,null,null,null,null,null,null,null,null,null,null,null,null,null,null,null,null,null,null,null,null,null,null,null,null,null,null,null,null,null,null,null,null,null,null,null,null,null,null,null,null,null,null,null,null,null,null,null,null,null,null,null,null,null,null,null,null,null,null,null,null,null,null,null,null,null,null,null,null,null,null,null,null,null,null,null,null,null,null,null,null,null,null,null,null,null,null,null,null,null,null,null,null,null,null,null,null,null,null,null,null,null,null,null,null,null,null,null,null,null,null,null,null,null,null,null,null,null,null,null,null,null,null,null,null,null,null,null,null,null,null,null,null,null,null,null,null,null,null,null,null,null,null,null,null,null,null,"2023-10-20T21:48:29",34,36,35,35,45,43,44,43,26,78.599999999999994,100,2.2000000000000002,53.1,53.1,53.1,57.5,29.7,31.7,30.6,120,120,120,120,120,120,120,120,120,119.9,120,119.9,60,60,60,3.1,4.7,3,4.4000000000000004,0.2,0.2,0.2,0.5,0.6,0.5,0.3,0.3,0.3,0.5,0.5,0.5,-0.3,-0.3,-0.3,-0.1,-0.1,-0.1,-0.2,-0.2,-0.2,0,0,0,0.1,0.3,0.2,0.3,0.6,0.4,0.1,0.3,0.1,0.6,0.9,0.7,0,0,0,0.3,0.4,0.3,0.3,0.4,0.3,0.3,0.3,0.3,0.5,0.5,0.5,0,0,0,0,0,0,0,0,0,0,0,0,0,0,0,0,0,0,0,0,0,0,0,0,1,1,1,2,1,1,177.7,12.7,"02:00:00",729,0,0,0,0,0,0,0,0,0,0,0,0,0,0,0,0,0,0,0,0,30,48,1.6,1.5,0,0]
[null,null,null,null,null,null,null,null,null,null,null,null,null,null,null,null,null,null,null,null,null,null,null,null,null,null,null,null,null,null,null,null,null,null,null,null,null,null,null,null,null,null,null,null,null,null,null,null,null,null,null,null,null,null,null,null,null,null,null,null,null,null,null,null,null,null,null,null,null,null,null,null,null,null,null,null,null,null,null,null,null,null,null,null,null,null,null,null,null,null,null,null,null,null,null,null,null,null,null,null,null,null,null,null,null,null,null,null,null,null,null,null,null,null,null,null,null,null,null,null,null,null,null,null,null,null,null,null,null,null,null,null,null,null,null,null,null,null,null,null,null,null,null,null,null,null,null,null,null,null,"2023-10-20T21:53:32",35,36,36,35,45,43,44,43,25.9,78.3,100,2.2000000000000002,52.9,53,53,57.5,49,50.6,49.9,120,120,120,120,120,120,120,120,120,120,120,120,60,60,60,6.1,4.7,7.1,4.4000000000000004,0.7,0.7,0.7,0.5,0.6,0.5,0.8,0.8,0.8,0.5,0.5,0.5,-0.3,-0.3,-0.3,-0.1,-0.1,-0.1,-0.2,-0.2,-0.2,0,0,0,0.1,0.3,0.1,0.4,0.5,0.4,0.1,0.3,0.1,0.6,0.8,0.6,0,0,0,0.3,0.4,0.3,0.3,0.4,0.3,0.3,0.3,0.3,0.5,0.5,0.5,0,0,0,0,0,0,0,0,0,0,0,0,0,0,0,0,0,0,0,0,0,0,0,0,1,1,1,2,1,1,177.7,12.7,"02:00:00",732,0,0,0,0,0,0,0,0,0,0,0,0,0,0,0,0,0,0,0,0,30,48,2.6,2.5,0,0]
[null,null,null,null,null,null,null,null,null,null,null,null,null,null,null,null,null,null,null,null,null,null,null,null,null,null,null,null,null,null,null,null,null,null,null,null,null,null,null,null,null,null,null,null,null,null,null,null,null,null,null,null,null,null,null,null,null,null,null,null,null,null,null,null,null,null,null,null,null,null,null,null,null,null,null,null,null,null,null,null,null,null,null,null,null,null,null,null,null,null,null,null,null,null,null,null,null,null,null,null,null,null,null,null,null,null,null,null,null,null,null,null,null,null,null,null,null,null,null,null,null,null,null,null,null,null,null,null,null,null,null,null,null,null,null,null,null,null,null,null,null,null,null,null,null,null,null,null,null,null,"2023-10-20T22:09:45",34,36,35,35,45,43,44,43,25.8,77.400000000000006,100,2.2000000000000002,53,53.1,53,57.5,30.2,32.1,30.9,120,120,120,120,120,120,119.9,120,120,119.9,120,119.9,60,60,60,2.9,5.0999999999999996,2.6,4.7,0.2,0.2,0.2,0.6,0.6,0.6,0.3,0.3,0.3,0.5,0.6,0.5,-0.3,-0.3,-0.3,-0.1,-0.1,-0.1,-0.2,-0.2,-0.2,0,0,0,0.1,0.3,0.2,0.3,0.5,0.4,0.1,0.3,0.2,0.6,0.8,0.6,0,0,0,0.3,0.4,0.3,0.3,0.4,0.3,0.2,0.3,0.3,0.5,0.5,0.5,0,0,0,0,0,0,0,0,0,0,0,0,0,0,0,0,0,0,0,0,0,0,0,0,1,1,1,2,1,1,177.7,12.7,"02:00:00",742,0,0,0,0,0,0,0,0,0,0,0,0,0,0,0,0,0,0,0,0,30,48,1.6,1.5,0,0]
[null,null,null,null,null,null,null,null,null,null,null,null,null,null,null,null,null,null,null,null,null,null,null,null,null,null,null,null,null,null,null,null,null,null,null,null,null,null,null,null,null,null,null,null,null,null,null,null,null,null,null,null,null,null,null,null,null,null,null,null,null,null,null,null,null,null,null,null,null,null,null,null,null,null,null,null,null,null,null,null,null,null,null,null,null,null,null,null,null,null,null,null,null,null,null,null,null,null,null,null,null,null,null,null,null,null,null,null,null,null,null,null,null,null,null,null,null,null,null,null,null,null,null,null,null,null,null,null,null,null,null,null,null,null,null,null,null,null,null,null,null,null,null,null,null,null,null,null,null,null,"2023-10-20T22:10:46",35,37,35,35,45,43,44,43,25.7,77.3,100,2.2000000000000002,53,53.1,53,57.5,29.9,49.2,36.700000000000003,120,120,120,120,120,120,119.9,120,119.9,119.9,120,119.9,59.9,60.1,60,5.8,4.9000000000000004,6.5,4.5999999999999996,0.2,0.6,0.3,0.6,0.6,0.6,0.2,0.8,0.4,0.5,0.5,0.5,-0.3,-0.3,-0.3,-0.1,0,0,-0.2,-0.2,-0.2,0,0,0,0.1,0.3,0.1,0.3,0.5,0.4,0.1,0.4,0.2,0.6,0.9,0.6,0,0,0,0.3,0.4,0.3,0.3,0.3,0.3,0.2,0.3,0.3,0.5,0.5,0.5,0,0,0,0,0,0,0,0,0,0,0,0,0,0,0,0,0,0,0,0,0,0,0,0,1,1,1,2,1,1,177.7,12.7,"02:00:00",742,0,0,0,0,0,0,0,0,0,0,0,0,0,0,0,0,0,0,0,0,30,48,2.5,1.8,0,0]
[null,null,null,null,null,null,null,null,null,null,null,null,null,null,null,null,null,null,null,null,null,null,null,null,null,null,null,null,null,null,null,null,null,null,null,null,null,null,null,null,null,null,null,null,null,null,null,null,null,null,null,null,null,null,null,null,null,null,null,null,null,null,null,null,null,null,null,null,null,null,null,null,null,null,null,null,null,null,null,null,null,null,null,null,null,null,null,null,null,null,null,null,null,null,null,null,null,null,null,null,null,null,null,null,null,null,null,null,null,null,null,null,null,null,null,null,null,null,null,null,null,null,null,null,null,null,null,null,null,null,null,null,null,null,null,null,null,null,null,null,null,null,null,null,null,null,null,null,null,null,"2023-10-20T22:21:56",34,36,35,35,45,43,44,43,25.6,76.7,100,2.2000000000000002,53,53.1,53,57.5,29,32.299999999999997,30.4,120,120,120,120,120,120,119.9,120,119.9,120,120,120,60,60,60,2.9,5,2.8,4.5999999999999996,0.2,0.2,0.2,0.5,0.6,0.5,0.3,0.3,0.3,0.5,0.6,0.5,-0.3,-0.3,-0.3,-0.1,-0.1,-0.1,-0.2,-0.2,-0.2,0,0,0,0.1,0.3,0.2,0.3,0.5,0.4,0.1,0.3,0.2,0.6,0.9,0.6,0,0,0,0.3,0.4,0.3,0.3,0.3,0.3,0.2,0.3,0.3,0.5,0.5,0.5,0,0,0,0,0,0,0,0,0,0,0,0,0,0,0,0,0,0,0,0,0,0,0,0,1,1,1,2,1,1,177.7,12.7,"02:00:00",748,0,0,0,0,0,0,0,0,0,0,0,0,0,0,0,0,0,0,0,0,30,48,1.6,1.5,0,0]
[null,null,null,null,null,null,null,null,null,null,null,null,null,null,null,null,null,null,null,null,null,null,null,null,null,null,null,null,null,null,null,null,null,null,null,null,null,null,null,null,null,null,null,null,null,null,null,null,null,null,null,null,null,null,null,null,null,null,null,null,null,null,null,null,null,null,null,null,null,null,null,null,null,null,null,null,null,null,null,null,null,null,null,null,null,null,null,null,null,null,null,null,null,null,null,null,null,null,null,null,null,null,null,null,null,null,null,null,null,null,null,null,null,null,null,null,null,null,null,null,null,null,null,null,null,null,null,null,null,null,null,null,null,null,null,null,null,null,null,null,null,null,null,null,null,null,null,null,null,null,"2023-10-20T22:37:09",34,36,35,35,45,43,44,43,25.5,76.099999999999994,100,2.2999999999999998,53,53.1,53.1,57.6,28.4,30.3,29.1,120,120,120,120,120,120,119.9,120,119.9,120,120,120,60,60,60,2.5,4,3,3.7,0.2,0.3,0.3,0.4,0.5,0.4,0.3,0.4,0.3,0.4,0.4,0.4,-0.2,-0.1,-0.1,-0.1,-0.1,-0.1,-0.1,-0.1,-0.1,0,0,0,0.1,0.3,0.2,0.3,0.5,0.4,0.1,0.4,0.2,0.5,0.8,0.6,0,0,0,0.3,0.4,0.3,0.3,0.4,0.3,0.2,0.3,0.3,0.5,0.5,0.5,0,0,0,0,0,0,0,0,0,0,0,0,0,0,0,0,0,0,0,0,0,0,0,0,1,1,1,2,1,1,177.7,12.7,"02:00:00",756,0,0,0,0,0,0,0,0,0,0,0,0,0,0,0,0,0,0,0,0,30,48,1.5,1.4,0,0]
[null,null,null,null,null,null,null,null,null,null,null,null,null,null,null,null,null,null,null,null,null,null,null,null,null,null,null,null,null,null,null,null,null,null,null,null,null,null,null,null,null,null,null,null,null,null,null,null,null,null,null,null,null,null,null,null,null,null,null,null,null,null,null,null,null,null,null,null,null,null,null,null,null,null,null,null,null,null,null,null,null,null,null,null,null,null,null,null,null,null,null,null,null,null,null,null,null,null,null,null,null,null,null,null,null,null,null,null,null,null,null,null,null,null,null,null,null,null,null,null,null,null,null,null,null,null,null,null,null,null,null,null,null,null,null,null,null,null,null,null,null,null,null,null,null,null,null,null,null,null,"2023-10-20T22:46:18",34,36,35,35,45,43,44,43,25.4,75.599999999999994,100,2.2999999999999998,53,53.1,53,57.6,28.9,31,30,120,120,120,120,120,120,119.9,119.9,119.9,120,120,120,60,60,60,2.5,4.3,3,4,0.2,0.3,0.2,0.4,0.5,0.5,0.3,0.4,0.3,0.4,0.5,0.4,-0.2,-0.1,-0.1,-0.1,-0.1,-0.1,-0.1,-0.1,-0.1,0,0,0,0.1,0.4,0.2,0.3,0.5,0.4,0.1,0.3,0.2,0.6,0.9,0.7,0,0,0,0.3,0.4,0.3,0.3,0.4,0.3,0.3,0.3,0.3,0.5,0.6,0.5,0,0,0,0,0,0,0,0,0,0,0,0,0,0,0,0,0,0,0,0,0,0,0,0,1,1,1,2,1,1,177.6,12.6,"02:00:00",760,0,0,0,0,0,0,0,0,0,0,0,0,0,0,0,0,0,0,0,0,30,48,1.6,1.5,0,0]
[null,null,null,null,null,null,null,null,null,null,null,null,null,null,null,null,null,null,null,null,null,null,null,null,null,null,null,null,null,null,null,null,null,null,null,null,null,null,null,null,null,null,null,null,null,null,null,null,null,null,null,null,null,null,null,null,null,null,null,null,null,null,null,null,null,null,null,null,null,null,null,null,null,null,null,null,null,null,null,null,null,null,null,null,null,null,null,null,null,null,null,null,null,null,null,null,null,null,null,null,null,null,null,null,null,null,null,null,null,null,null,null,null,null,null,null,null,null,null,null,null,null,null,null,null,null,null,null,null,null,null,null,null,null,null,null,null,null,null,null,null,null,null,null,null,null,null,null,null,null,"2023-10-20T22:54:25",34,36,35,35,45,43,44,43,25.2,75.2,100,2.2999999999999998,53,53.1,53,57.6,26.2,27.6,27,120,120,120,120,120,120,119.9,120,119.9,119.9,120,119.9,60,60,60,2.8,4.3,2.7,4,0.2,0.2,0.2,0.5,0.5,0.5,0.2,0.3,0.2,0.4,0.5,0.4,-0.3,-0.3,-0.3,-0.1,-0.1,-0.1,-0.2,-0.2,-0.2,0,0,0,0.1,0.4,0.2,0.4,0.6,0.4,0.1,0.5,0.2,0.6,0.9,0.7,0,0,0,0.3,0.4,0.3,0.3,0.4,0.3,0.2,0.3,0.2,0.5,0.6,0.5,0,0,0,0,0,0,0,0,0,0,0,0,0,0,0,0,0,0,0,0,0,0,0,0,1,1,1,2,1,1,177.6,12.6,"02:00:00",764,0,0,0,0,0,0,0,0,0,0,0,0,0,0,0,0,0,0,0,0,30,48,1.4,1.3,0,0]
[null,null,null,null,null,null,null,null,null,null,null,null,null,null,null,null,null,null,null,null,null,null,null,null,null,null,null,null,null,null,null,null,null,null,null,null,null,null,null,null,null,null,null,null,null,null,null,null,null,null,null,null,null,null,null,null,null,null,null,null,null,null,null,null,null,null,null,null,null,null,null,null,null,null,null,null,null,null,null,null,null,null,null,null,null,null,null,null,null,null,null,null,null,null,null,null,null,null,null,null,null,null,null,null,null,null,null,null,null,null,null,null,null,null,null,null,null,null,null,null,null,null,null,null,null,null,null,null,null,null,null,null,null,null,null,null,null,null,null,null,null,null,null,null,null,null,null,null,null,null,"2023-10-20T23:09:40",34,36,35,35,44,43,44,42,25.1,74.5,100,2.2999999999999998,53,53,53,57.6,29.2,30.5,29.9,120,120,120,120,120,120,120,120,120,120,120,120,60,60,60,2.9,4.7,2.7,4.4000000000000004,0.2,0.2,0.2,0.5,0.6,0.5,0.2,0.3,0.2,0.5,0.5,0.5,-0.3,-0.3,-0.3,-0.1,0,0,-0.2,-0.2,-0.2,0,0,0,0.1,0.3,0.2,0.3,0.6,0.4,0.1,0.4,0.1,0.6,0.9,0.7,0,0,0,0.3,0.4,0.3,0.3,0.4,0.3,0.3,0.3,0.3,0.5,0.5,0.5,0,0,0,0,0,0,0,0,0,0,0,0,0,0,0,0,0,0,0,0,0,0,0,0,1,1,1,2,1,1,177.6,12.6,"02:00:00",771,0,0,0,0,0,0,0,0,0,0,0,0,0,0,0,0,0,0,0,0,30,48,1.5,1.5,0,0]
[null,null,null,null,null,null,null,null,null,null,null,null,null,null,null,null,null,null,null,null,null,null,null,null,null,null,null,null,null,null,null,null,null,null,null,null,null,null,null,null,null,null,null,null,null,null,null,null,null,null,null,null,null,null,null,null,null,null,null,null,null,null,null,null,null,null,null,null,null,null,null,null,null,null,null,null,null,null,null,null,null,null,null,null,null,null,null,null,null,null,null,null,null,null,null,null,null,null,null,null,null,null,null,null,null,null,null,null,null,null,null,null,null,null,null,null,null,null,null,null,null,null,null,null,null,null,null,null,null,null,null,null,null,null,null,null,null,null,null,null,null,null,null,null,null,null,null,null,null,null,"2023-10-20T23:14:45",34,36,35,35,44,43,44,42,25,74.3,100,2.2999999999999998,53,53,53,57.6,31.4,32.9,32.200000000000003,120,120,120,120,120,120,119.9,120,119.9,120,120,120,60,60,60,2.9,5.0999999999999996,2.8,4.7,0.2,0.2,0.2,0.6,0.6,0.6,0.3,0.3,0.3,0.5,0.6,0.5,-0.3,-0.3,-0.3,-0.1,0,0,-0.2,-0.2,-0.2,0,0,0,0.1,0.3,0.2,0.3,0.5,0.4,0.1,0.3,0.2,0.5,0.7,0.6,0,0,0,0.3,0.4,0.3,0.3,0.4,0.3,0.2,0.3,0.3,0.5,0.5,0.5,0,0,0,0,0,0,0,0,0,0,0,0,0,0,0,0,0,0,0,0,0,0,0,0,1,1,1,2,1,1,177.6,12.6,"02:00:00",774,0,0,0,0,0,0,0,0,0,0,0,0,0,0,0,0,0,0,0,0,30,48,1.7,1.6,0,0]
[null,null,null,null,null,null,null,null,null,null,null,null,null,null,null,null,null,null,null,null,null,null,null,null,null,null,null,null,null,null,null,null,null,null,null,null,null,null,null,null,null,null,null,null,null,null,null,null,null,null,null,null,null,null,null,null,null,null,null,null,null,null,null,null,null,null,null,null,null,null,null,null,null,null,null,null,null,null,null,null,null,null,null,null,null,null,null,null,null,null,null,null,null,null,null,null,null,null,null,null,null,null,null,null,null,null,null,null,null,null,null,null,null,null,null,null,null,null,null,null,null,null,null,null,null,null,null,null,null,null,null,null,null,null,null,null,null,null,null,null,null,null,null,null,null,null,null,null,null,null,"2023-10-20T23:26:56",34,36,35,35,44,43,44,42,25,73.7,100,2.2999999999999998,52.9,53,52.9,57.6,31.1,33.299999999999997,31.9,120,120,120,120,120,120,119.9,120,119.9,119.9,120,119.9,60,60,60,2.9,5.3,2.8,4.9000000000000004,0.2,0.2,0.2,0.6,0.6,0.6,0.3,0.3,0.3,0.5,0.6,0.5,-0.3,-0.3,-0.3,-0.1,0,0,-0.2,-0.2,-0.2,0,0,0,0.1,0.3,0.2,0.3,0.5,0.4,0.1,0.3,0.2,0.5,0.7,0.6,0,0,0,0.3,0.4,0.3,0.3,0.4,0.3,0.2,0.3,0.3,0.5,0.5,0.5,0,0,0,0,0,0,0,0,0,0,0,0,0,0,0,0,0,0,0,0,0,0,0,0,1,1,1,2,1,1,177.6,12.6,"02:00:00",780,0,0,0,0,0,0,0,0,0,0,0,0,0,0,0,0,0,0,0,0,30,48,1.7,1.6,0,0]
[null,null,null,null,null,null,null,null,null,null,null,null,null,null,null,null,null,null,null,null,null,null,null,null,null,null,null,null,null,null,null,null,null,null,null,null,null,null,null,null,null,null,null,null,null,null,null,null,null,null,null,null,null,null,null,null,null,null,null,null,null,null,null,null,null,null,null,null,null,null,null,null,null,null,null,null,null,null,null,null,null,null,null,null,null,null,null,null,null,null,null,null,null,null,null,null,null,null,null,null,null,null,null,null,null,null,null,null,null,null,null,null,null,null,null,null,null,null,null,null,null,null,null,null,null,null,null,null,null,null,null,null,null,null,null,null,null,null,null,null,null,null,null,null,null,null,null,null,null,null,"2023-10-20T23:34:01",34,36,35,35,44,43,44,42,25,73.400000000000006,100,2.2999999999999998,52.9,53,52.9,57.6,30.5,32.4,31.6,120,120,120,120,120,120,119.9,120,119.9,119.9,120,119.9,60,60,60,2.9,5.3,2.7,4.9000000000000004,0.2,0.2,0.2,0.6,0.6,0.6,0.2,0.3,0.2,0.6,0.6,0.6,-0.3,-0.3,-0.3,-0.1,-0.1,-0.1,-0.2,-0.2,-0.2,0,0,0,0.1,0.3,0.2,0.3,0.6,0.4,0.1,0.3,0.1,0.6,0.9,0.6,0,0,0,0.3,0.4,0.3,0.3,0.4,0.3,0.3,0.3,0.3,0.5,0.5,0.5,0,0,0,0,0,0,0,0,0,0,0,0,0,0,0,0,0,0,0,0,0,0,0,0,1,1,1,2,1,1,177.6,12.6,"02:00:00",784,0,0,0,0,0,0,0,0,0,0,0,0,0,0,0,0,0,0,0,0,30,48,1.6,1.6,0,0]
[null,null,null,null,null,null,null,null,null,null,null,null,null,null,null,null,null,null,null,null,null,null,null,null,null,null,null,null,null,null,null,null,null,null,null,null,null,null,null,null,null,null,null,null,null,null,null,null,null,null,null,null,null,null,null,null,null,null,null,null,null,null,null,null,null,null,null,null,null,null,null,null,null,null,null,null,null,null,null,null,null,null,null,null,null,null,null,null,null,null,null,null,null,null,null,null,null,null,null,null,null,null,null,null,null,null,null,null,null,null,null,null,null,null,null,null,null,null,null,null,null,null,null,null,null,null,null,null,null,null,null,null,null,null,null,null,null,null,null,null,null,null,null,null,null,null,null,null,null,null,"2023-10-20T23:35:03",34,36,35,35,44,43,44,43,25,73.3,100,2.2999999999999998,52.9,53,52.9,57.6,28.1,32.4,31,120,120,120,120,120,120,119.9,120,119.9,119.9,120,119.9,60,60,60,2.9,5.0999999999999996,2.8,4.7,0.2,0.2,0.2,0.5,0.6,0.5,0.3,0.3,0.3,0.4,0.6,0.5,-0.3,-0.3,-0.3,-0.1,-0.1,-0.1,-0.2,-0.2,-0.2,0,0,0,0.1,0.3,0.2,0.3,0.5,0.4,0.1,0.3,0.2,0.5,0.8,0.6,0,0,0,0.3,0.4,0.3,0.3,0.4,0.3,0.3,0.3,0.3,0.5,0.5,0.5,0,0,0,0,0,0,0,0,0,0,0,0,0,0,0,0,0,0,0,0,0,0,0,0,1,1,1,2,1,1,177.6,12.6,"02:00:00",784,0,0,0,0,0,0,0,0,0,0,0,0,0,0,0,0,0,0,0,0,30,48,1.6,1.5,0,0]
[null,null,null,null,null,null,null,null,null,null,null,null,null,null,null,null,null,null,null,null,null,null,null,null,null,null,null,null,null,null,null,null,null,null,null,null,null,null,null,null,null,null,null,null,null,null,null,null,null,null,null,null,null,null,null,null,null,null,null,null,null,null,null,null,null,null,null,null,null,null,null,null,null,null,null,null,null,null,null,null,null,null,null,null,null,null,null,null,null,null,null,null,null,null,null,null,null,null,null,null,null,null,null,null,null,null,null,null,null,null,null,null,null,null,null,null,null,null,null,null,null,null,null,null,null,null,null,null,null,null,null,null,null,null,null,null,null,null,null,null,null,null,null,null,null,null,null,null,null,null,"2023-10-20T23:36:04",34,36,35,35,44,43,44,42,25,73.3,100,2.2999999999999998,52.9,53,52.9,57.6,27.7,31.1,29.1,120,120,120,120,120,120,119.9,120,119.9,120,120,120,60,60,60,2.9,4.9000000000000004,2.8,4.5,0.2,0.2,0.2,0.5,0.6,0.5,0.3,0.3,0.3,0.4,0.5,0.4,-0.3,-0.3,-0.3,-0.1,-0.1,-0.1,-0.2,-0.2,-0.2,0,0,0,0.1,0.4,0.2,0.4,0.6,0.4,0,0.3,0.1,0.4,0.8,0.6,0,0,0,0.3,0.4,0.3,0.3,0.4,0.3,0.3,0.3,0.3,0.5,0.5,0.5,0,0,0,0,0,0,0,0,0,0,0,0,0,0,0,0,0,0,0,0,0,0,0,0,1,1,1,2,1,1,177.6,12.6,"02:00:00",785,0,0,0,0,0,0,0,0,0,0,0,0,0,0,0,0,0,0,0,0,30,48,1.6,1.4,0,0]
[null,null,null,null,null,null,null,null,null,null,null,null,null,null,null,null,null,null,null,null,null,null,null,null,null,null,null,null,null,null,null,null,null,null,null,null,null,null,null,null,null,null,null,null,null,null,null,null,null,null,null,null,null,null,null,null,null,null,null,null,null,null,null,null,null,null,null,null,null,null,null,null,null,null,null,null,null,null,null,null,null,null,null,null,null,null,null,null,null,null,null,null,null,null,null,null,null,null,null,null,null,null,null,null,null,null,null,null,null,null,null,null,null,null,null,null,null,null,null,null,null,null,null,null,null,null,null,null,null,null,null,null,null,null,null,null,null,null,null,null,null,null,null,null,null,null,null,null,null,null,"2023-10-20T23:37:05",34,36,35,35,44,43,44,42,25,73.2,100,2.2999999999999998,52.9,53,52.9,57.6,28.8,30.8,29.5,120,120,120,120,120,120,119.9,120,119.9,120,120,120,60,60,60,2.8,4.8,2.6,4.5,0.2,0.2,0.2,0.5,0.6,0.5,0.3,0.3,0.3,0.5,0.5,0.5,-0.3,-0.3,-0.3,-0.1,-0.1,-0.1,-0.2,-0.2,-0.2,0,0,0,0.1,0.3,0.2,0.3,0.6,0.4,0.1,0.3,0.1,0.6,0.9,0.6,0,0,0,0.3,0.4,0.3,0.3,0.4,0.3,0.3,0.3,0.3,0.5,0.5,0.5,0,0,0,0,0,0,0,0,0,0,0,0,0,0,0,0,0,0,0,0,0,0,0,0,1,1,1,2,1,1,177.6,12.6,"02:00:00",785,0,0,0,0,0,0,0,0,0,0,0,0,0,0,0,0,0,0,0,0,30,48,1.6,1.4,0,0]
[null,null,null,null,null,null,null,null,null,null,null,null,null,null,null,null,null,null,null,null,null,null,null,null,null,null,null,null,null,null,null,null,null,null,null,null,null,null,null,null,null,null,null,null,null,null,null,null,null,null,null,null,null,null,null,null,null,null,null,null,null,null,null,null,null,null,null,null,null,null,null,null,null,null,null,null,null,null,null,null,null,null,null,null,null,null,null,null,null,null,null,null,null,null,null,null,null,null,null,null,null,null,null,null,null,null,null,null,null,null,null,null,null,null,null,null,null,null,null,null,null,null,null,null,null,null,null,null,null,null,null,null,null,null,null,null,null,null,null,null,null,null,null,null,null,null,null,null,null,null,"2023-10-20T23:38:06",34,36,35,35,44,43,44,43,25,73.2,100,2.2999999999999998,52.9,53,52.9,57.6,27.4,29.2,28.5,120,120,120,120,120,120,119.9,120,119.9,120,120,120,60,60,60,2.9,4.4000000000000004,2.7,4,0.2,0.2,0.2,0.5,0.5,0.5,0.2,0.3,0.2,0.5,0.5,0.5,-0.3,-0.3,-0.3,-0.1,-0.1,-0.1,-0.2,-0.2,-0.2,0,0,0,0.1,0.3,0.2,0.3,0.6,0.4,0.1,0.3,0.2,0.6,0.7,0.6,0,0,0,0.3,0.4,0.3,0.3,0.4,0.3,0.3,0.3,0.3,0.5,0.5,0.5,0,0,0,0,0,0,0,0,0,0,0,0,0,0,0,0,0,0,0,0,0,0,0,0,1,1,1,2,1,1,177.6,12.6,"02:00:00",786,0,0,0,0,0,0,0,0,0,0,0,0,0,0,0,0,0,0,0,0,30,48,1.5,1.4,0,0]
[null,null,null,null,null,null,null,null,null,null,null,null,null,null,null,null,null,null,null,null,null,null,null,null,null,null,null,null,null,null,null,null,null,null,null,null,null,null,null,null,null,null,null,null,null,null,null,null,null,null,null,null,null,null,null,null,null,null,null,null,null,null,null,null,null,null,null,null,null,null,null,null,null,null,null,null,null,null,null,null,null,null,null,null,null,null,null,null,null,null,null,null,null,null,null,null,null,null,null,null,null,null,null,null,null,null,null,null,null,null,null,null,null,null,null,null,null,null,null,null,null,null,null,null,null,null,null,null,null,null,null,null,null,null,null,null,null,null,null,null,null,null,null,null,null,null,null,null,null,null,"2023-10-20T23:39:07",34,36,35,35,44,43,44,42,25,73.099999999999994,100,2.2999999999999998,52.9,53,52.9,57.6,29,30.5,29.7,120,120,120,120,120,120,119.9,120,119.9,120,120,120,60,60,60,2.9,4.7,2.7,4.3,0.2,0.2,0.2,0.5,0.6,0.5,0.3,0.3,0.3,0.5,0.5,0.5,-0.3,-0.3,-0.3,-0.1,-0.1,-0.1,-0.2,-0.2,-0.2,0,0,0,0.1,0.3,0.2,0.4,0.6,0.4,0.1,0.3,0.1,0.5,0.8,0.6,0,0,0,0.3,0.4,0.3,0.3,0.4,0.3,0.3,0.3,0.3,0.5,0.5,0.5,0,0,0,0,0,0,0,0,0,0,0,0,0,0,0,0,0,0,0,0,0,0,0,0,1,1,1,2,1,1,177.6,12.6,"02:00:00",786,0,0,0,0,0,0,0,0,0,0,0,0,0,0,0,0,0,0,0,0,30,48,1.5,1.5,0,0]
[null,null,null,null,null,null,null,null,null,null,null,null,null,null,null,null,null,null,null,null,null,null,null,null,null,null,null,null,null,null,null,null,null,null,null,null,null,null,null,null,null,null,null,null,null,null,null,null,null,null,null,null,null,null,null,null,null,null,null,null,null,null,null,null,null,null,null,null,null,null,null,null,null,null,null,null,null,null,null,null,null,null,null,null,null,null,null,null,null,null,null,null,null,null,null,null,null,null,null,null,null,null,null,null,null,null,null,null,null,null,null,null,null,null,null,null,null,null,null,null,null,null,null,null,null,null,null,null,null,null,null,null,null,null,null,null,null,null,null,null,null,null,null,null,null,null,null,null,null,null,"2023-10-20T23:40:07",34,36,35,35,44,43,44,42,25,73.099999999999994,100,2.2999999999999998,52.9,53,52.9,57.6,28.7,30.5,29.6,120,120,120,120,120,120,119.9,120,119.9,119.9,120,119.9,60,60,60,2.9,4.7,2.7,4.4000000000000004,0.2,0.2,0.2,0.5,0.6,0.5,0.3,0.3,0.3,0.5,0.5,0.5,-0.3,-0.3,-0.3,-0.1,-0.1,-0.1,-0.2,-0.2,-0.2,0,0,0,0.1,0.3,0.2,0.4,0.6,0.4,0.1,0.3,0.1,0.6,0.9,0.6,0,0,0,0.3,0.4,0.3,0.3,0.4,0.3,0.3,0.3,0.3,0.5,0.5,0.5,0,0,0,0,0,0,0,0,0,0,0,0,0,0,0,0,0,0,0,0,0,0,0,0,1,1,1,2,1,1,177.6,12.6,"02:00:00",787,0,0,0,0,0,0,0,0,0,0,0,0,0,0,0,0,0,0,0,0,30,48,1.5,1.4,0,0]
[null,null,null,null,null,null,null,null,null,null,null,null,null,null,null,null,null,null,null,null,null,null,null,null,null,null,null,null,null,null,null,null,null,null,null,null,null,null,null,null,null,null,null,null,null,null,null,null,null,null,null,null,null,null,null,null,null,null,null,null,null,null,null,null,null,null,null,null,null,null,null,null,null,null,null,null,null,null,null,null,null,null,null,null,null,null,null,null,null,null,null,null,null,null,null,null,null,null,null,null,null,null,null,null,null,null,null,null,null,null,null,null,null,null,null,null,null,null,null,null,null,null,null,null,null,null,null,null,null,null,null,null,null,null,null,null,null,null,null,null,null,null,null,null,null,null,null,null,null,null,"2023-10-20T23:41:08",34,36,35,35,44,43,44,42,25,73,100,2.2999999999999998,52.9,53,52.9,57.6,27.3,29.6,28.1,120,120,120,120,120,120,119.9,120,119.9,119.9,120,119.9,60,60,60,2.8,4.5,2.7,4.2,0.2,0.2,0.2,0.5,0.5,0.5,0.3,0.3,0.3,0.4,0.5,0.4,-0.3,-0.3,-0.3,-0.1,-0.1,-0.1,-0.2,-0.2,-0.2,0,0,0,0.1,0.3,0.2,0.4,0.6,0.4,0.1,0.3,0.1,0.6,0.8,0.6,0,0,0,0.3,0.4,0.3,0.3,0.4,0.3,0.3,0.3,0.3,0.5,0.5,0.5,0,0,0,0,0,0,0,0,0,0,0,0,0,0,0,0,0,0,0,0,0,0,0,0,1,1,1,2,1,1,177.6,12.6,"02:00:00",787,0,0,0,0,0,0,0,0,0,0,0,0,0,0,0,0,0,0,0,0,30,48,1.5,1.4,0,0]
[null,null,null,null,null,null,null,null,null,null,null,null,null,null,null,null,null,null,null,null,null,null,null,null,null,null,null,null,null,null,null,null,null,null,null,null,null,null,null,null,null,null,null,null,null,null,null,null,null,null,null,null,null,null,null,null,null,null,null,null,null,null,null,null,null,null,null,null,null,null,null,null,null,null,null,null,null,null,null,null,null,null,null,null,null,null,null,null,null,null,null,null,null,null,null,null,null,null,null,null,null,null,null,null,null,null,null,null,null,null,null,null,null,null,null,null,null,null,null,null,null,null,null,null,null,null,null,null,null,null,null,null,null,null,null,null,null,null,null,null,null,null,null,null,null,null,null,null,null,null,"2023-10-20T23:42:08",34,36,35,35,44,43,44,42,24.9,73,100,2.2999999999999998,52.9,53,52.9,57.6,28.4,29.6,29,120,120,120,120,120,120,119.9,120,119.9,119.9,120,119.9,60,60,60,2.9,4.5,2.8,4.2,0.2,0.2,0.2,0.5,0.5,0.5,0.3,0.3,0.3,0.5,0.5,0.5,-0.3,-0.3,-0.3,-0.1,-0.1,-0.1,-0.2,-0.2,-0.2,0,0,0,0.1,0.3,0.2,0.4,0.5,0.4,0.1,0.3,0.1,0.6,0.9,0.7,0,0,0,0.3,0.3,0.3,0.3,0.4,0.3,0.3,0.3,0.3,0.5,0.5,0.5,0,0,0,0,0,0,0,0,0,0,0,0,0,0,0,0,0,0,0,0,0,0,0,0,1,1,1,2,1,1,177.6,12.6,"02:00:00",788,0,0,0,0,0,0,0,0,0,0,0,0,0,0,0,0,0,0,0,0,30,48,1.5,1.4,0,0]
[null,null,null,null,null,null,null,null,null,null,null,null,null,null,null,null,null,null,null,null,null,null,null,null,null,null,null,null,null,null,null,null,null,null,null,null,null,null,null,null,null,null,null,null,null,null,null,null,null,null,null,null,null,null,null,null,null,null,null,null,null,null,null,null,null,null,null,null,null,null,null,null,null,null,null,null,null,null,null,null,null,null,null,null,null,null,null,null,null,null,null,null,null,null,null,null,null,null,null,null,null,null,null,null,null,null,null,null,null,null,null,null,null,null,null,null,null,null,null,null,null,null,null,null,null,null,null,null,null,null,null,null,null,null,null,null,null,null,null,null,null,null,null,null,null,null,null,null,null,null,"2023-10-20T23:43:09",34,36,35,35,44,43,44,42,24.9,72.900000000000006,100,2.2999999999999998,52.9,53,52.9,57.6,27.8,28.9,28.5,120,120,120,120,120,120,119.9,120,119.9,120,120,120,60,60,60,2.8,4.4000000000000004,2.7,4.0999999999999996,0.2,0.2,0.2,0.5,0.5,0.5,0.2,0.3,0.2,0.5,0.5,0.5,-0.3,-0.3,-0.3,-0.1,-0.1,-0.1,-0.2,-0.2,-0.2,0,0,0,0.1,0.4,0.2,0.3,0.5,0.4,0.1,0.3,0.1,0.6,0.8,0.6,0,0,0,0.3,0.4,0.3,0.3,0.4,0.3,0.3,0.3,0.3,0.5,0.5,0.5,0,0,0,0,0,0,0,0,0,0,0,0,0,0,0,0,0,0,0,0,0,0,0,0,1,1,1,2,1,1,177.6,12.6,"02:00:00",788,0,0,0,0,0,0,0,0,0,0,0,0,0,0,0,0,0,0,0,0,30,48,1.5,1.4,0,0]
[null,null,null,null,null,null,null,null,null,null,null,null,null,null,null,null,null,null,null,null,null,null,null,null,null,null,null,null,null,null,null,null,null,null,null,null,null,null,null,null,null,null,null,null,null,null,null,null,null,null,null,null,null,null,null,null,null,null,null,null,null,null,null,null,null,null,null,null,null,null,null,null,null,null,null,null,null,null,null,null,null,null,null,null,null,null,null,null,null,null,null,null,null,null,null,null,null,null,null,null,null,null,null,null,null,null,null,null,null,null,null,null,null,null,null,null,null,null,null,null,null,null,null,null,null,null,null,null,null,null,null,null,null,null,null,null,null,null,null,null,null,null,null,null,null,null,null,null,null,null,"2023-10-20T23:44:09",34,36,35,35,44,43,44,42,24.9,72.900000000000006,100,2.2999999999999998,52.9,53,52.9,57.6,26.9,30.2,28.3,120,120,120,120,120,120,119.9,120,119.9,120,120,120,60,60,60,2.8,4.5999999999999996,2.7,4.3,0.2,0.2,0.2,0.5,0.5,0.5,0.2,0.3,0.2,0.4,0.5,0.4,-0.3,-0.3,-0.3,-0.1,-0.1,-0.1,-0.2,-0.2,-0.2,0,0,0,0.1,0.3,0.2,0.3,0.6,0.4,0,0.3,0.1,0.5,0.9,0.6,0,0,0,0.3,0.4,0.3,0.3,0.4,0.3,0.3,0.3,0.3,0.5,0.5,0.5,0,0,0,0,0,0,0,0,0,0,0,0,0,0,0,0,0,0,0,0,0,0,0,0,1,1,1,2,1,1,177.6,12.6,"02:00:00",789,0,0,0,0,0,0,0,0,0,0,0,0,0,0,0,0,0,0,0,0,30,48,1.5,1.4,0,0]
[null,null,null,null,null,null,null,null,null,null,null,null,null,null,null,null,null,null,null,null,null,null,null,null,null,null,null,null,null,null,null,null,null,null,null,null,null,null,null,null,null,null,null,null,null,null,null,null,null,null,null,null,null,null,null,null,null,null,null,null,null,null,null,null,null,null,null,null,null,null,null,null,null,null,null,null,null,null,null,null,null,null,null,null,null,null,null,null,null,null,null,null,null,null,null,null,null,null,null,null,null,null,null,null,null,null,null,null,null,null,null,null,null,null,null,null,null,null,null,null,null,null,null,null,null,null,null,null,null,null,null,null,null,null,null,null,null,null,null,null,null,null,null,null,null,null,null,null,null,null,"2023-10-20T23:45:11",34,36,35,35,44,43,44,42,24.9,72.8,100,2.2999999999999998,52.9,53,52.9,57.6,25.9,29,26.9,120,120,120,120,120,120,119.9,120,119.9,120,120,120,60,60,60,2.8,4.5,2.6,4.0999999999999996,0.2,0.2,0.2,0.5,0.5,0.5,0.2,0.3,0.2,0.4,0.5,0.4,-0.3,-0.3,-0.3,-0.1,-0.1,-0.1,-0.2,-0.2,-0.2,0,0,0,0.1,0.3,0.2,0.3,0.5,0.4,0.1,0.3,0.1,0.6,0.8,0.6,0,0,0,0.3,0.4,0.3,0.3,0.4,0.3,0.3,0.3,0.3,0.5,0.5,0.5,0,0,0,0,0,0,0,0,0,0,0,0,0,0,0,0,0,0,0,0,0,0,0,0,1,1,1,2,1,1,177.6,12.6,"02:00:00",789,0,0,0,0,0,0,0,0,0,0,0,0,0,0,0,0,0,0,0,0,30,48,1.5,1.3,0,0]
[null,null,null,null,null,null,null,null,null,null,null,null,null,null,null,null,null,null,null,null,null,null,null,null,null,null,null,null,null,null,null,null,null,null,null,null,null,null,null,null,null,null,null,null,null,null,null,null,null,null,null,null,null,null,null,null,null,null,null,null,null,null,null,null,null,null,null,null,null,null,null,null,null,null,null,null,null,null,null,null,null,null,null,null,null,null,null,null,null,null,null,null,null,null,null,null,null,null,null,null,null,null,null,null,null,null,null,null,null,null,null,null,null,null,null,null,null,null,null,null,null,null,null,null,null,null,null,null,null,null,null,null,null,null,null,null,null,null,null,null,null,null,null,null,null,null,null,null,null,null,"2023-10-20T23:46:12",34,36,35,35,44,43,44,42,24.9,72.8,100,2.2999999999999998,52.9,53,52.9,57.6,28.1,29.3,28.3,120,120,120,120,120,120,119.9,120,119.9,120,120,120,60,60,60,2.9,4.5,2.8,4.2,0.2,0.2,0.2,0.5,0.5,0.5,0.3,0.3,0.3,0.4,0.5,0.4,-0.3,-0.3,-0.3,-0.1,-0.1,-0.1,-0.2,-0.2,-0.2,0,0,0,0.1,0.3,0.2,0.3,0.5,0.4,0,0.3,0.2,0.6,0.9,0.6,0,0,0,0.3,0.4,0.3,0.3,0.3,0.3,0.3,0.3,0.3,0.5,0.5,0.5,0,0,0,0,0,0,0,0,0,0,0,0,0,0,0,0,0,0,0,0,0,0,0,0,1,1,1,2,1,1,177.6,12.6,"02:00:00",790,0,0,0,0,0,0,0,0,0,0,0,0,0,0,0,0,0,0,0,0,30,48,1.5,1.4,0,0]
[null,null,null,null,null,null,null,null,null,null,null,null,null,null,null,null,null,null,null,null,null,null,null,null,null,null,null,null,null,null,null,null,null,null,null,null,null,null,null,null,null,null,null,null,null,null,null,null,null,null,null,null,null,null,null,null,null,null,null,null,null,null,null,null,null,null,null,null,null,null,null,null,null,null,null,null,null,null,null,null,null,null,null,null,null,null,null,null,null,null,null,null,null,null,null,null,null,null,null,null,null,null,null,null,null,null,null,null,null,null,null,null,null,null,null,null,null,null,null,null,null,null,null,null,null,null,null,null,null,null,null,null,null,null,null,null,null,null,null,null,null,null,null,null,null,null,null,null,null,null,"2023-10-20T23:47:12",34,36,35,35,44,43,44,42,24.9,72.8,100,2.2999999999999998,52.9,53,52.9,57.6,26.6,28.1,27.1,120,120,120,120,120,120,119.9,120,119.9,120,120,120,60,60,60,2.9,4.0999999999999996,2.8,3.7,0.2,0.2,0.2,0.4,0.5,0.4,0.3,0.3,0.3,0.4,0.4,0.4,-0.3,-0.3,-0.3,-0.1,0,-0.1,-0.2,-0.2,-0.2,0,0,0,0.1,0.3,0.2,0.4,0.6,0.4,0.1,0.3,0.1,0.6,0.9,0.6,0,0,0,0.3,0.4,0.3,0.3,0.4,0.3,0.3,0.3,0.3,0.5,0.6,0.5,0,0,0,0,0,0,0,0,0,0,0,0,0,0,0,0,0,0,0,0,0,0,0,0,1,1,1,2,1,1,177.6,12.6,"02:00:00",790,0,0,0,0,0,0,0,0,0,0,0,0,0,0,0,0,0,0,0,0,30,48,1.4,1.3,0,0]
[null,null,null,null,null,null,null,null,null,null,null,null,null,null,null,null,null,null,null,null,null,null,null,null,null,null,null,null,null,null,null,null,null,null,null,null,null,null,null,null,null,null,null,null,null,null,null,null,null,null,null,null,null,null,null,null,null,null,null,null,null,null,null,null,null,null,null,null,null,null,null,null,null,null,null,null,null,null,null,null,null,null,null,null,null,null,null,null,null,null,null,null,null,null,null,null,null,null,null,null,null,null,null,null,null,null,null,null,null,null,null,null,null,null,null,null,null,null,null,null,null,null,null,null,null,null,null,null,null,null,null,null,null,null,null,null,null,null,null,null,null,null,null,null,null,null,null,null,null,null,"2023-10-20T23:48:13",34,36,35,34,44,43,44,42,24.9,72.7,100,2.2999999999999998,52.9,53,52.9,57.6,26,27.2,26.5,120,120,120,120,120,120,120,120,120,119.9,120,119.9,60,60,60,2.9,4,2.7,3.7,0.2,0.2,0.2,0.4,0.5,0.4,0.2,0.3,0.2,0.4,0.4,0.4,-0.3,-0.3,-0.3,-0.1,-0.1,-0.1,-0.2,-0.2,-0.2,0,0,0,0.1,0.3,0.2,0.4,0.6,0.4,0.1,0.3,0.1,0.5,0.8,0.6,0,0,0,0.3,0.4,0.3,0.3,0.4,0.3,0.3,0.3,0.3,0.5,0.5,0.5,0,0,0,0,0,0,0,0,0,0,0,0,0,0,0,0,0,0,0,0,0,0,0,0,1,1,1,2,1,1,177.6,12.6,"02:00:00",791,0,0,0,0,0,0,0,0,0,0,0,0,0,0,0,0,0,0,0,0,30,48,1.4,1.3,0,0]
[null,null,null,null,null,null,null,null,null,null,null,null,null,null,null,null,null,null,null,null,null,null,null,null,null,null,null,null,null,null,null,null,null,null,null,null,null,null,null,null,null,null,null,null,null,null,null,null,null,null,null,null,null,null,null,null,null,null,null,null,null,null,null,null,null,null,null,null,null,null,null,null,null,null,null,null,null,null,null,null,null,null,null,null,null,null,null,null,null,null,null,null,null,null,null,null,null,null,null,null,null,null,null,null,null,null,null,null,null,null,null,null,null,null,null,null,null,null,null,null,null,null,null,null,null,null,null,null,null,null,null,null,null,null,null,null,null,null,null,null,null,null,null,null,null,null,null,null,null,null,"2023-10-20T23:49:13",34,36,35,34,44,43,44,42,24.9,72.7,100,2.2999999999999998,52.9,53,52.9,57.6,26,28.4,27.2,120,120,120,120,120,120,120,120,120,119.9,120,119.9,60,60,60,2.8,4.4000000000000004,2.6,4,0.2,0.2,0.2,0.5,0.5,0.5,0.2,0.3,0.2,0.4,0.5,0.4,-0.3,-0.3,-0.3,-0.1,-0.1,-0.1,-0.2,-0.2,-0.2,0,0,0,0.1,0.3,0.2,0.4,0.6,0.4,0.1,0.3,0.1,0.6,0.8,0.6,0,0,0,0.3,0.4,0.3,0.3,0.4,0.3,0.2,0.3,0.3,0.5,0.5,0.5,0,0,0,0,0,0,0,0,0,0,0,0,0,0,0,0,0,0,0,0,0,0,0,0,1,1,1,2,1,1,177.6,12.6,"02:00:00",791,0,0,0,0,0,0,0,0,0,0,0,0,0,0,0,0,0,0,0,0,30,48,1.4,1.3,0,0]
[null,null,null,null,null,null,null,null,null,null,null,null,null,null,null,null,null,null,null,null,null,null,null,null,null,null,null,null,null,null,null,null,null,null,null,null,null,null,null,null,null,null,null,null,null,null,null,null,null,null,null,null,null,null,null,null,null,null,null,null,null,null,null,null,null,null,null,null,null,null,null,null,null,null,null,null,null,null,null,null,null,null,null,null,null,null,null,null,null,null,null,null,null,null,null,null,null,null,null,null,null,null,null,null,null,null,null,null,null,null,null,null,null,null,null,null,null,null,null,null,null,null,null,null,null,null,null,null,null,null,null,null,null,null,null,null,null,null,null,null,null,null,null,null,null,null,null,null,null,null,"2023-10-20T23:50:14",34,36,35,34,44,43,44,42,24.9,72.599999999999994,100,2.2999999999999998,52.9,53,52.9,57.6,27.2,27.9,27.5,120,120,120,120,120,120,120,120,120,119.9,120,119.9,60,60,60,2.9,4.2,2.8,3.9,0.2,0.2,0.2,0.5,0.5,0.5,0.2,0.3,0.2,0.4,0.5,0.4,-0.3,-0.3,-0.3,-0.1,-0.1,-0.1,-0.2,-0.2,-0.2,0,0,0,0.1,0.3,0.2,0.3,0.5,0.4,0.1,0.3,0.2,0.6,0.8,0.6,0,0,0,0.3,0.4,0.3,0.3,0.4,0.3,0.2,0.3,0.3,0.5,0.5,0.5,0,0,0,0,0,0,0,0,0,0,0,0,0,0,0,0,0,0,0,0,0,0,0,0,1,1,1,2,1,1,177.6,12.6,"02:00:00",791,0,0,0,0,0,0,0,0,0,0,0,0,0,0,0,0,0,0,0,0,30,48,1.4,1.4,0,0]
[null,null,null,null,null,null,null,null,null,null,null,null,null,null,null,null,null,null,null,null,null,null,null,null,null,null,null,null,null,null,null,null,null,null,null,null,null,null,null,null,null,null,null,null,null,null,null,null,null,null,null,null,null,null,null,null,null,null,null,null,null,null,null,null,null,null,null,null,null,null,null,null,null,null,null,null,null,null,null,null,null,null,null,null,null,null,null,null,null,null,null,null,null,null,null,null,null,null,null,null,null,null,null,null,null,null,null,null,null,null,null,null,null,null,null,null,null,null,null,null,null,null,null,null,null,null,null,null,null,null,null,null,null,null,null,null,null,null,null,null,null,null,null,null,null,null,null,null,null,null,"2023-10-20T23:51:15",34,36,35,34,44,43,44,42,24.9,72.599999999999994,100,2.2999999999999998,52.9,52.9,52.9,57.6,27.8,29.3,28.4,120,120,120,120,120,120,119.9,120,119.9,119.9,120,119.9,60,60,60,2.9,4.3,2.8,4,0.2,0.2,0.2,0.5,0.5,0.5,0.3,0.3,0.3,0.4,0.5,0.4,-0.3,-0.3,-0.3,-0.1,-0.1,-0.1,-0.2,-0.2,-0.2,0,0,0,0.1,0.4,0.2,0.4,0.6,0.4,0.1,0.4,0.2,0.5,0.7,0.6,0,0,0,0.3,0.4,0.3,0.3,0.4,0.3,0.2,0.3,0.2,0.5,0.5,0.5,0,0,0,0,0,0,0,0,0,0,0,0,0,0,0,0,0,0,0,0,0,0,0,0,1,1,1,2,1,1,177.6,12.6,"02:00:00",792,0,0,0,0,0,0,0,0,0,0,0,0,0,0,0,0,0,0,0,0,30,48,1.5,1.4,0,0]
[null,null,null,null,null,null,null,null,null,null,null,null,null,null,null,null,null,null,null,null,null,null,null,null,null,null,null,null,null,null,null,null,null,null,null,null,null,null,null,null,null,null,null,null,null,null,null,null,null,null,null,null,null,null,null,null,null,null,null,null,null,null,null,null,null,null,null,null,null,null,null,null,null,null,null,null,null,null,null,null,null,null,null,null,null,null,null,null,null,null,null,null,null,null,null,null,null,null,null,null,null,null,null,null,null,null,null,null,null,null,null,null,null,null,null,null,null,null,null,null,null,null,null,null,null,null,null,null,null,null,null,null,null,null,null,null,null,null,null,null,null,null,null,null,null,null,null,null,null,null,"2023-10-20T23:52:16",34,36,35,34,44,43,44,42,24.9,72.5,100,2.2999999999999998,52.9,52.9,52.9,57.6,26.3,29.4,27.9,120,120,120,120,120,120,119.9,120,119.9,120,120,120,60,60,60,2.9,4.3,2.7,4,0.2,0.2,0.2,0.5,0.5,0.5,0.2,0.3,0.2,0.4,0.5,0.4,-0.3,-0.3,-0.3,-0.1,-0.1,-0.1,-0.2,-0.2,-0.2,0,0,0,0.1,0.4,0.2,0.4,0.5,0.4,0.1,0.3,0.2,0.6,0.8,0.6,0,0,0,0.3,0.3,0.3,0.3,0.4,0.3,0.3,0.3,0.3,0.5,0.5,0.5,0,0,0,0,0,0,0,0,0,0,0,0,0,0,0,0,0,0,0,0,0,0,0,0,1,1,1,2,1,1,177.6,12.6,"02:00:00",792,0,0,0,0,0,0,0,0,0,0,0,0,0,0,0,0,0,0,0,0,30,48,1.5,1.3,0,0]
[null,null,null,null,null,null,null,null,null,null,null,null,null,null,null,null,null,null,null,null,null,null,null,null,null,null,null,null,null,null,null,null,null,null,null,null,null,null,null,null,null,null,null,null,null,null,null,null,null,null,null,null,null,null,null,null,null,null,null,null,null,null,null,null,null,null,null,null,null,null,null,null,null,null,null,null,null,null,null,null,null,null,null,null,null,null,null,null,null,null,null,null,null,null,null,null,null,null,null,null,null,null,null,null,null,null,null,null,null,null,null,null,null,null,null,null,null,null,null,null,null,null,null,null,null,null,null,null,null,null,null,null,null,null,null,null,null,null,null,null,null,null,null,null,null,null,null,null,null,null,"2023-10-20T23:53:16",34,35,35,34,44,43,44,42,24.9,72.5,100,2.2999999999999998,52.9,53,52.9,57.6,24.9,26.2,25.5,120,120,120,120,120,120,120,120,120,120,120,120,60,60,60,2.8,3.9,2.6,3.6,0.2,0.2,0.2,0.4,0.5,0.4,0.2,0.3,0.2,0.4,0.4,0.4,-0.3,-0.3,-0.3,-0.1,-0.1,-0.1,-0.2,-0.2,-0.2,0,0,0,0.1,0.5,0.2,0.3,0.5,0.4,0.1,0.3,0.2,0.5,0.8,0.6,0,0,0,0.3,0.4,0.3,0.3,0.4,0.3,0.2,0.3,0.2,0.5,0.5,0.5,0,0,0,0,0,0,0,0,0,0,0,0,0,0,0,0,0,0,0,0,0,0,0,0,1,1,1,2,1,1,177.6,12.6,"02:00:00",793,0,0,0,0,0,0,0,0,0,0,0,0,0,0,0,0,0,0,0,0,30,48,1.3,1.2,0,0]
[null,null,null,null,null,null,null,null,null,null,null,null,null,null,null,null,null,null,null,null,null,null,null,null,null,null,null,null,null,null,null,null,null,null,null,null,null,null,null,null,null,null,null,null,null,null,null,null,null,null,null,null,null,null,null,null,null,null,null,null,null,null,null,null,null,null,null,null,null,null,null,null,null,null,null,null,null,null,null,null,null,null,null,null,null,null,null,null,null,null,null,null,null,null,null,null,null,null,null,null,null,null,null,null,null,null,null,null,null,null,null,null,null,null,null,null,null,null,null,null,null,null,null,null,null,null,null,null,null,null,null,null,null,null,null,null,null,null,null,null,null,null,null,null,null,null,null,null,null,null,"2023-10-20T23:54:17",34,35,35,34,44,43,44,42,24.8,72.400000000000006,100,2.2999999999999998,52.9,53,52.9,57.6,24.8,27.4,26.6,120,120,120,120,120,120,119.9,120,119.9,120,120,120,60,60,60,2.8,4.0999999999999996,2.7,3.7,0.2,0.2,0.2,0.4,0.5,0.4,0.2,0.3,0.2,0.4,0.4,0.4,-0.3,-0.3,-0.3,-0.1,-0.1,-0.1,-0.2,-0.2,-0.2,0,0,0,0.1,0.3,0.2,0.2,0.5,0.4,0.1,0.4,0.2,0.6,0.9,0.6,0,0,0,0.3,0.3,0.3,0.3,0.3,0.3,0.2,0.3,0.3,0.5,0.5,0.5,0,0,0,0,0,0,0,0,0,0,0,0,0,0,0,0,0,0,0,0,0,0,0,0,1,1,1,2,1,1,177.6,12.6,"02:00:00",793,0,0,0,0,0,0,0,0,0,0,0,0,0,0,0,0,0,0,0,0,30,48,1.4,1.3,0,0]
[null,null,null,null,null,null,null,null,null,null,null,null,null,null,null,null,null,null,null,null,null,null,null,null,null,null,null,null,null,null,null,null,null,null,null,null,null,null,null,null,null,null,null,null,null,null,null,null,null,null,null,null,null,null,null,null,null,null,null,null,null,null,null,null,null,null,null,null,null,null,null,null,null,null,null,null,null,null,null,null,null,null,null,null,null,null,null,null,null,null,null,null,null,null,null,null,null,null,null,null,null,null,null,null,null,null,null,null,null,null,null,null,null,null,null,null,null,null,null,null,null,null,null,null,null,null,null,null,null,null,null,null,null,null,null,null,null,null,null,null,null,null,null,null,null,null,null,null,null,null,"2023-10-20T23:55:19",34,35,34,34,44,43,44,42,24.8,72.400000000000006,100,2.2999999999999998,52.9,52.9,52.9,57.6,26.7,28.4,27.4,120,120,120,120,120,120,119.9,120,119.9,120,120,120,60,60,60,2.9,4.0999999999999996,2.8,3.8,0.2,0.2,0.2,0.5,0.5,0.5,0.3,0.3,0.3,0.4,0.5,0.4,-0.3,-0.3,-0.3,-0.1,-0.1,-0.1,-0.2,-0.2,-0.2,0,0,0,0.1,0.3,0.2,0.3,0.6,0.4,0,0.3,0.2,0.5,0.9,0.6,0,0,0,0.3,0.4,0.3,0.3,0.4,0.3,0.3,0.3,0.3,0.5,0.5,0.5,0,0,0,0,0,0,0,0,0,0,0,0,0,0,0,0,0,0,0,0,0,0,0,0,1,1,1,2,1,1,177.6,12.6,"02:00:00",794,0,0,0,0,0,0,0,0,0,0,0,0,0,0,0,0,0,0,0,0,30,48,1.4,1.3,0,0]
[null,null,null,null,null,null,null,null,null,null,null,null,null,null,null,null,null,null,null,null,null,null,null,null,null,null,null,null,null,null,null,null,null,null,null,null,null,null,null,null,null,null,null,null,null,null,null,null,null,null,null,null,null,null,null,null,null,null,null,null,null,null,null,null,null,null,null,null,null,null,null,null,null,null,null,null,null,null,null,null,null,null,null,null,null,null,null,null,null,null,null,null,null,null,null,null,null,null,null,null,null,null,null,null,null,null,null,null,null,null,null,null,null,null,null,null,null,null,null,null,null,null,null,null,null,null,null,null,null,null,null,null,null,null,null,null,null,null,null,null,null,null,null,null,null,null,null,null,null,null,"2023-10-20T23:56:20",34,35,34,34,44,43,44,42,24.8,72.3,100,2.2999999999999998,52.9,52.9,52.9,57.6,28,29.5,28.6,120,120,120,120,120,120,120,120,120,120,120,120,60,60,60,2.9,4.4000000000000004,2.8,4.0999999999999996,0.2,0.2,0.2,0.5,0.5,0.5,0.3,0.3,0.3,0.5,0.5,0.5,-0.3,-0.3,-0.3,-0.1,-0.1,-0.1,-0.2,-0.2,-0.2,0,0,0,0.1,0.3,0.2,0.3,0.6,0.4,0.1,0.4,0.2,0.6,0.8,0.6,0,0,0,0.3,0.4,0.3,0.3,0.4,0.3,0.2,0.3,0.3,0.5,0.5,0.5,0,0,0,0,0,0,0,0,0,0,0,0,0,0,0,0,0,0,0,0,0,0,0,0,1,1,1,2,1,1,177.6,12.6,"02:00:00",794,0,0,0,0,0,0,0,0,0,0,0,0,0,0,0,0,0,0,0,0,30,48,1.5,1.4,0,0]
[null,null,null,null,null,null,null,null,null,null,null,null,null,null,null,null,null,null,null,null,null,null,null,null,null,null,null,null,null,null,null,null,null,null,null,null,null,null,null,null,null,null,null,null,null,null,null,null,null,null,null,null,null,null,null,null,null,null,null,null,null,null,null,null,null,null,null,null,null,null,null,null,null,null,null,null,null,null,null,null,null,null,null,null,null,null,null,null,null,null,null,null,null,null,null,null,null,null,null,null,null,null,null,null,null,null,null,null,null,null,null,null,null,null,null,null,null,null,null,null,null,null,null,null,null,null,null,null,null,null,null,null,null,null,null,null,null,null,null,null,null,null,null,null,null,null,null,null,null,null,"2023-10-20T23:57:21",34,35,34,34,44,43,43,42,24.8,72.3,100,2.2999999999999998,52.9,52.9,52.9,57.6,27,28.3,27.5,120,120,120,120,120,120,119.9,120,119.9,119.9,120,119.9,60,60,60,2.9,4.2,2.6,3.9,0.2,0.2,0.2,0.5,0.5,0.5,0.3,0.3,0.3,0.4,0.5,0.4,-0.3,-0.3,-0.3,-0.1,-0.1,-0.1,-0.2,-0.2,-0.2,0,0,0,0.1,0.4,0.2,0.4,0.6,0.4,0.1,0.3,0.2,0.5,0.9,0.6,0,0,0,0.3,0.3,0.3,0.3,0.4,0.3,0.2,0.3,0.3,0.5,0.6,0.5,0,0,0,0,0,0,0,0,0,0,0,0,0,0,0,0,0,0,0,0,0,0,0,0,1,1,1,2,1,1,177.6,12.6,"02:00:00",795,0,0,0,0,0,0,0,0,0,0,0,0,0,0,0,0,0,0,0,0,30,48,1.4,1.3,0,0]
[null,null,null,null,null,null,null,null,null,null,null,null,null,null,null,null,null,null,null,null,null,null,null,null,null,null,null,null,null,null,null,null,null,null,null,null,null,null,null,null,null,null,null,null,null,null,null,null,null,null,null,null,null,null,null,null,null,null,null,null,null,null,null,null,null,null,null,null,null,null,null,null,null,null,null,null,null,null,null,null,null,null,null,null,null,null,null,null,null,null,null,null,null,null,null,null,null,null,null,null,null,null,null,null,null,null,null,null,null,null,null,null,null,null,null,null,null,null,null,null,null,null,null,null,null,null,null,null,null,null,null,null,null,null,null,null,null,null,null,null,null,null,null,null,null,null,null,null,null,null,"2023-10-20T23:58:22",34,35,34,34,44,43,44,42,24.8,72.3,100,2.2999999999999998,52.9,52.9,52.9,57.6,27.4,29,27.9,120,120,120,120,120,120,119.9,120,119.9,119.9,120,119.9,60,60,60,2.9,4.3,2.8,3.9,0.2,0.2,0.2,0.5,0.5,0.5,0.3,0.3,0.3,0.4,0.5,0.4,-0.3,-0.3,-0.3,-0.1,-0.1,-0.1,-0.2,-0.2,-0.2,0,0,0,0.1,0.3,0.2,0.3,0.5,0.4,0.1,0.3,0.1,0.6,0.8,0.6,0,0,0,0.3,0.4,0.3,0.3,0.4,0.3,0.3,0.3,0.3,0.5,0.5,0.5,0,0,0,0,0,0,0,0,0,0,0,0,0,0,0,0,0,0,0,0,0,0,0,0,1,1,1,2,1,1,177.6,12.6,"02:00:00",795,0,0,0,0,0,0,0,0,0,0,0,0,0,0,0,0,0,0,0,0,30,48,1.5,1.4,0,0]
[null,null,null,null,null,null,null,null,null,null,null,null,null,null,null,null,null,null,null,null,null,null,null,null,null,null,null,null,null,null,null,null,null,null,null,null,null,null,null,null,null,null,null,null,null,null,null,null,null,null,null,null,null,null,null,null,null,null,null,null,null,null,null,null,null,null,null,null,null,null,null,null,null,null,null,null,null,null,null,null,null,null,null,null,null,null,null,null,null,null,null,null,null,null,null,null,null,null,null,null,null,null,null,null,null,null,null,null,null,null,null,null,null,null,null,null,null,null,null,null,null,null,null,null,null,null,null,null,null,null,null,null,null,null,null,null,null,null,null,null,null,null,null,null,null,null,null,null,null,null,"2023-10-20T23:59:23",34,35,34,34,44,43,43,42,24.8,72.2,100,2.2999999999999998,52.9,52.9,52.9,57.6,27.4,28.9,27.9,120,120,120,120,120,120,119.9,120,119.9,119.9,120,119.9,60,60,60,2.8,4.3,2.8,3.9,0.2,0.2,0.2,0.5,0.5,0.5,0.3,0.3,0.3,0.4,0.5,0.4,-0.3,-0.3,-0.3,-0.1,-0.1,-0.1,-0.2,-0.2,-0.2,0,0,0,0.1,0.3,0.2,0.3,0.5,0.4,0.1,0.3,0.1,0.5,0.8,0.6,0,0,0,0.3,0.4,0.3,0.3,0.4,0.3,0.3,0.3,0.3,0.5,0.5,0.5,0,0,0,0,0,0,0,0,0,0,0,0,0,0,0,0,0,0,0,0,0,0,0,0,1,1,1,2,1,1,177.6,12.6,"02:00:00",796,0,0,0,0,0,0,0,0,0,0,0,0,0,0,0,0,0,0,0,0,30,48,1.4,1.4,0,0]
[null,null,null,null,null,null,null,null,null,null,null,null,null,null,null,null,null,null,null,null,null,null,null,null,null,null,null,null,null,null,null,null,null,null,null,null,null,null,null,null,null,null,null,null,null,null,null,null,null,null,null,null,null,null,null,null,null,null,null,null,null,null,null,null,null,null,null,null,null,null,null,null,null,null,null,null,null,null,null,null,null,null,null,null,null,null,null,null,null,null,null,null,null,null,null,null,null,null,null,null,null,null,null,null,null,null,null,null,null,null,null,null,null,null,null,null,null,null,null,null,null,null,null,null,null,null,null,null,null,null,null,null,null,null,null,null,null,null,null,null,null,null,null,null,null,null,null,null,null,null,"2023-09-07T23:58:59",32,34,30,0,43,44,42,0,5.8,82.6,77.3,4.4000000000000004,49.6,49.7,49.7,55.9,25.3,25.7,25.4,120,120,120,120,120,120,120,120,120,0,0,0,59,59,59,4.5,5.2,2.9,0,0.5,0.5,0.5,0.5,0.5,0.5,0.2,0.2,0.2,0,0,0,0,0,0,-0.4,-0.4,-0.4,-0.3,-0.3,-0.3,0,0,0,0.4,0.7,0.4,0.1,0.5,0.2,0.1,0.3,0.2,0,0,0,0,0,0,0.2,0.3,0.3,0.2,0.2,0.2,0.1,0.2,0.1,0,0,0,0,0,0,0,0,0,0,0,0,0,0,0,0,0,0,0,0,0,0,0,0,0,0,0,1,1,1,2,3,1,6.7,13.7,"00:00:00",1851373,0,0,0,0,0,0,0,0,0,0,0,0,0,0,0,0,0,0,0,0,48,48,1.2,1.2,0,0]
[null,null,null,null,null,null,null,null,null,null,null,null,null,null,null,null,null,null,null,null,null,null,null,null,null,null,null,null,null,null,null,null,null,null,null,null,null,null,null,null,null,null,null,null,null,null,null,null,null,null,null,null,null,null,null,null,null,null,null,null,null,null,null,null,null,null,null,null,null,null,null,null,null,null,null,null,null,null,null,null,null,null,null,null,null,null,null,null,null,null,null,null,null,null,null,null,null,null,null,null,null,null,null,null,null,null,null,null,null,null,null,null,null,null,null,null,null,null,null,null,null,null,null,null,null,null,null,null,null,null,null,null,null,null,null,null,null,null,null,null,null,null,null,null,null,null,null,null,null,null,{"$cut":{"chars":32759,"head":"                                                                                                                                                                                                                                                                                                                                                                                                                                                                                                                                                                                                                                                                                                                                                                                                                                                                                                                                                                                                                                                                                                                                                                                                                                                                                                                                                                                                                                                                                                                                                                                                                                                                                                                                                                                                                                                                                                                                                                                                                                                                                                                                                                                                                                                                                                                                                                                                                                                                                                                                                                                                                                                                                                                                                                                                                                                                                                                                                                                                                                                                                                                                                                                                                                                                                                                                                                                                                                                                                                                                                                                                                                                                                                                                                                                                                                                                                                                                                                                                                                                                                                                                                                                                                                                                "}}]
[null,null,null,null,null,null,null,null,null,null,null,null,null,null,null,null,null,null,null,null,null,null,null,null,null,null,null,null,null,null,null,null,null,null,null,null,null,null,null,null,null,null,null,null,null,null,null,null,null,null,null,null,null,null,null,null,null,null,null,null,null,null,null,null,null,null,null,null,null,null,null,null,null,null,null,null,null,null,null,null,null,null,null,null,null,null,null,null,null,null,null,null,null,null,null,null,null,null,null,null,null,null,null,null,null,null,null,null,null,null,null,null,null,null,null,null,null,null,null,null,null,null,null,null,null,null,null,null,null,null,null,null,null,null,null,null,null,null,null,null,null,null,null,null,null,null,null,null,null,null,{"$cut":{"chars":32759,"head":"                                                                                                                                                                                                                                                                                                                                                                                                                                                                                                                                                                                                                                                                                                                                                                                                                                                                                                                                                                                                                                                                                                                                                                                                                                                                                                                                                                                                                                                                                                                                                                                                                                                                                                                                                                                                                                                                                                                                                                                                                                                                                                                                                                                                                                                                                                                                                                                                                                                                                                                                                                                                                                                                                                                                                                                                                                                                                                                                                                                                                                                                                                                                                                                                                                                                                                                                                                                                                                                                                                                                                                                                                                                                                                                                                                                                                                                                                                                                                                                                                                                                                                                                                                                                                                                                "}}]
[null,null,null,null,null,null,null,null,null,null,null,null,null,null,null,null,null,null,null,null,null,null,null,null,null,null,null,null,null,null,null,null,null,null,null,null,null,null,null,null,null,null,null,null,null,null,null,null,null,null,null,null,null,null,null,null,null,null,null,null,null,null,null,null,null,null,null,null,null,null,null,null,null,null,null,null,null,null,null,null,null,null,null,null,null,null,null,null,null,null,null,null,null,null,null,null,null,null,null,null,null,null,null,null,null,null,null,null,null,null,null,null,null,null,null,null,null,null,null,null,null,null,null,null,null,null,null,null,null,null,null,null,null,null,null,null,null,null,null,null,null,null,null,null,null,null,null,null,null,null,{"$cut":{"chars":32759,"head":"                                                                                                                                                                                                                                                                                                                                                                                                                                                                                                                                                                                                                                                                                                                                                                                                                                                                                                                                                                                                                                                                                                                                                                                                                                                                                                                                                                                                                                                                                                                                                                                                                                                                                                                                                                                                                                                                                                                                                                                                                                                                                                                                                                                                                                                                                                                                                                                                                                                                                                                                                                                                                                                                                                                                                                                                                                                                                                                                                                                                                                                                                                                                                                                                                                                                                                                                                                                                                                                                                                                                                                                                                                                                                                                                                                                                                                                                                                                                                                                                                                                                                                                                                                                                                                                                "}}]
[null,null,null,null,null,null,null,null,null,null,null,null,null,null,null,null,null,null,null,null,null,null,null,null,null,null,null,null,null,null,null,null,null,null,null,null,null,null,null,null,null,null,null,null,null,null,null,null,null,null,null,null,null,null,null,null,null,null,null,null,null,null,null,null,null,null,null,null,null,null,null,null,null,null,null,null,null,null,null,null,null,null,null,null,null,null,null,null,null,null,null,null,null,null,null,null,null,null,null,null,null,null,null,null,null,null,null,null,null,null,null,null,null,null,null,null,null,null,null,null,null,null,null,null,null,null,null,null,null,null,null,null,null,null,null,null,null,null,null,null,null,null,null,null,null,null,null,null,null,null,{"$cut":{"chars":18470,"head":"                                                                                                                                                                                                                                                                                                                                                                                                                                                                                                                                                                                                                                                                                                                                                                                                                                                                                                                                                                                                                                                                                                                                                                                                                                                                                                                                                                                                                                                                                                                                                                                                                                                                                                                                                                                                                                                                                                                                                                                                                                                                                                                                                                                                                                                                                                                                                                                                                                                                                                                                                                                                                                                                                                                                                                                                                                                                                                                                                                                                                                                                                                                                                                                                                                                                                                                                                                                                                                                                                                                                                                                                                                                                                                                                                                                                                                                                                                                                                                                                                                                                                                                                                                                                                                                                "}}]

{"sheet":"FREQ SHIFT","index":2,"n_rows":1433,"n_cols":19,"rows_kept":1433,"cut":false,"hidden":false,"merged":[]}
["Date",{"$f":"INPUT!A14","v":"2023-10-18T13:39:44"}]
[null,null,null,null,null,null,null,{"$f":"(I7)*24*60","v":660}]
[null,null,null,null,null,null,null,{"$f":"(S7-I7)*24*60","v":480}]
[]
[null,null,null,null,null,null,"Start_Off"]
[null,null,null,null,null,null,"Variable Span Graph"]
[null,null,null,null,null,null,null,"Start","11:00:00",null,null,null,null,null,null,null,null,"End","19:00:00"]
["MIN",{"$f":"MIN(B14:B1433)","v":51.9},49.7,{"$f":"MIN(D14:D1433)","v":0},{"$f":"MIN(E14:E1433)","v":0.2}]
["MAX",{"$f":"MAX(B14:B1433)","v":94.9},69.599999999999994,{"$f":"MAX(D14:D1433)","v":61.4},{"$f":"MAX(E14:E1433)","v":56.7}]
["AVERAGE",{"$f":"AVERAGE(B14:B1433)","v":75.708239436619849},53.444436619718367,{"$f":"AVERAGE(D14:D1433)","v":58.080915492957516},{"$f":"AVERAGE(E14:E1433)","v":6.3508450704225048}]
[]
["TimeStamp","BatSoc (Avg)","BatVtg (Max)","InvFrq (Max)","InvCur (Max)"]
[{"$f":"INPUT!EU:EU","v":"MM/DD/YYYY hh:mm:ss"},{"$f":"INPUT!FE13","v":"%"},{"$f":"INPUT!FI13","v":"V"},{"$f":"INPUT!GB13","v":"Hz"},{"$f":"INPUT!GD13","v":"A"}]
[{"$f":"INPUT!EU:EU","v":45219.000520833331},{"$f":"INPUT!FE14","v":79.599999999999994},{"$f":"INPUT!FI14","v":53.2},{"$f":"INPUT!GB14","v":59},{"$f":"INPUT!GD14","v":2.6}]
[{"$f":"INPUT!EU:EU","v":45219.001215277778},{"$f":"INPUT!FE15","v":79.5},{"$f":"INPUT!FI15","v":53.2},{"$f":"INPUT!GB15","v":59},{"$f":"INPUT!GD15","v":2.6}]
[{"$f":"INPUT!EU:EU","v":45219.001921296294},{"$f":"INPUT!FE16","v":79.5},{"$f":"INPUT!FI16","v":53.2},{"$f":"INPUT!GB16","v":59},{"$f":"INPUT!GD16","v":2.6}]
[{"$f":"INPUT!EU:EU","v":45219.002615740741},{"$f":"INPUT!FE17","v":79.5},{"$f":"INPUT!FI17","v":53.2},{"$f":"INPUT!GB17","v":59},{"$f":"INPUT!GD17","v":2.6}]
[{"$f":"INPUT!EU:EU","v":45219.003333333334},{"$f":"INPUT!FE18","v":79.400000000000006},{"$f":"INPUT!FI18","v":53.2},{"$f":"INPUT!GB18","v":59},{"$f":"INPUT!GD18","v":2.5}]
[{"$f":"INPUT!EU:EU","v":45219.00403935185},{"$f":"INPUT!FE19","v":79.400000000000006},{"$f":"INPUT!FI19","v":53.2},{"$f":"INPUT!GB19","v":59},{"$f":"INPUT!GD19","v":2.5}]
[{"$f":"INPUT!EU:EU","v":45219.004745370374},{"$f":"INPUT!FE20","v":79.3},{"$f":"INPUT!FI20","v":53.2},{"$f":"INPUT!GB20","v":59},{"$f":"INPUT!GD20","v":2.5}]
[{"$f":"INPUT!EU:EU","v":45219.005439814813},{"$f":"INPUT!FE21","v":79.3},{"$f":"INPUT!FI21","v":53.2},{"$f":"INPUT!GB21","v":59},{"$f":"INPUT!GD21","v":2.5}]
[{"$f":"INPUT!EU:EU","v":45219.006145833337},{"$f":"INPUT!FE22","v":79.2},{"$f":"INPUT!FI22","v":53.2},{"$f":"INPUT!GB22","v":59},{"$f":"INPUT!GD22","v":2.6}]
[{"$f":"INPUT!EU:EU","v":45219.006851851853},{"$f":"INPUT!FE23","v":79.2},{"$f":"INPUT!FI23","v":53.2},{"$f":"INPUT!GB23","v":59},{"$f":"INPUT!GD23","v":2.6}]
[{"$f":"INPUT!EU:EU","v":45219.0075462963},{"$f":"INPUT!FE24","v":79.099999999999994},{"$f":"INPUT!FI24","v":53.2},{"$f":"INPUT!GB24","v":59},{"$f":"INPUT!GD24","v":2.5}]
[{"$f":"INPUT!EU:EU","v":45219.008252314816},{"$f":"INPUT!FE25","v":79.099999999999994},{"$f":"INPUT!FI25","v":53.2},{"$f":"INPUT!GB25","v":59},{"$f":"INPUT!GD25","v":2.5}]
[{"$f":"INPUT!EU:EU","v":45219.008958333332},{"$f":"INPUT!FE26","v":79.099999999999994},{"$f":"INPUT!FI26","v":53.2},{"$f":"INPUT!GB26","v":59},{"$f":"INPUT!GD26","v":2.6}]
[{"$f":"INPUT!EU:EU","v":45219.009664351855},{"$f":"INPUT!FE27","v":79},{"$f":"INPUT!FI27","v":53.2},{"$f":"INPUT!GB27","v":59},{"$f":"INPUT!GD27","v":2.6}]
[{"$f":"INPUT!EU:EU","v":45219.010381944441},{"$f":"INPUT!FE28","v":79},{"$f":"INPUT!FI28","v":53.2},{"$f":"INPUT!GB28","v":59},{"$f":"INPUT!GD28","v":2.6}]
[{"$f":"INPUT!EU:EU","v":45219.011076388888},{"$f":"INPUT!FE29","v":78.900000000000006},{"$f":"INPUT!FI29","v":53.2},{"$f":"INPUT!GB29","v":59},{"$f":"INPUT!GD29","v":2.6}]
[{"$f":"INPUT!EU:EU","v":45219.011782407404},{"$f":"INPUT!FE30","v":78.900000000000006},{"$f":"INPUT!FI30","v":53.2},{"$f":"INPUT!GB30","v":59},{"$f":"INPUT!GD30","v":2.6}]
[{"$f":"INPUT!EU:EU","v":45219.012476851851},{"$f":"INPUT!FE31","v":78.8},{"$f":"INPUT!FI31","v":53.2},{"$f":"INPUT!GB31","v":59},{"$f":"INPUT!GD31","v":2.6}]
[{"$f":"INPUT!EU:EU","v":45219.013182870367},{"$f":"INPUT!FE32","v":78.8},{"$f":"INPUT!FI32","v":53.2},{"$f":"INPUT!GB32","v":59},{"$f":"INPUT!GD32","v":2.5}]
[{"$f":"INPUT!EU:EU","v":45219.013888888891},{"$f":"INPUT!FE33","v":78.7},{"$f":"INPUT!FI33","v":53.2},{"$f":"INPUT!GB33","v":59},{"$f":"INPUT!GD33","v":2.5}]
[{"$f":"INPUT!EU:EU","v":45219.01458333333},{"$f":"INPUT!FE34","v":78.7},{"$f":"INPUT!FI34","v":53.2},{"$f":"INPUT!GB34","v":59},{"$f":"INPUT!GD34","v":2.6}]
[{"$f":"INPUT!EU:EU","v":45219.015289351853},{"$f":"INPUT!FE35","v":78.7},{"$f":"INPUT!FI35","v":53.2},{"$f":"INPUT!GB35","v":59},{"$f":"INPUT!GD35","v":2.6}]
[{"$f":"INPUT!EU:EU","v":45219.01599537037},{"$f":"INPUT!FE36","v":78.599999999999994},{"$f":"INPUT!FI36","v":53.2},{"$f":"INPUT!GB36","v":59},{"$f":"INPUT!GD36","v":2.6}]
[{"$f":"INPUT!EU:EU","v":45219.016724537039},{"$f":"INPUT!FE37","v":78.599999999999994},{"$f":"INPUT!FI37","v":53.2},{"$f":"INPUT!GB37","v":59},{"$f":"INPUT!GD37","v":2.6}]
[{"$f":"INPUT!EU:EU","v":45219.017430555556},{"$f":"INPUT!FE38","v":78.5},{"$f":"INPUT!FI38","v":53.2},{"$f":"INPUT!GB38","v":59},{"$f":"INPUT!GD38","v":2.6}]
[{"$f":"INPUT!EU:EU","v":45219.018125000002},{"$f":"INPUT!FE39","v":78.5},{"$f":"INPUT!FI39","v":53.2},{"$f":"INPUT!GB39","v":59},{"$f":"INPUT!GD39","v":2.6}]
[{"$f":"INPUT!EU:EU","v":45219.018831018519},{"$f":"INPUT!FE40","v":78.400000000000006},{"$f":"INPUT!FI40","v":53.2},{"$f":"INPUT!GB40","v":59},{"$f":"INPUT!GD40","v":2.5}]
[{"$f":"INPUT!EU:EU","v":45219.019537037035},{"$f":"INPUT!FE41","v":78.400000000000006},{"$f":"INPUT!FI41","v":53.2},{"$f":"INPUT!GB41","v":59},{"$f":"INPUT!GD41","v":2.5}]
[{"$f":"INPUT!EU:EU","v":45219.020243055558},{"$f":"INPUT!FE42","v":78.400000000000006},{"$f":"INPUT!FI42","v":53.2},{"$f":"INPUT!GB42","v":59},{"$f":"INPUT!GD42","v":2.6}]
[{"$f":"INPUT!EU:EU","v":45219.020937499998},{"$f":"INPUT!FE43","v":78.3},{"$f":"INPUT!FI43","v":53.2},{"$f":"INPUT!GB43","v":59},{"$f":"INPUT!GD43","v":7.7}]
[{"$f":"INPUT!EU:EU","v":45219.021643518521},{"$f":"INPUT!FE44","v":78.2},{"$f":"INPUT!FI44","v":53.1},{"$f":"INPUT!GB44","v":59},{"$f":"INPUT!GD44","v":4.0999999999999996}]
[{"$f":"INPUT!EU:EU","v":45219.022349537037},{"$f":"INPUT!FE45","v":78.2},{"$f":"INPUT!FI45","v":53.1},{"$f":"INPUT!GB45","v":59},{"$f":"INPUT!GD45","v":4.2}]
[{"$f":"INPUT!EU:EU","v":45219.023043981484},{"$f":"INPUT!FE46","v":78.099999999999994},{"$f":"INPUT!FI46","v":53.1},{"$f":"INPUT!GB46","v":59},{"$f":"INPUT!GD46","v":4.7}]
[{"$f":"INPUT!EU:EU","v":45219.023761574077},{"$f":"INPUT!FE47","v":78.099999999999994},{"$f":"INPUT!FI47","v":53.1},{"$f":"INPUT!GB47","v":59},{"$f":"INPUT!GD47","v":4.7}]
[{"$f":"INPUT!EU:EU","v":45219.024467592593},{"$f":"INPUT!FE48","v":78},{"$f":"INPUT!FI48","v":53.1},{"$f":"INPUT!GB48","v":59},{"$f":"INPUT!GD48","v":4.5999999999999996}]
[{"$f":"INPUT!EU:EU","v":45219.025173611109},{"$f":"INPUT!FE49","v":77.900000000000006},{"$f":"INPUT!FI49","v":53.1},{"$f":"INPUT!GB49","v":59},{"$f":"INPUT!GD49","v":4.5}]
[{"$f":"INPUT!EU:EU","v":45219.025868055556},{"$f":"INPUT!FE50","v":77.8},{"$f":"INPUT!FI50","v":53.1},{"$f":"INPUT!GB50","v":59},{"$f":"INPUT!GD50","v":4.5}]
[{"$f":"INPUT!EU:EU","v":45219.026574074072},{"$f":"INPUT!FE51","v":77.8},{"$f":"INPUT!FI51","v":53.1},{"$f":"INPUT!GB51","v":59},{"$f":"INPUT!GD51","v":4.5999999999999996}]
[{"$f":"INPUT!EU:EU","v":45219.027280092596},{"$f":"INPUT!FE52","v":77.7},{"$f":"INPUT!FI52","v":53.1},{"$f":"INPUT!GB52","v":59},{"$f":"INPUT!GD52","v":4.5}]
[{"$f":"INPUT!EU:EU","v":45219.027986111112},{"$f":"INPUT!FE53","v":77.599999999999994},{"$f":"INPUT!FI53","v":53.1},{"$f":"INPUT!GB53","v":59},{"$f":"INPUT!GD53","v":4.4000000000000004}]
[{"$f":"INPUT!EU:EU","v":45219.028680555559},{"$f":"INPUT!FE54","v":77.599999999999994},{"$f":"INPUT!FI54","v":53.1},{"$f":"INPUT!GB54","v":59},{"$f":"INPUT!GD54","v":4.5}]
[{"$f":"INPUT!EU:EU","v":45219.029386574075},{"$f":"INPUT!FE55","v":77.5},{"$f":"INPUT!FI55","v":53.1},{"$f":"INPUT!GB55","v":59},{"$f":"INPUT!GD55","v":4.5999999999999996}]
[{"$f":"INPUT!EU:EU","v":45219.030092592591},{"$f":"INPUT!FE56","v":77.400000000000006},{"$f":"INPUT!FI56","v":53.1},{"$f":"INPUT!GB56","v":59},{"$f":"INPUT!GD56","v":4.5}]
[{"$f":"INPUT!EU:EU","v":45219.030810185184},{"$f":"INPUT!FE57","v":77.400000000000006},{"$f":"INPUT!FI57","v":53.1},{"$f":"INPUT!GB57","v":59},{"$f":"INPUT!GD57","v":4.5}]
[{"$f":"INPUT!EU:EU","v":45219.0315162037},{"$f":"INPUT!FE58","v":77.3},{"$f":"INPUT!FI58","v":53.1},{"$f":"INPUT!GB58","v":59},{"$f":"INPUT!GD58","v":5.6}]
[{"$f":"INPUT!EU:EU","v":45219.032222222224},{"$f":"INPUT!FE59","v":77.2},{"$f":"INPUT!FI59","v":53},{"$f":"INPUT!GB59","v":59},{"$f":"INPUT!GD59","v":5}]
[{"$f":"INPUT!EU:EU","v":45219.03292824074},{"$f":"INPUT!FE60","v":77.2},{"$f":"INPUT!FI60","v":53.1},{"$f":"INPUT!GB60","v":59},{"$f":"INPUT!GD60","v":4.7}]
[{"$f":"INPUT!EU:EU","v":45219.033622685187},{"$f":"INPUT!FE61","v":77.099999999999994},{"$f":"INPUT!FI61","v":53.1},{"$f":"INPUT!GB61","v":59},{"$f":"INPUT!GD61","v":4.9000000000000004}]
[{"$f":"INPUT!EU:EU","v":45219.034328703703},{"$f":"INPUT!FE62","v":77},{"$f":"INPUT!FI62","v":53.1},{"$f":"INPUT!GB62","v":59},{"$f":"INPUT!GD62","v":5}]
[{"$f":"INPUT!EU:EU","v":45219.03502314815},{"$f":"INPUT!FE63","v":77},{"$f":"INPUT!FI63","v":53.1},{"$f":"INPUT!GB63","v":59},{"$f":"INPUT!GD63","v":5}]
[{"$f":"INPUT!EU:EU","v":45219.035729166666},{"$f":"INPUT!FE64","v":76.900000000000006},{"$f":"INPUT!FI64","v":53.1},{"$f":"INPUT!GB64","v":59},{"$f":"INPUT!GD64","v":4.9000000000000004}]
[{"$f":"INPUT!EU:EU","v":45219.036435185182},{"$f":"INPUT!FE65","v":76.8},{"$f":"INPUT!FI65","v":53.1},{"$f":"INPUT!GB65","v":59},{"$f":"INPUT!GD65","v":4.8}]
[{"$f":"INPUT!EU:EU","v":45219.037141203706},{"$f":"INPUT!FE66","v":76.7},{"$f":"INPUT!FI66","v":53.1},{"$f":"INPUT!GB66","v":59},{"$f":"INPUT!GD66","v":4.8}]
[{"$f":"INPUT!EU:EU","v":45219.037858796299},{"$f":"INPUT!FE67","v":76.7},{"$f":"INPUT!FI67","v":53.1},{"$f":"INPUT!GB67","v":59},{"$f":"INPUT!GD67","v":4.7}]
[{"$f":"INPUT!EU:EU","v":45219.038564814815},{"$f":"INPUT!FE68","v":76.599999999999994},{"$f":"INPUT!FI68","v":53.1},{"$f":"INPUT!GB68","v":59},{"$f":"INPUT!GD68","v":4.9000000000000004}]
[{"$f":"INPUT!EU:EU","v":45219.039259259262},{"$f":"INPUT!FE69","v":76.5},{"$f":"INPUT!FI69","v":53.1},{"$f":"INPUT!GB69","v":59},{"$f":"INPUT!GD69","v":4.8}]
[{"$f":"INPUT!EU:EU","v":45219.039965277778},{"$f":"INPUT!FE70","v":76.5},{"$f":"INPUT!FI70","v":53.1},{"$f":"INPUT!GB70","v":59},{"$f":"INPUT!GD70","v":4.8}]
[{"$f":"INPUT!EU:EU","v":45219.040671296294},{"$f":"INPUT!FE71","v":76.400000000000006},{"$f":"INPUT!FI71","v":53.1},{"$f":"INPUT!GB71","v":59},{"$f":"INPUT!GD71","v":4.8}]
[{"$f":"INPUT!EU:EU","v":45219.041377314818},{"$f":"INPUT!FE72","v":76.3},{"$f":"INPUT!FI72","v":53.1},{"$f":"INPUT!GB72","v":59},{"$f":"INPUT!GD72","v":4.8}]
[{"$f":"INPUT!EU:EU","v":45219.042083333334},{"$f":"INPUT!FE73","v":76.3},{"$f":"INPUT!FI73","v":53.1},{"$f":"INPUT!GB73","v":59},{"$f":"INPUT!GD73","v":4.9000000000000004}]
[{"$f":"INPUT!EU:EU","v":45219.04277777778},{"$f":"INPUT!FE74","v":76.2},{"$f":"INPUT!FI74","v":53.1},{"$f":"INPUT!GB74","v":59},{"$f":"INPUT!GD74","v":4.4000000000000004}]
[{"$f":"INPUT!EU:EU","v":45219.043483796297},{"$f":"INPUT!FE75","v":76.099999999999994},{"$f":"INPUT!FI75","v":53.1},{"$f":"INPUT!GB75","v":59},{"$f":"INPUT!GD75","v":4.3}]
[{"$f":"INPUT!EU:EU","v":45219.044189814813},{"$f":"INPUT!FE76","v":76.099999999999994},{"$f":"INPUT!FI76","v":53.1},{"$f":"INPUT!GB76","v":59},{"$f":"INPUT!GD76","v":4.4000000000000004}]
[{"$f":"INPUT!EU:EU","v":45219.044918981483},{"$f":"INPUT!FE77","v":76},{"$f":"INPUT!FI77","v":53.1},{"$f":"INPUT!GB77","v":59},{"$f":"INPUT!GD77","v":4.3}]
[{"$f":"INPUT!EU:EU","v":45219.045624999999},{"$f":"INPUT!FE78","v":75.900000000000006},{"$f":"INPUT!FI78","v":53.1},{"$f":"INPUT!GB78","v":59},{"$f":"INPUT!GD78","v":4.4000000000000004}]
[{"$f":"INPUT!EU:EU","v":45219.046331018515},{"$f":"INPUT!FE79","v":75.900000000000006},{"$f":"INPUT!FI79","v":53.1},{"$f":"INPUT!GB79","v":59},{"$f":"INPUT!GD79","v":4.5}]
[{"$f":"INPUT!EU:EU","v":45219.047037037039},{"$f":"INPUT!FE80","v":75.8},{"$f":"INPUT!FI80","v":53.1},{"$f":"INPUT!GB80","v":59},{"$f":"INPUT!GD80","v":4.5}]
[{"$f":"INPUT!EU:EU","v":45219.047731481478},{"$f":"INPUT!FE81","v":75.7},{"$f":"INPUT!FI81","v":53.1},{"$f":"INPUT!GB81","v":59},{"$f":"INPUT!GD81","v":4.4000000000000004}]
[{"$f":"INPUT!EU:EU","v":45219.048437500001},{"$f":"INPUT!FE82","v":75.7},{"$f":"INPUT!FI82","v":53.1},{"$f":"INPUT!GB82","v":59},{"$f":"INPUT!GD82","v":4.3}]
[{"$f":"INPUT!EU:EU","v":45219.049143518518},{"$f":"INPUT!FE83","v":75.599999999999994},{"$f":"INPUT!FI83","v":53.1},{"$f":"INPUT!GB83","v":59},{"$f":"INPUT!GD83","v":4.4000000000000004}]
[{"$f":"INPUT!EU:EU","v":45219.049849537034},{"$f":"INPUT!FE84","v":75.599999999999994},{"$f":"INPUT!FI84","v":53.1},{"$f":"INPUT!GB84","v":59},{"$f":"INPUT!GD84","v":4.5}]
[{"$f":"INPUT!EU:EU","v":45219.050543981481},{"$f":"INPUT!FE85","v":75.5},{"$f":"INPUT!FI85","v":53.1},{"$f":"INPUT!GB85","v":59},{"$f":"INPUT!GD85","v":4.4000000000000004}]
[{"$f":"INPUT!EU:EU","v":45219.051249999997},{"$f":"INPUT!FE86","v":75.400000000000006},{"$f":"INPUT!FI86","v":53.1},{"$f":"INPUT!GB86","v":59},{"$f":"INPUT!GD86","v":4.4000000000000004}]
[{"$f":"INPUT!EU:EU","v":45219.05196759259},{"$f":"INPUT!FE87","v":75.400000000000006},{"$f":"INPUT!FI87","v":53.1},{"$f":"INPUT!GB87","v":59},{"$f":"INPUT!GD87","v":4.4000000000000004}]
[{"$f":"INPUT!EU:EU","v":45219.052673611113},{"$f":"INPUT!FE88","v":75.3},{"$f":"INPUT!FI88","v":53.1},{"$f":"INPUT!GB88","v":59},{"$f":"INPUT!GD88","v":4.4000000000000004}]
[{"$f":"INPUT!EU:EU","v":45219.053379629629},{"$f":"INPUT!FE89","v":75.2},{"$f":"INPUT!FI89","v":53.1},{"$f":"INPUT!GB89","v":59},{"$f":"INPUT!GD89","v":4.4000000000000004}]
[{"$f":"INPUT!EU:EU","v":45219.054074074076},{"$f":"INPUT!FE90","v":75.2},{"$f":"INPUT!FI90","v":53.1},{"$f":"INPUT!GB90","v":59},{"$f":"INPUT!GD90","v":4.3}]
[{"$f":"INPUT!EU:EU","v":45219.054780092592},{"$f":"INPUT!FE91","v":75.099999999999994},{"$f":"INPUT!FI91","v":53.1},{"$f":"INPUT!GB91","v":59},{"$f":"INPUT!GD91","v":4.4000000000000004}]
[{"$f":"INPUT!EU:EU","v":45219.055474537039},{"$f":"INPUT!FE92","v":75},{"$f":"INPUT!FI92","v":53.1},{"$f":"INPUT!GB92","v":59},{"$f":"INPUT!GD92","v":4.5}]
[{"$f":"INPUT!EU:EU","v":45219.056180555555},{"$f":"INPUT!FE93","v":75},{"$f":"INPUT!FI93","v":53.1},{"$f":"INPUT!GB93","v":59},{"$f":"INPUT!GD93","v":4.3}]
[{"$f":"INPUT!EU:EU","v":45219.056886574072},{"$f":"INPUT!FE94","v":74.900000000000006},{"$f":"INPUT!FI94","v":53.1},{"$f":"INPUT!GB94","v":59},{"$f":"INPUT!GD94","v":4.4000000000000004}]
[{"$f":"INPUT!EU:EU","v":45219.057581018518},{"$f":"INPUT!FE95","v":74.8},{"$f":"INPUT!FI95","v":53.1},{"$f":"INPUT!GB95","v":59},{"$f":"INPUT!GD95","v":4.4000000000000004}]
[{"$f":"INPUT!EU:EU","v":45219.058287037034},{"$f":"INPUT!FE96","v":74.8},{"$f":"INPUT!FI96","v":53.1},{"$f":"INPUT!GB96","v":59},{"$f":"INPUT!GD96","v":4.5}]
[{"$f":"INPUT!EU:EU","v":45219.059004629627},{"$f":"INPUT!FE97","v":74.7},{"$f":"INPUT!FI97","v":53.1},{"$f":"INPUT!GB97","v":59},{"$f":"INPUT!GD97","v":4.4000000000000004}]
[{"$f":"INPUT!EU:EU","v":45219.059710648151},{"$f":"INPUT!FE98","v":74.599999999999994},{"$f":"INPUT!FI98","v":53.1},{"$f":"INPUT!GB98","v":59},{"$f":"INPUT!GD98","v":4.3}]
[{"$f":"INPUT!EU:EU","v":45219.060416666667},{"$f":"INPUT!FE99","v":74.599999999999994},{"$f":"INPUT!FI99","v":53.1},{"$f":"INPUT!GB99","v":59},{"$f":"INPUT!GD99","v":4.4000000000000004}]
[{"$f":"INPUT!EU:EU","v":45219.061111111114},{"$f":"INPUT!FE100","v":74.5},{"$f":"INPUT!FI100","v":53},{"$f":"INPUT!GB100","v":59},{"$f":"INPUT!GD100","v":4.5}]
[{"$f":"INPUT!EU:EU","v":45219.06181712963},{"$f":"INPUT!FE101","v":74.400000000000006},{"$f":"INPUT!FI101","v":53.1},{"$f":"INPUT!GB101","v":59},{"$f":"INPUT!GD101","v":4.4000000000000004}]
[{"$f":"INPUT!EU:EU","v":45219.062523148146},{"$f":"INPUT!FE102","v":74.400000000000006},{"$f":"INPUT!FI102","v":53.1},{"$f":"INPUT!GB102","v":59},{"$f":"INPUT!GD102","v":4.4000000000000004}]
[{"$f":"INPUT!EU:EU","v":45219.06322916667},{"$f":"INPUT!FE103","v":74.3},{"$f":"INPUT!FI103","v":53.1},{"$f":"INPUT!GB103","v":59},{"$f":"INPUT!GD103","v":4.4000000000000004}]
[{"$f":"INPUT!EU:EU","v":45219.063935185186},{"$f":"INPUT!FE104","v":74.2},{"$f":"INPUT!FI104","v":53},{"$f":"INPUT!GB104","v":59},{"$f":"INPUT!GD104","v":4.3}]
[{"$f":"INPUT!EU:EU","v":45219.064641203702},{"$f":"INPUT!FE105","v":74.2},{"$f":"INPUT!FI105","v":53},{"$f":"INPUT!GB105","v":59},{"$f":"INPUT!GD105","v":4.4000000000000004}]
[{"$f":"INPUT!EU:EU","v":45219.065358796295},{"$f":"INPUT!FE106","v":74.099999999999994},{"$f":"INPUT!FI106","v":53},{"$f":"INPUT!GB106","v":59},{"$f":"INPUT!GD106","v":4.4000000000000004}]
[{"$f":"INPUT!EU:EU","v":45219.066053240742},{"$f":"INPUT!FE107","v":74.099999999999994},{"$f":"INPUT!FI107","v":53.1},{"$f":"INPUT!GB107","v":59},{"$f":"INPUT!GD107","v":4.5}]
[{"$f":"INPUT!EU:EU","v":45219.066747685189},{"$f":"INPUT!FE108","v":74},{"$f":"INPUT!FI108","v":53},{"$f":"INPUT!GB108","v":59},{"$f":"INPUT!GD108","v":4.5}]
[{"$f":"INPUT!EU:EU","v":45219.067453703705},{"$f":"INPUT!FE109","v":73.900000000000006},{"$f":"INPUT!FI109","v":53.1},{"$f":"INPUT!GB109","v":59},{"$f":"INPUT!GD109","v":4.3}]
[{"$f":"INPUT!EU:EU","v":45219.068159722221},{"$f":"INPUT!FE110","v":73.900000000000006},{"$f":"INPUT!FI110","v":53.1},{"$f":"INPUT!GB110","v":59},{"$f":"INPUT!GD110","v":4.3}]
[{"$f":"INPUT!EU:EU","v":45219.068865740737},{"$f":"INPUT!FE111","v":73.8},{"$f":"INPUT!FI111","v":53.1},{"$f":"INPUT!GB111","v":59},{"$f":"INPUT!GD111","v":4.5}]
[{"$f":"INPUT!EU:EU","v":45219.069571759261},{"$f":"INPUT!FE112","v":73.7},{"$f":"INPUT!FI112","v":53},{"$f":"INPUT!GB112","v":59},{"$f":"INPUT!GD112","v":4.5}]
[{"$f":"INPUT!EU:EU","v":45219.070277777777},{"$f":"INPUT!FE113","v":73.7},{"$f":"INPUT!FI113","v":53},{"$f":"INPUT!GB113","v":59},{"$f":"INPUT!GD113","v":4.4000000000000004}]
[{"$f":"INPUT!EU:EU","v":45219.070983796293},{"$f":"INPUT!FE114","v":73.599999999999994},{"$f":"INPUT!FI114","v":53},{"$f":"INPUT!GB114","v":59},{"$f":"INPUT!GD114","v":4.3}]
[{"$f":"INPUT!EU:EU","v":45219.071689814817},{"$f":"INPUT!FE115","v":73.599999999999994},{"$f":"INPUT!FI115","v":53},{"$f":"INPUT!GB115","v":59},{"$f":"INPUT!GD115","v":4.5}]
[{"$f":"INPUT!EU:EU","v":45219.07240740741},{"$f":"INPUT!FE116","v":73.5},{"$f":"INPUT!FI116","v":53},{"$f":"INPUT!GB116","v":59},{"$f":"INPUT!GD116","v":4.5}]
[{"$f":"INPUT!EU:EU","v":45219.073113425926},{"$f":"INPUT!FE117","v":73.400000000000006},{"$f":"INPUT!FI117","v":53},{"$f":"INPUT!GB117","v":59},{"$f":"INPUT!GD117","v":4.4000000000000004}]
[{"$f":"INPUT!EU:EU","v":45219.073807870373},{"$f":"INPUT!FE118","v":73.400000000000006},{"$f":"INPUT!FI118","v":53},{"$f":"INPUT!GB118","v":59},{"$f":"INPUT!GD118","v":4.3}]
[{"$f":"INPUT!EU:EU","v":45219.074513888889},{"$f":"INPUT!FE119","v":73.3},{"$f":"INPUT!FI119","v":53},{"$f":"INPUT!GB119","v":59},{"$f":"INPUT!GD119","v":4.4000000000000004}]
[{"$f":"INPUT!EU:EU","v":45219.075219907405},{"$f":"INPUT!FE120","v":73.2},{"$f":"INPUT!FI120","v":53},{"$f":"INPUT!GB120","v":59},{"$f":"INPUT!GD120","v":4.4000000000000004}]
[{"$f":"INPUT!EU:EU","v":45219.075925925928},{"$f":"INPUT!FE121","v":73.2},{"$f":"INPUT!FI121","v":53},{"$f":"INPUT!GB121","v":59},{"$f":"INPUT!GD121","v":4.4000000000000004}]
[{"$f":"INPUT!EU:EU","v":45219.076631944445},{"$f":"INPUT!FE122","v":73.099999999999994},{"$f":"INPUT!FI122","v":53},{"$f":"INPUT!GB122","v":59},{"$f":"INPUT!GD122","v":4.4000000000000004}]
[{"$f":"INPUT!EU:EU","v":45219.077337962961},{"$f":"INPUT!FE123","v":73.099999999999994},{"$f":"INPUT!FI123","v":53},{"$f":"INPUT!GB123","v":59},{"$f":"INPUT!GD123","v":4.5}]
[{"$f":"INPUT!EU:EU","v":45219.078032407408},{"$f":"INPUT!FE124","v":73},{"$f":"INPUT!FI124","v":53},{"$f":"INPUT!GB124","v":59},{"$f":"INPUT!GD124","v":4.5}]
[{"$f":"INPUT!EU:EU","v":45219.078738425924},{"$f":"INPUT!FE125","v":72.900000000000006},{"$f":"INPUT!FI125","v":53},{"$f":"INPUT!GB125","v":59},{"$f":"INPUT!GD125","v":4.3}]
[{"$f":"INPUT!EU:EU","v":45219.079444444447},{"$f":"INPUT!FE126","v":72.900000000000006},{"$f":"INPUT!FI126","v":53},{"$f":"INPUT!GB126","v":59},{"$f":"INPUT!GD126","v":4.5}]
[{"$f":"INPUT!EU:EU","v":45219.080150462964},{"$f":"INPUT!FE127","v":72.8},{"$f":"INPUT!FI127","v":53},{"$f":"INPUT!GB127","v":59},{"$f":"INPUT!GD127","v":4.5}]
[{"$f":"INPUT!EU:EU","v":45219.08085648148},{"$f":"INPUT!FE128","v":72.8},{"$f":"INPUT!FI128","v":53},{"$f":"INPUT!GB128","v":59},{"$f":"INPUT!GD128","v":4.5}]
[{"$f":"INPUT!EU:EU","v":45219.081550925926},{"$f":"INPUT!FE129","v":72.7},{"$f":"INPUT!FI129","v":53},{"$f":"INPUT!GB129","v":59},{"$f":"INPUT!GD129","v":4.3}]
[{"$f":"INPUT!EU:EU","v":45219.082256944443},{"$f":"INPUT!FE130","v":72.599999999999994},{"$f":"INPUT!FI130","v":53},{"$f":"INPUT!GB130","v":59},{"$f":"INPUT!GD130","v":4.4000000000000004}]
[{"$f":"INPUT!EU:EU","v":45219.082962962966},{"$f":"INPUT!FE131","v":72.599999999999994},{"$f":"INPUT!FI131","v":53},{"$f":"INPUT!GB131","v":59},{"$f":"INPUT!GD131","v":4.5}]
[{"$f":"INPUT!EU:EU","v":45219.083657407406},{"$f":"INPUT!FE132","v":72.5},{"$f":"INPUT!FI132","v":53},{"$f":"INPUT!GB132","v":59},{"$f":"INPUT!GD132","v":4.5}]
[{"$f":"INPUT!EU:EU","v":45219.084363425929},{"$f":"INPUT!FE133","v":72.400000000000006},{"$f":"INPUT!FI133","v":53},{"$f":"INPUT!GB133","v":59},{"$f":"INPUT!GD133","v":4.3}]
[{"$f":"INPUT!EU:EU","v":45219.085069444445},{"$f":"INPUT!FE134","v":72.400000000000006},{"$f":"INPUT!FI134","v":53},{"$f":"INPUT!GB134","v":59},{"$f":"INPUT!GD134","v":4.5}]
[{"$f":"INPUT!EU:EU","v":45219.085775462961},{"$f":"INPUT!FE135","v":72.3},{"$f":"INPUT!FI135","v":53},{"$f":"INPUT!GB135","v":59},{"$f":"INPUT!GD135","v":4.5}]
[{"$f":"INPUT!EU:EU","v":45219.086481481485},{"$f":"INPUT!FE136","v":72.3},{"$f":"INPUT!FI136","v":53},{"$f":"INPUT!GB136","v":59},{"$f":"INPUT!GD136","v":4.4000000000000004}]
[{"$f":"INPUT!EU:EU","v":45219.087187500001},{"$f":"INPUT!FE137","v":72.2},{"$f":"INPUT!FI137","v":53},{"$f":"INPUT!GB137","v":59},{"$f":"INPUT!GD137","v":4.3}]
[{"$f":"INPUT!EU:EU","v":45219.087881944448},{"$f":"INPUT!FE138","v":72.099999999999994},{"$f":"INPUT!FI138","v":53},{"$f":"INPUT!GB138","v":59},{"$f":"INPUT!GD138","v":4.5}]
[{"$f":"INPUT!EU:EU","v":45219.088587962964},{"$f":"INPUT!FE139","v":72.099999999999994},{"$f":"INPUT!FI139","v":53},{"$f":"INPUT!GB139","v":59},{"$f":"INPUT!GD139","v":4.5}]
[{"$f":"INPUT!EU:EU","v":45219.08929398148},{"$f":"INPUT!FE140","v":72},{"$f":"INPUT!FI140","v":53.1},{"$f":"INPUT!GB140","v":59},{"$f":"INPUT!GD140","v":4.3}]
[{"$f":"INPUT!EU:EU","v":45219.09},{"$f":"INPUT!FE141","v":72},{"$f":"INPUT!FI141","v":53.1},{"$f":"INPUT!GB141","v":59},{"$f":"INPUT!GD141","v":2.7}]
[{"$f":"INPUT!EU:EU","v":45219.090694444443},{"$f":"INPUT!FE142","v":71.900000000000006},{"$f":"INPUT!FI142","v":53},{"$f":"INPUT!GB142","v":59},{"$f":"INPUT!GD142","v":2.8}]
[{"$f":"INPUT!EU:EU","v":45219.091400462959},{"$f":"INPUT!FE143","v":71.8},{"$f":"INPUT!FI143","v":53},{"$f":"INPUT!GB143","v":59},{"$f":"INPUT!GD143","v":7.7}]
[{"$f":"INPUT!EU:EU","v":45219.092106481483},{"$f":"INPUT!FE144","v":71.8},{"$f":"INPUT!FI144","v":53},{"$f":"INPUT!GB144","v":59},{"$f":"INPUT!GD144","v":4.4000000000000004}]
[{"$f":"INPUT!EU:EU","v":45219.092812499999},{"$f":"INPUT!FE145","v":71.7},{"$f":"INPUT!FI145","v":53},{"$f":"INPUT!GB145","v":59},{"$f":"INPUT!GD145","v":4.5}]
[{"$f":"INPUT!EU:EU","v":45219.093530092592},{"$f":"INPUT!FE146","v":71.599999999999994},{"$f":"INPUT!FI146","v":53},{"$f":"INPUT!GB146","v":59},{"$f":"INPUT!GD146","v":4.5}]
[{"$f":"INPUT!EU:EU","v":45219.094236111108},{"$f":"INPUT!FE147","v":71.599999999999994},{"$f":"INPUT!FI147","v":53},{"$f":"INPUT!GB147","v":59},{"$f":"INPUT!GD147","v":4.5}]
[{"$f":"INPUT!EU:EU","v":45219.094930555555},{"$f":"INPUT!FE148","v":71.5},{"$f":"INPUT!FI148","v":53},{"$f":"INPUT!GB148","v":59},{"$f":"INPUT!GD148","v":4.5}]
[{"$f":"INPUT!EU:EU","v":45219.095636574071},{"$f":"INPUT!FE149","v":71.400000000000006},{"$f":"INPUT!FI149","v":53},{"$f":"INPUT!GB149","v":59},{"$f":"INPUT!GD149","v":4.5}]
[{"$f":"INPUT!EU:EU","v":45219.096342592595},{"$f":"INPUT!FE150","v":71.400000000000006},{"$f":"INPUT!FI150","v":52.9},{"$f":"INPUT!GB150","v":59},{"$f":"INPUT!GD150","v":4.5999999999999996}]
[{"$f":"INPUT!EU:EU","v":45219.097048611111},{"$f":"INPUT!FE151","v":71.3},{"$f":"INPUT!FI151","v":52.9},{"$f":"INPUT!GB151","v":59},{"$f":"INPUT!GD151","v":4.5999999999999996}]
[{"$f":"INPUT!EU:EU","v":45219.097754629627},{"$f":"INPUT!FE152","v":71.2},{"$f":"INPUT!FI152","v":52.9},{"$f":"INPUT!GB152","v":59},{"$f":"INPUT!GD152","v":4.3}]
[{"$f":"INPUT!EU:EU","v":45219.098460648151},{"$f":"INPUT!FE153","v":71.2},{"$f":"INPUT!FI153","v":52.9},{"$f":"INPUT!GB153","v":59},{"$f":"INPUT!GD153","v":4.4000000000000004}]
[{"$f":"INPUT!EU:EU","v":45219.09915509259},{"$f":"INPUT!FE154","v":71.099999999999994},{"$f":"INPUT!FI154","v":52.9},{"$f":"INPUT!GB154","v":59},{"$f":"INPUT!GD154","v":4.5}]
[{"$f":"INPUT!EU:EU","v":45219.099861111114},{"$f":"INPUT!FE155","v":71},{"$f":"INPUT!FI155","v":52.9},{"$f":"INPUT!GB155","v":59},{"$f":"INPUT!GD155","v":4.5}]
[{"$f":"INPUT!EU:EU","v":45219.100590277776},{"$f":"INPUT!FE156","v":71},{"$f":"INPUT!FI156","v":52.9},{"$f":"INPUT!GB156","v":59},{"$f":"INPUT!GD156","v":4.3}]
[{"$f":"INPUT!EU:EU","v":45219.1012962963},{"$f":"INPUT!FE157","v":70.900000000000006},{"$f":"INPUT!FI157","v":52.9},{"$f":"INPUT!GB157","v":59},{"$f":"INPUT!GD157","v":4.4000000000000004}]
[{"$f":"INPUT!EU:EU","v":45219.101990740739},{"$f":"INPUT!FE158","v":70.8},{"$f":"INPUT!FI158","v":52.9},{"$f":"INPUT!GB158","v":59},{"$f":"INPUT!GD158","v":4.5}]
[{"$f":"INPUT!EU:EU","v":45219.102696759262},{"$f":"INPUT!FE159","v":70.8},{"$f":"INPUT!FI159","v":53},{"$f":"INPUT!GB159","v":59},{"$f":"INPUT!GD159","v":4.5}]
[{"$f":"INPUT!EU:EU","v":45219.103402777779},{"$f":"INPUT!FE160","v":70.7},{"$f":"INPUT!FI160","v":53},{"$f":"INPUT!GB160","v":59},{"$f":"INPUT!GD160","v":2.7}]
[{"$f":"INPUT!EU:EU","v":45219.104108796295},{"$f":"INPUT!FE161","v":70.7},{"$f":"INPUT!FI161","v":53},{"$f":"INPUT!GB161","v":59},{"$f":"INPUT!GD161","v":2.6}]
[{"$f":"INPUT!EU:EU","v":45219.104803240742},{"$f":"INPUT!FE162","v":70.599999999999994},{"$f":"INPUT!FI162","v":53},{"$f":"INPUT!GB162","v":59},{"$f":"INPUT!GD162","v":7.3}]
[{"$f":"INPUT!EU:EU","v":45219.105509259258},{"$f":"INPUT!FE163","v":70.599999999999994},{"$f":"INPUT!FI163","v":52.9},{"$f":"INPUT!GB163","v":59},{"$f":"INPUT!GD163","v":4.4000000000000004}]
[{"$f":"INPUT!EU:EU","v":45219.106215277781},{"$f":"INPUT!FE164","v":70.5},{"$f":"INPUT!FI164","v":52.9},{"$f":"INPUT!GB164","v":59},{"$f":"INPUT!GD164","v":4.4000000000000004}]
[{"$f":"INPUT!EU:EU","v":45219.106921296298},{"$f":"INPUT!FE165","v":70.400000000000006},{"$f":"INPUT!FI165","v":52.9},{"$f":"INPUT!GB165","v":59},{"$f":"INPUT!GD165","v":4.5}]
[{"$f":"INPUT!EU:EU","v":45219.107638888891},{"$f":"INPUT!FE166","v":70.3},{"$f":"INPUT!FI166","v":52.9},{"$f":"INPUT!GB166","v":59},{"$f":"INPUT!GD166","v":4.5999999999999996}]
[{"$f":"INPUT!EU:EU","v":45219.108344907407},{"$f":"INPUT!FE167","v":70.3},{"$f":"INPUT!FI167","v":52.9},{"$f":"INPUT!GB167","v":59},{"$f":"INPUT!GD167","v":4.5}]
[{"$f":"INPUT!EU:EU","v":45219.109050925923},{"$f":"INPUT!FE168","v":70.2},{"$f":"INPUT!FI168","v":52.9},{"$f":"INPUT!GB168","v":59},{"$f":"INPUT!GD168","v":4.4000000000000004}]
[{"$f":"INPUT!EU:EU","v":45219.109756944446},{"$f":"INPUT!FE169","v":70.099999999999994},{"$f":"INPUT!FI169","v":52.9},{"$f":"INPUT!GB169","v":59},{"$f":"INPUT!GD169","v":4.5}]
[{"$f":"INPUT!EU:EU","v":45219.110451388886},{"$f":"INPUT!FE170","v":70.099999999999994},{"$f":"INPUT!FI170","v":52.9},{"$f":"INPUT!GB170","v":59},{"$f":"INPUT!GD170","v":4.5999999999999996}]
[{"$f":"INPUT!EU:EU","v":45219.111157407409},{"$f":"INPUT!FE171","v":70},{"$f":"INPUT!FI171","v":52.9},{"$f":"INPUT!GB171","v":59},{"$f":"INPUT!GD171","v":4.5}]
[{"$f":"INPUT!EU:EU","v":45219.111863425926},{"$f":"INPUT!FE172","v":69.900000000000006},{"$f":"INPUT!FI172","v":52.9},{"$f":"INPUT!GB172","v":59},{"$f":"INPUT!GD172","v":4.4000000000000004}]
[{"$f":"INPUT!EU:EU","v":45219.112569444442},{"$f":"INPUT!FE173","v":69.900000000000006},{"$f":"INPUT!FI173","v":52.8},{"$f":"INPUT!GB173","v":59},{"$f":"INPUT!GD173","v":4.4000000000000004}]
[{"$f":"INPUT!EU:EU","v":45219.113263888888},{"$f":"INPUT!FE174","v":69.8},{"$f":"INPUT!FI174","v":52.8},{"$f":"INPUT!GB174","v":59},{"$f":"INPUT!GD174","v":4.5}]
[{"$f":"INPUT!EU:EU","v":45219.113981481481},{"$f":"INPUT!FE175","v":69.7},{"$f":"INPUT!FI175","v":52.8},{"$f":"INPUT!GB175","v":59},{"$f":"INPUT!GD175","v":4.4000000000000004}]
[{"$f":"INPUT!EU:EU","v":45219.114687499998},{"$f":"INPUT!FE176","v":69.7},{"$f":"INPUT!FI176","v":52.9},{"$f":"INPUT!GB176","v":59},{"$f":"INPUT!GD176","v":4.3}]
[{"$f":"INPUT!EU:EU","v":45219.115393518521},{"$f":"INPUT!FE177","v":69.599999999999994},{"$f":"INPUT!FI177","v":52.9},{"$f":"INPUT!GB177","v":59},{"$f":"INPUT!GD177","v":2.7}]
[{"$f":"INPUT!EU:EU","v":45219.116087962961},{"$f":"INPUT!FE178","v":69.599999999999994},{"$f":"INPUT!FI178","v":52.9},{"$f":"INPUT!GB178","v":59},{"$f":"INPUT!GD178","v":2.7}]
[{"$f":"INPUT!EU:EU","v":45219.116793981484},{"$f":"INPUT!FE179","v":69.5},{"$f":"INPUT!FI179","v":52.9},{"$f":"INPUT!GB179","v":59},{"$f":"INPUT!GD179","v":7.5}]
[{"$f":"INPUT!EU:EU","v":45219.1175},{"$f":"INPUT!FE180","v":69.5},{"$f":"INPUT!FI180","v":52.9},{"$f":"INPUT!GB180","v":59},{"$f":"INPUT!GD180","v":4.5}]
[{"$f":"INPUT!EU:EU","v":45219.118206018517},{"$f":"INPUT!FE181","v":69.400000000000006},{"$f":"INPUT!FI181","v":52.8},{"$f":"INPUT!GB181","v":59},{"$f":"INPUT!GD181","v":4.5}]
[{"$f":"INPUT!EU:EU","v":45219.11891203704},{"$f":"INPUT!FE182","v":69.3},{"$f":"INPUT!FI182","v":52.8},{"$f":"INPUT!GB182","v":59},{"$f":"INPUT!GD182","v":4.5}]
[{"$f":"INPUT!EU:EU","v":45219.119618055556},{"$f":"INPUT!FE183","v":69.3},{"$f":"INPUT!FI183","v":52.8},{"$f":"INPUT!GB183","v":59},{"$f":"INPUT!GD183","v":4.5}]
[{"$f":"INPUT!EU:EU","v":45219.120312500003},{"$f":"INPUT!FE184","v":69.2},{"$f":"INPUT!FI184","v":52.8},{"$f":"INPUT!GB184","v":59},{"$f":"INPUT!GD184","v":4.3}]
[{"$f":"INPUT!EU:EU","v":45219.121030092596},{"$f":"INPUT!FE185","v":69.2},{"$f":"INPUT!FI185","v":52.8},{"$f":"INPUT!GB185","v":59},{"$f":"INPUT!GD185","v":4.5}]
[{"$f":"INPUT!EU:EU","v":45219.121724537035},{"$f":"INPUT!FE186","v":69.099999999999994},{"$f":"INPUT!FI186","v":52.8},{"$f":"INPUT!GB186","v":59},{"$f":"INPUT!GD186","v":4.5}]
[{"$f":"INPUT!EU:EU","v":45219.122430555559},{"$f":"INPUT!FE187","v":69},{"$f":"INPUT!FI187","v":52.8},{"$f":"INPUT!GB187","v":59},{"$f":"INPUT!GD187","v":4.5}]
[{"$f":"INPUT!EU:EU","v":45219.123124999998},{"$f":"INPUT!FE188","v":69},{"$f":"INPUT!FI188","v":52.8},{"$f":"INPUT!GB188","v":59},{"$f":"INPUT!GD188","v":4.4000000000000004}]
[{"$f":"INPUT!EU:EU","v":45219.123831018522},{"$f":"INPUT!FE189","v":68.900000000000006},{"$f":"INPUT!FI189","v":52.8},{"$f":"INPUT!GB189","v":59},{"$f":"INPUT!GD189","v":4.4000000000000004}]
[{"$f":"INPUT!EU:EU","v":45219.124537037038},{"$f":"INPUT!FE190","v":68.8},{"$f":"INPUT!FI190","v":52.8},{"$f":"INPUT!GB190","v":59},{"$f":"INPUT!GD190","v":4.5}]
[{"$f":"INPUT!EU:EU","v":45219.125231481485},{"$f":"INPUT!FE191","v":68.8},{"$f":"INPUT!FI191","v":52.8},{"$f":"INPUT!GB191","v":59},{"$f":"INPUT!GD191","v":4.5}]
[{"$f":"INPUT!EU:EU","v":45219.125925925924},{"$f":"INPUT!FE192","v":68.7},{"$f":"INPUT!FI192","v":52.8},{"$f":"INPUT!GB192","v":59},{"$f":"INPUT!GD192","v":4.4000000000000004}]
[{"$f":"INPUT!EU:EU","v":45219.126631944448},{"$f":"INPUT!FE193","v":68.7},{"$f":"INPUT!FI193","v":52.8},{"$f":"INPUT!GB193","v":59},{"$f":"INPUT!GD193","v":2.7}]
[{"$f":"INPUT!EU:EU","v":45219.127337962964},{"$f":"INPUT!FE194","v":68.7},{"$f":"INPUT!FI194","v":52.9},{"$f":"INPUT!GB194","v":59},{"$f":"INPUT!GD194","v":2.7}]
[{"$f":"INPUT!EU:EU","v":45219.128067129626},{"$f":"INPUT!FE195","v":68.599999999999994},{"$f":"INPUT!FI195","v":52.9},{"$f":"INPUT!GB195","v":59},{"$f":"INPUT!GD195","v":7.1}]
[{"$f":"INPUT!EU:EU","v":45219.128761574073},{"$f":"INPUT!FE196","v":68.5},{"$f":"INPUT!FI196","v":52.8},{"$f":"INPUT!GB196","v":59},{"$f":"INPUT!GD196","v":4.5}]
[{"$f":"INPUT!EU:EU","v":45219.129467592589},{"$f":"INPUT!FE197","v":68.5},{"$f":"INPUT!FI197","v":52.8},{"$f":"INPUT!GB197","v":59},{"$f":"INPUT!GD197","v":4.5}]
[{"$f":"INPUT!EU:EU","v":45219.130162037036},{"$f":"INPUT!FE198","v":68.400000000000006},{"$f":"INPUT!FI198","v":52.8},{"$f":"INPUT!GB198","v":59},{"$f":"INPUT!GD198","v":4.5}]
[{"$f":"INPUT!EU:EU","v":45219.130868055552},{"$f":"INPUT!FE199","v":68.400000000000006},{"$f":"INPUT!FI199","v":52.8},{"$f":"INPUT!GB199","v":59},{"$f":"INPUT!GD199","v":4.5}]
[{"$f":"INPUT!EU:EU","v":45219.131562499999},{"$f":"INPUT!FE200","v":68.3},{"$f":"INPUT!FI200","v":52.8},{"$f":"INPUT!GB200","v":59},{"$f":"INPUT!GD200","v":4.4000000000000004}]
[{"$f":"INPUT!EU:EU","v":45219.132268518515},{"$f":"INPUT!FE201","v":68.2},{"$f":"INPUT!FI201","v":52.8},{"$f":"INPUT!GB201","v":59},{"$f":"INPUT!GD201","v":4.3}]
[{"$f":"INPUT!EU:EU","v":45219.132962962962},{"$f":"INPUT!FE202","v":68.2},{"$f":"INPUT!FI202","v":52.7},{"$f":"INPUT!GB202","v":59},{"$f":"INPUT!GD202","v":4.5}]
[{"$f":"INPUT!EU:EU","v":45219.133668981478},{"$f":"INPUT!FE203","v":68.099999999999994},{"$f":"INPUT!FI203","v":52.7},{"$f":"INPUT!GB203","v":59},{"$f":"INPUT!GD203","v":4.5}]
[{"$f":"INPUT!EU:EU","v":45219.134375000001},{"$f":"INPUT!FE204","v":68},{"$f":"INPUT!FI204","v":52.7},{"$f":"INPUT!GB204","v":59},{"$f":"INPUT!GD204","v":4.5}]
[{"$f":"INPUT!EU:EU","v":45219.135092592594},{"$f":"INPUT!FE205","v":68},{"$f":"INPUT!FI205","v":52.7},{"$f":"INPUT!GB205","v":59},{"$f":"INPUT!GD205","v":4.4000000000000004}]
[{"$f":"INPUT!EU:EU","v":45219.135798611111},{"$f":"INPUT!FE206","v":67.900000000000006},{"$f":"INPUT!FI206","v":52.8},{"$f":"INPUT!GB206","v":59},{"$f":"INPUT!GD206","v":4.4000000000000004}]
[{"$f":"INPUT!EU:EU","v":45219.136493055557},{"$f":"INPUT!FE207","v":67.900000000000006},{"$f":"INPUT!FI207","v":52.8},{"$f":"INPUT!GB207","v":59},{"$f":"INPUT!GD207","v":2.7}]
[{"$f":"INPUT!EU:EU","v":45219.137199074074},{"$f":"INPUT!FE208","v":67.900000000000006},{"$f":"INPUT!FI208","v":52.8},{"$f":"INPUT!GB208","v":59},{"$f":"INPUT!GD208","v":2.8}]
[{"$f":"INPUT!EU:EU","v":45219.13790509259},{"$f":"INPUT!FE209","v":67.8},{"$f":"INPUT!FI209","v":52.8},{"$f":"INPUT!GB209","v":59},{"$f":"INPUT!GD209","v":5.9}]
[{"$f":"INPUT!EU:EU","v":45219.138611111113},{"$f":"INPUT!FE210","v":67.7},{"$f":"INPUT!FI210","v":52.7},{"$f":"INPUT!GB210","v":59},{"$f":"INPUT!GD210","v":4.4000000000000004}]
[{"$f":"INPUT!EU:EU","v":45219.139317129629},{"$f":"INPUT!FE211","v":67.7},{"$f":"INPUT!FI211","v":52.7},{"$f":"INPUT!GB211","v":59},{"$f":"INPUT!GD211","v":4.5}]
[{"$f":"INPUT!EU:EU","v":45219.140023148146},{"$f":"INPUT!FE212","v":67.599999999999994},{"$f":"INPUT!FI212","v":52.7},{"$f":"INPUT!GB212","v":59},{"$f":"INPUT!GD212","v":4.5}]
[{"$f":"INPUT!EU:EU","v":45219.140729166669},{"$f":"INPUT!FE213","v":67.599999999999994},{"$f":"INPUT!FI213","v":52.7},{"$f":"INPUT!GB213","v":59},{"$f":"INPUT!GD213","v":4.5}]
[{"$f":"INPUT!EU:EU","v":45219.141435185185},{"$f":"INPUT!FE214","v":67.5},{"$f":"INPUT!FI214","v":52.7},{"$f":"INPUT!GB214","v":59},{"$f":"INPUT!GD214","v":4.5}]
[{"$f":"INPUT!EU:EU","v":45219.142141203702},{"$f":"INPUT!FE215","v":67.400000000000006},{"$f":"INPUT!FI215","v":52.7},{"$f":"INPUT!GB215","v":59},{"$f":"INPUT!GD215","v":4.5}]
[{"$f":"INPUT!EU:EU","v":45219.142847222225},{"$f":"INPUT!FE216","v":67.400000000000006},{"$f":"INPUT!FI216","v":52.8},{"$f":"INPUT!GB216","v":59},{"$f":"INPUT!GD216","v":4.5}]
[{"$f":"INPUT!EU:EU","v":45219.143553240741},{"$f":"INPUT!FE217","v":67.3},{"$f":"INPUT!FI217","v":52.8},{"$f":"INPUT!GB217","v":59},{"$f":"INPUT!GD217","v":2.6}]
[{"$f":"INPUT!EU:EU","v":45219.144259259258},{"$f":"INPUT!FE218","v":67.3},{"$f":"INPUT!FI218","v":52.8},{"$f":"INPUT!GB218","v":59},{"$f":"INPUT!GD218","v":2.7}]
[{"$f":"INPUT!EU:EU","v":45219.144953703704},{"$f":"INPUT!FE219","v":67.2},{"$f":"INPUT!FI219","v":52.8},{"$f":"INPUT!GB219","v":59},{"$f":"INPUT!GD219","v":5.9}]
[{"$f":"INPUT!EU:EU","v":45219.14565972222},{"$f":"INPUT!FE220","v":67.2},{"$f":"INPUT!FI220","v":52.7},{"$f":"INPUT!GB220","v":59},{"$f":"INPUT!GD220","v":4.5}]
[{"$f":"INPUT!EU:EU","v":45219.146365740744},{"$f":"INPUT!FE221","v":67.099999999999994},{"$f":"INPUT!FI221","v":52.7},{"$f":"INPUT!GB221","v":59},{"$f":"INPUT!GD221","v":4.4000000000000004}]
[{"$f":"INPUT!EU:EU","v":45219.14707175926},{"$f":"INPUT!FE222","v":67.099999999999994},{"$f":"INPUT!FI222","v":52.7},{"$f":"INPUT!GB222","v":59},{"$f":"INPUT!GD222","v":4.5}]
[{"$f":"INPUT!EU:EU","v":45219.147777777776},{"$f":"INPUT!FE223","v":67},{"$f":"INPUT!FI223","v":52.7},{"$f":"INPUT!GB223","v":59},{"$f":"INPUT!GD223","v":4.5}]
[{"$f":"INPUT!EU:EU","v":45219.148472222223},{"$f":"INPUT!FE224","v":66.900000000000006},{"$f":"INPUT!FI224","v":52.7},{"$f":"INPUT!GB224","v":59},{"$f":"INPUT!GD224","v":4.5}]
[{"$f":"INPUT!EU:EU","v":45219.149189814816},{"$f":"INPUT!FE225","v":66.900000000000006},{"$f":"INPUT!FI225","v":52.7},{"$f":"INPUT!GB225","v":59},{"$f":"INPUT!GD225","v":4.3}]
[{"$f":"INPUT!EU:EU","v":45219.149884259263},{"$f":"INPUT!FE226","v":66.8},{"$f":"INPUT!FI226","v":52.7},{"$f":"INPUT!GB226","v":59},{"$f":"INPUT!GD226","v":4.4000000000000004}]
[{"$f":"INPUT!EU:EU","v":45219.150590277779},{"$f":"INPUT!FE227","v":66.7},{"$f":"INPUT!FI227","v":52.6},{"$f":"INPUT!GB227","v":59},{"$f":"INPUT!GD227","v":4.5999999999999996}]
[{"$f":"INPUT!EU:EU","v":45219.151296296295},{"$f":"INPUT!FE228","v":66.7},{"$f":"INPUT!FI228","v":52.7},{"$f":"INPUT!GB228","v":59},{"$f":"INPUT!GD228","v":4.5999999999999996}]
[{"$f":"INPUT!EU:EU","v":45219.152002314811},{"$f":"INPUT!FE229","v":66.599999999999994},{"$f":"INPUT!FI229","v":52.7},{"$f":"INPUT!GB229","v":59},{"$f":"INPUT!GD229","v":2.7}]
[{"$f":"INPUT!EU:EU","v":45219.152696759258},{"$f":"INPUT!FE230","v":66.599999999999994},{"$f":"INPUT!FI230","v":52.7},{"$f":"INPUT!GB230","v":59},{"$f":"INPUT!GD230","v":2.8}]
[{"$f":"INPUT!EU:EU","v":45219.153402777774},{"$f":"INPUT!FE231","v":66.5},{"$f":"INPUT!FI231","v":52.7},{"$f":"INPUT!GB231","v":59},{"$f":"INPUT!GD231","v":6.8}]
[{"$f":"INPUT!EU:EU","v":45219.154097222221},{"$f":"INPUT!FE232","v":66.5},{"$f":"INPUT!FI232","v":52.6},{"$f":"INPUT!GB232","v":59},{"$f":"INPUT!GD232","v":4.5}]
[{"$f":"INPUT!EU:EU","v":45219.154791666668},{"$f":"INPUT!FE233","v":66.400000000000006},{"$f":"INPUT!FI233","v":52.7},{"$f":"INPUT!GB233","v":59},{"$f":"INPUT!GD233","v":4.5}]
[{"$f":"INPUT!EU:EU","v":45219.155497685184},{"$f":"INPUT!FE234","v":66.3},{"$f":"INPUT!FI234","v":52.6},{"$f":"INPUT!GB234","v":59},{"$f":"INPUT!GD234","v":4.5}]
[{"$f":"INPUT!EU:EU","v":45219.156215277777},{"$f":"INPUT!FE235","v":66.2},{"$f":"INPUT!FI235","v":52.6},{"$f":"INPUT!GB235","v":59},{"$f":"INPUT!GD235","v":4.5999999999999996}]
[{"$f":"INPUT!EU:EU","v":45219.156921296293},{"$f":"INPUT!FE236","v":66.2},{"$f":"INPUT!FI236","v":52.6},{"$f":"INPUT!GB236","v":59},{"$f":"INPUT!GD236","v":4.5}]
[{"$f":"INPUT!EU:EU","v":45219.157627314817},{"$f":"INPUT!FE237","v":66.099999999999994},{"$f":"INPUT!FI237","v":52.7},{"$f":"INPUT!GB237","v":59},{"$f":"INPUT!GD237","v":4.4000000000000004}]
[{"$f":"INPUT!EU:EU","v":45219.158321759256},{"$f":"INPUT!FE238","v":66.099999999999994},{"$f":"INPUT!FI238","v":52.7},{"$f":"INPUT!GB238","v":59},{"$f":"INPUT!GD238","v":2.7}]
[{"$f":"INPUT!EU:EU","v":45219.15902777778},{"$f":"INPUT!FE239","v":66},{"$f":"INPUT!FI239","v":52.7},{"$f":"INPUT!GB239","v":59},{"$f":"INPUT!GD239","v":2.7}]
[{"$f":"INPUT!EU:EU","v":45219.159733796296},{"$f":"INPUT!FE240","v":66},{"$f":"INPUT!FI240","v":52.7},{"$f":"INPUT!GB240","v":59},{"$f":"INPUT!GD240","v":5.3}]
[{"$f":"INPUT!EU:EU","v":45219.160439814812},{"$f":"INPUT!FE241","v":65.900000000000006},{"$f":"INPUT!FI241","v":52.6},{"$f":"INPUT!GB241","v":59},{"$f":"INPUT!GD241","v":4.4000000000000004}]
[{"$f":"INPUT!EU:EU","v":45219.161145833335},{"$f":"INPUT!FE242","v":65.8},{"$f":"INPUT!FI242","v":52.6},{"$f":"INPUT!GB242","v":59},{"$f":"INPUT!GD242","v":4.3}]
[{"$f":"INPUT!EU:EU","v":45219.161851851852},{"$f":"INPUT!FE243","v":65.8},{"$f":"INPUT!FI243","v":52.6},{"$f":"INPUT!GB243","v":59},{"$f":"INPUT!GD243","v":4.5999999999999996}]
[{"$f":"INPUT!EU:EU","v":45219.162546296298},{"$f":"INPUT!FE244","v":65.7},{"$f":"INPUT!FI244","v":52.6},{"$f":"INPUT!GB244","v":59},{"$f":"INPUT!GD244","v":4.5}]
[{"$f":"INPUT!EU:EU","v":45219.163263888891},{"$f":"INPUT!FE245","v":65.599999999999994},{"$f":"INPUT!FI245","v":52.6},{"$f":"INPUT!GB245","v":59},{"$f":"INPUT!GD245","v":4.5}]
[{"$f":"INPUT!EU:EU","v":45219.163969907408},{"$f":"INPUT!FE246","v":65.599999999999994},{"$f":"INPUT!FI246","v":52.7},{"$f":"INPUT!GB246","v":59},{"$f":"INPUT!GD246","v":4.4000000000000004}]
[{"$f":"INPUT!EU:EU","v":45219.164675925924},{"$f":"INPUT!FE247","v":65.5},{"$f":"INPUT!FI247","v":52.7},{"$f":"INPUT!GB247","v":59},{"$f":"INPUT!GD247","v":2.8}]
[{"$f":"INPUT!EU:EU","v":45219.165381944447},{"$f":"INPUT!FE248","v":65.5},{"$f":"INPUT!FI248","v":52.7},{"$f":"INPUT!GB248","v":59},{"$f":"INPUT!GD248","v":2.7}]
[{"$f":"INPUT!EU:EU","v":45219.166076388887},{"$f":"INPUT!FE249","v":65.400000000000006},{"$f":"INPUT!FI249","v":52.7},{"$f":"INPUT!GB249","v":59},{"$f":"INPUT!GD249","v":6.4}]
[{"$f":"INPUT!EU:EU","v":45219.16678240741},{"$f":"INPUT!FE250","v":65.400000000000006},{"$f":"INPUT!FI250","v":52.6},{"$f":"INPUT!GB250","v":59},{"$f":"INPUT!GD250","v":4.4000000000000004}]
[{"$f":"INPUT!EU:EU","v":45219.167488425926},{"$f":"INPUT!FE251","v":65.3},{"$f":"INPUT!FI251","v":52.6},{"$f":"INPUT!GB251","v":59},{"$f":"INPUT!GD251","v":4.5}]
[{"$f":"INPUT!EU:EU","v":45219.168194444443},{"$f":"INPUT!FE252","v":65.2},{"$f":"INPUT!FI252","v":52.6},{"$f":"INPUT!GB252","v":59},{"$f":"INPUT!GD252","v":4.5}]
[{"$f":"INPUT!EU:EU","v":45219.168888888889},{"$f":"INPUT!FE253","v":65.2},{"$f":"INPUT!FI253","v":52.6},{"$f":"INPUT!GB253","v":59},{"$f":"INPUT!GD253","v":4.5}]
[{"$f":"INPUT!EU:EU","v":45219.169606481482},{"$f":"INPUT!FE254","v":65.099999999999994},{"$f":"INPUT!FI254","v":52.6},{"$f":"INPUT!GB254","v":59},{"$f":"INPUT!GD254","v":4.4000000000000004}]
[{"$f":"INPUT!EU:EU","v":45219.170312499999},{"$f":"INPUT!FE255","v":65},{"$f":"INPUT!FI255","v":52.6},{"$f":"INPUT!GB255","v":59},{"$f":"INPUT!GD255","v":4.5}]
[{"$f":"INPUT!EU:EU","v":45219.171006944445},{"$f":"INPUT!FE256","v":65},{"$f":"INPUT!FI256","v":52.6},{"$f":"INPUT!GB256","v":59},{"$f":"INPUT!GD256","v":4.5}]
[{"$f":"INPUT!EU:EU","v":45219.171712962961},{"$f":"INPUT!FE257","v":64.900000000000006},{"$f":"INPUT!FI257","v":52.7},{"$f":"INPUT!GB257","v":59},{"$f":"INPUT!GD257","v":4.5}]
[{"$f":"INPUT!EU:EU","v":45219.172407407408},{"$f":"INPUT!FE258","v":64.900000000000006},{"$f":"INPUT!FI258","v":52.7},{"$f":"INPUT!GB258","v":59},{"$f":"INPUT!GD258","v":2.5}]
[{"$f":"INPUT!EU:EU","v":45219.173113425924},{"$f":"INPUT!FE259","v":64.8},{"$f":"INPUT!FI259","v":52.7},{"$f":"INPUT!GB259","v":59},{"$f":"INPUT!GD259","v":2.9}]
[{"$f":"INPUT!EU:EU","v":45219.173819444448},{"$f":"INPUT!FE260","v":64.8},{"$f":"INPUT!FI260","v":52.6},{"$f":"INPUT!GB260","v":59},{"$f":"INPUT!GD260","v":7.3}]
[{"$f":"INPUT!EU:EU","v":45219.174513888887},{"$f":"INPUT!FE261","v":64.7},{"$f":"INPUT!FI261","v":52.6},{"$f":"INPUT!GB261","v":59},{"$f":"INPUT!GD261","v":4.5}]
[{"$f":"INPUT!EU:EU","v":45219.175219907411},{"$f":"INPUT!FE262","v":64.7},{"$f":"INPUT!FI262","v":52.6},{"$f":"INPUT!GB262","v":59},{"$f":"INPUT!GD262","v":4.4000000000000004}]
[{"$f":"INPUT!EU:EU","v":45219.175925925927},{"$f":"INPUT!FE263","v":64.599999999999994},{"$f":"INPUT!FI263","v":52.6},{"$f":"INPUT!GB263","v":59},{"$f":"INPUT!GD263","v":4.5}]
[{"$f":"INPUT!EU:EU","v":45219.17664351852},{"$f":"INPUT!FE264","v":64.5},{"$f":"INPUT!FI264","v":52.6},{"$f":"INPUT!GB264","v":59},{"$f":"INPUT!GD264","v":4.5}]
[{"$f":"INPUT!EU:EU","v":45219.177337962959},{"$f":"INPUT!FE265","v":64.5},{"$f":"INPUT!FI265","v":52.6},{"$f":"INPUT!GB265","v":59},{"$f":"INPUT!GD265","v":4.5}]
[{"$f":"INPUT!EU:EU","v":45219.178043981483},{"$f":"INPUT!FE266","v":64.400000000000006},{"$f":"INPUT!FI266","v":52.7},{"$f":"INPUT!GB266","v":59},{"$f":"INPUT!GD266","v":2.6}]
[{"$f":"INPUT!EU:EU","v":45219.178749999999},{"$f":"INPUT!FE267","v":64.400000000000006},{"$f":"INPUT!FI267","v":52.7},{"$f":"INPUT!GB267","v":59},{"$f":"INPUT!GD267","v":2.7}]
[{"$f":"INPUT!EU:EU","v":45219.179444444446},{"$f":"INPUT!FE268","v":64.3},{"$f":"INPUT!FI268","v":52.7},{"$f":"INPUT!GB268","v":59},{"$f":"INPUT!GD268","v":7}]
[{"$f":"INPUT!EU:EU","v":45219.180150462962},{"$f":"INPUT!FE269","v":64.3},{"$f":"INPUT!FI269","v":52.6},{"$f":"INPUT!GB269","v":59},{"$f":"INPUT!GD269","v":4.4000000000000004}]
[{"$f":"INPUT!EU:EU","v":45219.180844907409},{"$f":"INPUT!FE270","v":64.2},{"$f":"INPUT!FI270","v":52.6},{"$f":"INPUT!GB270","v":59},{"$f":"INPUT!GD270","v":4.5}]
[{"$f":"INPUT!EU:EU","v":45219.181550925925},{"$f":"INPUT!FE271","v":64.099999999999994},{"$f":"INPUT!FI271","v":52.6},{"$f":"INPUT!GB271","v":59},{"$f":"INPUT!GD271","v":4.5}]
[{"$f":"INPUT!EU:EU","v":45219.182256944441},{"$f":"INPUT!FE272","v":64.099999999999994},{"$f":"INPUT!FI272","v":52.6},{"$f":"INPUT!GB272","v":59},{"$f":"INPUT!GD272","v":4.5}]
[{"$f":"INPUT!EU:EU","v":45219.182951388888},{"$f":"INPUT!FE273","v":64},{"$f":"INPUT!FI273","v":52.6},{"$f":"INPUT!GB273","v":59},{"$f":"INPUT!GD273","v":4.5}]
[{"$f":"INPUT!EU:EU","v":45219.183680555558},{"$f":"INPUT!FE274","v":63.9},{"$f":"INPUT!FI274","v":52.6},{"$f":"INPUT!GB274","v":59},{"$f":"INPUT!GD274","v":4.4000000000000004}]
[{"$f":"INPUT!EU:EU","v":45219.184374999997},{"$f":"INPUT!FE275","v":63.9},{"$f":"INPUT!FI275","v":52.6},{"$f":"INPUT!GB275","v":59},{"$f":"INPUT!GD275","v":4.4000000000000004}]
[{"$f":"INPUT!EU:EU","v":45219.185069444444},{"$f":"INPUT!FE276","v":63.8},{"$f":"INPUT!FI276","v":52.6},{"$f":"INPUT!GB276","v":59},{"$f":"INPUT!GD276","v":2.7}]
[{"$f":"INPUT!EU:EU","v":45219.18577546296},{"$f":"INPUT!FE277","v":63.8},{"$f":"INPUT!FI277","v":52.6},{"$f":"INPUT!GB277","v":59},{"$f":"INPUT!GD277","v":2.8}]
[{"$f":"INPUT!EU:EU","v":45219.186481481483},{"$f":"INPUT!FE278","v":63.8},{"$f":"INPUT!FI278","v":52.6},{"$f":"INPUT!GB278","v":59},{"$f":"INPUT!GD278","v":5.3}]
[{"$f":"INPUT!EU:EU","v":45219.1871875},{"$f":"INPUT!FE279","v":63.7},{"$f":"INPUT!FI279","v":52.6},{"$f":"INPUT!GB279","v":59},{"$f":"INPUT!GD279","v":4.5}]
[{"$f":"INPUT!EU:EU","v":45219.187881944446},{"$f":"INPUT!FE280","v":63.6},{"$f":"INPUT!FI280","v":52.6},{"$f":"INPUT!GB280","v":59},{"$f":"INPUT!GD280","v":4.5}]
[{"$f":"INPUT!EU:EU","v":45219.188587962963},{"$f":"INPUT!FE281","v":63.6},{"$f":"INPUT!FI281","v":52.6},{"$f":"INPUT!GB281","v":59},{"$f":"INPUT!GD281","v":4.5}]
[{"$f":"INPUT!EU:EU","v":45219.189293981479},{"$f":"INPUT!FE282","v":63.5},{"$f":"INPUT!FI282","v":52.6},{"$f":"INPUT!GB282","v":59},{"$f":"INPUT!GD282","v":4.5}]
[{"$f":"INPUT!EU:EU","v":45219.19},{"$f":"INPUT!FE283","v":63.4},{"$f":"INPUT!FI283","v":52.6},{"$f":"INPUT!GB283","v":59},{"$f":"INPUT!GD283","v":4.5}]
[{"$f":"INPUT!EU:EU","v":45219.190717592595},{"$f":"INPUT!FE284","v":63.4},{"$f":"INPUT!FI284","v":52.6},{"$f":"INPUT!GB284","v":59},{"$f":"INPUT!GD284","v":4.4000000000000004}]
[{"$f":"INPUT!EU:EU","v":45219.191423611112},{"$f":"INPUT!FE285","v":63.3},{"$f":"INPUT!FI285","v":52.6},{"$f":"INPUT!GB285","v":59},{"$f":"INPUT!GD285","v":4.3}]
[{"$f":"INPUT!EU:EU","v":45219.192129629628},{"$f":"INPUT!FE286","v":63.3},{"$f":"INPUT!FI286","v":52.6},{"$f":"INPUT!GB286","v":59},{"$f":"INPUT!GD286","v":2.7}]
[{"$f":"INPUT!EU:EU","v":45219.192824074074},{"$f":"INPUT!FE287","v":63.2},{"$f":"INPUT!FI287","v":52.6},{"$f":"INPUT!GB287","v":59},{"$f":"INPUT!GD287","v":3}]
[{"$f":"INPUT!EU:EU","v":45219.193518518521},{"$f":"INPUT!FE288","v":63.2},{"$f":"INPUT!FI288","v":52.6},{"$f":"INPUT!GB288","v":59},{"$f":"INPUT!GD288","v":8.5}]
[{"$f":"INPUT!EU:EU","v":45219.194224537037},{"$f":"INPUT!FE289","v":63.1},{"$f":"INPUT!FI289","v":52.6},{"$f":"INPUT!GB289","v":59},{"$f":"INPUT!GD289","v":4.5}]
[{"$f":"INPUT!EU:EU","v":45219.194930555554},{"$f":"INPUT!FE290","v":63.1},{"$f":"INPUT!FI290","v":52.6},{"$f":"INPUT!GB290","v":59},{"$f":"INPUT!GD290","v":4.4000000000000004}]
[{"$f":"INPUT!EU:EU","v":45219.195625},{"$f":"INPUT!FE291","v":63},{"$f":"INPUT!FI291","v":52.6},{"$f":"INPUT!GB291","v":59},{"$f":"INPUT!GD291","v":4.5}]
[{"$f":"INPUT!EU:EU","v":45219.196331018517},{"$f":"INPUT!FE292","v":62.9},{"$f":"INPUT!FI292","v":52.5},{"$f":"INPUT!GB292","v":59},{"$f":"INPUT!GD292","v":4.5}]
[{"$f":"INPUT!EU:EU","v":45219.19703703704},{"$f":"INPUT!FE293","v":62.9},{"$f":"INPUT!FI293","v":52.6},{"$f":"INPUT!GB293","v":59},{"$f":"INPUT!GD293","v":4.3}]
[{"$f":"INPUT!EU:EU","v":45219.197743055556},{"$f":"INPUT!FE294","v":62.8},{"$f":"INPUT!FI294","v":52.6},{"$f":"INPUT!GB294","v":59},{"$f":"INPUT!GD294","v":2.7}]
[{"$f":"INPUT!EU:EU","v":45219.198449074072},{"$f":"INPUT!FE295","v":62.8},{"$f":"INPUT!FI295","v":52.6},{"$f":"INPUT!GB295","v":59},{"$f":"INPUT!GD295","v":2.7}]
[{"$f":"INPUT!EU:EU","v":45219.199143518519},{"$f":"INPUT!FE296","v":62.7},{"$f":"INPUT!FI296","v":52.6},{"$f":"INPUT!GB296","v":59},{"$f":"INPUT!GD296","v":7.7}]
[{"$f":"INPUT!EU:EU","v":45219.199849537035},{"$f":"INPUT!FE297","v":62.7},{"$f":"INPUT!FI297","v":52.6},{"$f":"INPUT!GB297","v":59},{"$f":"INPUT!GD297","v":4.5}]
[{"$f":"INPUT!EU:EU","v":45219.200555555559},{"$f":"INPUT!FE298","v":62.6},{"$f":"INPUT!FI298","v":52.6},{"$f":"INPUT!GB298","v":59},{"$f":"INPUT!GD298","v":4.5}]
[{"$f":"INPUT!EU:EU","v":45219.201261574075},{"$f":"INPUT!FE299","v":62.5},{"$f":"INPUT!FI299","v":52.6},{"$f":"INPUT!GB299","v":59},{"$f":"INPUT!GD299","v":4.5}]
[{"$f":"INPUT!EU:EU","v":45219.201967592591},{"$f":"INPUT!FE300","v":62.5},{"$f":"INPUT!FI300","v":52.6},{"$f":"INPUT!GB300","v":59},{"$f":"INPUT!GD300","v":4.5}]
[{"$f":"INPUT!EU:EU","v":45219.202673611115},{"$f":"INPUT!FE301","v":62.4},{"$f":"INPUT!FI301","v":52.6},{"$f":"INPUT!GB301","v":59},{"$f":"INPUT!GD301","v":4.4000000000000004}]
[{"$f":"INPUT!EU:EU","v":45219.203368055554},{"$f":"INPUT!FE302","v":62.4},{"$f":"INPUT!FI302","v":52.6},{"$f":"INPUT!GB302","v":59},{"$f":"INPUT!GD302","v":4.3}]
[{"$f":"INPUT!EU:EU","v":45219.204074074078},{"$f":"INPUT!FE303","v":62.3},{"$f":"INPUT!FI303","v":52.6},{"$f":"INPUT!GB303","v":59},{"$f":"INPUT!GD303","v":2.8}]
[{"$f":"INPUT!EU:EU","v":45219.20480324074},{"$f":"INPUT!FE304","v":62.3},{"$f":"INPUT!FI304","v":52.6},{"$f":"INPUT!GB304","v":59},{"$f":"INPUT!GD304","v":2.8}]
[{"$f":"INPUT!EU:EU","v":45219.205509259256},{"$f":"INPUT!FE305","v":62.2},{"$f":"INPUT!FI305","v":52.6},{"$f":"INPUT!GB305","v":59},{"$f":"INPUT!GD305","v":6.2}]
[{"$f":"INPUT!EU:EU","v":45219.20621527778},{"$f":"INPUT!FE306","v":62.1},{"$f":"INPUT!FI306","v":52.6},{"$f":"INPUT!GB306","v":59},{"$f":"INPUT!GD306","v":4.4000000000000004}]
[{"$f":"INPUT!EU:EU","v":45219.206909722219},{"$f":"INPUT!FE307","v":62.1},{"$f":"INPUT!FI307","v":52.5},{"$f":"INPUT!GB307","v":59},{"$f":"INPUT!GD307","v":4.5}]
[{"$f":"INPUT!EU:EU","v":45219.207615740743},{"$f":"INPUT!FE308","v":62},{"$f":"INPUT!FI308","v":52.5},{"$f":"INPUT!GB308","v":59},{"$f":"INPUT!GD308","v":4.5}]
[{"$f":"INPUT!EU:EU","v":45219.208321759259},{"$f":"INPUT!FE309","v":61.9},{"$f":"INPUT!FI309","v":52.5},{"$f":"INPUT!GB309","v":59},{"$f":"INPUT!GD309","v":4.5}]
[{"$f":"INPUT!EU:EU","v":45219.209027777775},{"$f":"INPUT!FE310","v":61.9},{"$f":"INPUT!FI310","v":52.6},{"$f":"INPUT!GB310","v":59},{"$f":"INPUT!GD310","v":4.3}]
[{"$f":"INPUT!EU:EU","v":45219.209733796299},{"$f":"INPUT!FE311","v":61.9},{"$f":"INPUT!FI311","v":52.6},{"$f":"INPUT!GB311","v":59},{"$f":"INPUT!GD311","v":2.7}]
[{"$f":"INPUT!EU:EU","v":45219.210439814815},{"$f":"INPUT!FE312","v":61.8},{"$f":"INPUT!FI312","v":52.6},{"$f":"INPUT!GB312","v":59},{"$f":"INPUT!GD312","v":2.7}]
[{"$f":"INPUT!EU:EU","v":45219.211145833331},{"$f":"INPUT!FE313","v":61.8},{"$f":"INPUT!FI313","v":52.6},{"$f":"INPUT!GB313","v":59},{"$f":"INPUT!GD313","v":6.9}]
[{"$f":"INPUT!EU:EU","v":45219.211851851855},{"$f":"INPUT!FE314","v":61.7},{"$f":"INPUT!FI314","v":52.5},{"$f":"INPUT!GB314","v":59},{"$f":"INPUT!GD314","v":4.5}]
[{"$f":"INPUT!EU:EU","v":45219.212557870371},{"$f":"INPUT!FE315","v":61.6},{"$f":"INPUT!FI315","v":52.5},{"$f":"INPUT!GB315","v":59},{"$f":"INPUT!GD315","v":4.5}]
[{"$f":"INPUT!EU:EU","v":45219.213263888887},{"$f":"INPUT!FE316","v":61.6},{"$f":"INPUT!FI316","v":52.5},{"$f":"INPUT!GB316","v":59},{"$f":"INPUT!GD316","v":4.5}]
[{"$f":"INPUT!EU:EU","v":45219.213958333334},{"$f":"INPUT!FE317","v":61.5},{"$f":"INPUT!FI317","v":52.5},{"$f":"INPUT!GB317","v":59},{"$f":"INPUT!GD317","v":4.5}]
[{"$f":"INPUT!EU:EU","v":45219.21466435185},{"$f":"INPUT!FE318","v":61.4},{"$f":"INPUT!FI318","v":52.6},{"$f":"INPUT!GB318","v":59},{"$f":"INPUT!GD318","v":4.5}]
[{"$f":"INPUT!EU:EU","v":45219.215370370373},{"$f":"INPUT!FE319","v":61.4},{"$f":"INPUT!FI319","v":52.6},{"$f":"INPUT!GB319","v":59},{"$f":"INPUT!GD319","v":2.8}]
[{"$f":"INPUT!EU:EU","v":45219.21607638889},{"$f":"INPUT!FE320","v":61.3},{"$f":"INPUT!FI320","v":52.6},{"$f":"INPUT!GB320","v":59},{"$f":"INPUT!GD320","v":2.7}]
[{"$f":"INPUT!EU:EU","v":45219.216782407406},{"$f":"INPUT!FE321","v":61.3},{"$f":"INPUT!FI321","v":52.6},{"$f":"INPUT!GB321","v":59},{"$f":"INPUT!GD321","v":7.8}]
[{"$f":"INPUT!EU:EU","v":45219.217488425929},{"$f":"INPUT!FE322","v":61.2},{"$f":"INPUT!FI322","v":52.6},{"$f":"INPUT!GB322","v":59},{"$f":"INPUT!GD322","v":4.4000000000000004}]
[{"$f":"INPUT!EU:EU","v":45219.218206018515},{"$f":"INPUT!FE323","v":61.2},{"$f":"INPUT!FI323","v":52.6},{"$f":"INPUT!GB323","v":59},{"$f":"INPUT!GD323","v":4.4000000000000004}]
[{"$f":"INPUT!EU:EU","v":45219.218912037039},{"$f":"INPUT!FE324","v":61.1},{"$f":"INPUT!FI324","v":52.5},{"$f":"INPUT!GB324","v":59},{"$f":"INPUT!GD324","v":4.5}]
[{"$f":"INPUT!EU:EU","v":45219.219606481478},{"$f":"INPUT!FE325","v":61.1},{"$f":"INPUT!FI325","v":52.5},{"$f":"INPUT!GB325","v":59},{"$f":"INPUT!GD325","v":4.5}]
[{"$f":"INPUT!EU:EU","v":45219.220312500001},{"$f":"INPUT!FE326","v":61},{"$f":"INPUT!FI326","v":52.6},{"$f":"INPUT!GB326","v":59},{"$f":"INPUT!GD326","v":4.4000000000000004}]
[{"$f":"INPUT!EU:EU","v":45219.221018518518},{"$f":"INPUT!FE327","v":61},{"$f":"INPUT!FI327","v":52.6},{"$f":"INPUT!GB327","v":59},{"$f":"INPUT!GD327","v":2.7}]
[{"$f":"INPUT!EU:EU","v":45219.221724537034},{"$f":"INPUT!FE328","v":60.9},{"$f":"INPUT!FI328","v":52.6},{"$f":"INPUT!GB328","v":59},{"$f":"INPUT!GD328","v":2.6}]
[{"$f":"INPUT!EU:EU","v":45219.222418981481},{"$f":"INPUT!FE329","v":60.9},{"$f":"INPUT!FI329","v":52.6},{"$f":"INPUT!GB329","v":59},{"$f":"INPUT!GD329","v":8}]
[{"$f":"INPUT!EU:EU","v":45219.223124999997},{"$f":"INPUT!FE330","v":60.8},{"$f":"INPUT!FI330","v":52.6},{"$f":"INPUT!GB330","v":59},{"$f":"INPUT!GD330","v":4.5}]
[{"$f":"INPUT!EU:EU","v":45219.22383101852},{"$f":"INPUT!FE331","v":60.7},{"$f":"INPUT!FI331","v":52.5},{"$f":"INPUT!GB331","v":59},{"$f":"INPUT!GD331","v":4.4000000000000004}]
[{"$f":"INPUT!EU:EU","v":45219.22452546296},{"$f":"INPUT!FE332","v":60.7},{"$f":"INPUT!FI332","v":52.5},{"$f":"INPUT!GB332","v":59},{"$f":"INPUT!GD332","v":4.5}]
[{"$f":"INPUT!EU:EU","v":45219.225231481483},{"$f":"INPUT!FE333","v":60.6},{"$f":"INPUT!FI333","v":52.5},{"$f":"INPUT!GB333","v":59},{"$f":"INPUT!GD333","v":4.5}]
[{"$f":"INPUT!EU:EU","v":45219.225937499999},{"$f":"INPUT!FE334","v":60.6},{"$f":"INPUT!FI334","v":52.6},{"$f":"INPUT!GB334","v":59},{"$f":"INPUT!GD334","v":4.4000000000000004}]
[{"$f":"INPUT!EU:EU","v":45219.226643518516},{"$f":"INPUT!FE335","v":60.5},{"$f":"INPUT!FI335","v":52.6},{"$f":"INPUT!GB335","v":59},{"$f":"INPUT!GD335","v":2.7}]
[{"$f":"INPUT!EU:EU","v":45219.227349537039},{"$f":"INPUT!FE336","v":60.5},{"$f":"INPUT!FI336","v":52.6},{"$f":"INPUT!GB336","v":59},{"$f":"INPUT!GD336","v":2.7}]
[{"$f":"INPUT!EU:EU","v":45219.228043981479},{"$f":"INPUT!FE337","v":60.4},{"$f":"INPUT!FI337","v":52.6},{"$f":"INPUT!GB337","v":59},{"$f":"INPUT!GD337","v":7.2}]
[{"$f":"INPUT!EU:EU","v":45219.228750000002},{"$f":"INPUT!FE338","v":60.4},{"$f":"INPUT!FI338","v":52.5},{"$f":"INPUT!GB338","v":59},{"$f":"INPUT!GD338","v":4.4000000000000004}]
[{"$f":"INPUT!EU:EU","v":45219.229456018518},{"$f":"INPUT!FE339","v":60.3},{"$f":"INPUT!FI339","v":52.5},{"$f":"INPUT!GB339","v":59},{"$f":"INPUT!GD339","v":4.4000000000000004}]
[{"$f":"INPUT!EU:EU","v":45219.230162037034},{"$f":"INPUT!FE340","v":60.3},{"$f":"INPUT!FI340","v":52.5},{"$f":"INPUT!GB340","v":59},{"$f":"INPUT!GD340","v":4.5}]
[{"$f":"INPUT!EU:EU","v":45219.230868055558},{"$f":"INPUT!FE341","v":60.2},{"$f":"INPUT!FI341","v":52.5},{"$f":"INPUT!GB341","v":59},{"$f":"INPUT!GD341","v":4.5}]
[{"$f":"INPUT!EU:EU","v":45219.231574074074},{"$f":"INPUT!FE342","v":60.1},{"$f":"INPUT!FI342","v":52.6},{"$f":"INPUT!GB342","v":59},{"$f":"INPUT!GD342","v":4.5}]
[{"$f":"INPUT!EU:EU","v":45219.232291666667},{"$f":"INPUT!FE343","v":60.1},{"$f":"INPUT!FI343","v":52.6},{"$f":"INPUT!GB343","v":59},{"$f":"INPUT!GD343","v":2.6}]
[{"$f":"INPUT!EU:EU","v":45219.232997685183},{"$f":"INPUT!FE344","v":60.1},{"$f":"INPUT!FI344","v":52.6},{"$f":"INPUT!GB344","v":59},{"$f":"INPUT!GD344","v":2.7}]
[{"$f":"INPUT!EU:EU","v":45219.233703703707},{"$f":"INPUT!FE345","v":60},{"$f":"INPUT!FI345","v":52.6},{"$f":"INPUT!GB345","v":59},{"$f":"INPUT!GD345","v":7.3}]
[{"$f":"INPUT!EU:EU","v":45219.234409722223},{"$f":"INPUT!FE346","v":59.9},{"$f":"INPUT!FI346","v":52.5},{"$f":"INPUT!GB346","v":59},{"$f":"INPUT!GD346","v":4.4000000000000004}]
[{"$f":"INPUT!EU:EU","v":45219.235115740739},{"$f":"INPUT!FE347","v":59.9},{"$f":"INPUT!FI347","v":52.5},{"$f":"INPUT!GB347","v":59},{"$f":"INPUT!GD347","v":5.5}]
[{"$f":"INPUT!EU:EU","v":45219.235810185186},{"$f":"INPUT!FE348","v":59.8},{"$f":"INPUT!FI348","v":52.5},{"$f":"INPUT!GB348","v":59},{"$f":"INPUT!GD348","v":4.9000000000000004}]
[{"$f":"INPUT!EU:EU","v":45219.236516203702},{"$f":"INPUT!FE349","v":59.7},{"$f":"INPUT!FI349","v":52.5},{"$f":"INPUT!GB349","v":59},{"$f":"INPUT!GD349","v":4.9000000000000004}]
[{"$f":"INPUT!EU:EU","v":45219.237222222226},{"$f":"INPUT!FE350","v":59.7},{"$f":"INPUT!FI350","v":52.5},{"$f":"INPUT!GB350","v":59},{"$f":"INPUT!GD350","v":4.8}]
[{"$f":"INPUT!EU:EU","v":45219.237928240742},{"$f":"INPUT!FE351","v":59.6},{"$f":"INPUT!FI351","v":52.5},{"$f":"INPUT!GB351","v":59},{"$f":"INPUT!GD351","v":2.4}]
[{"$f":"INPUT!EU:EU","v":45219.238634259258},{"$f":"INPUT!FE352","v":59.6},{"$f":"INPUT!FI352","v":52.6},{"$f":"INPUT!GB352","v":59},{"$f":"INPUT!GD352","v":2.5}]
[{"$f":"INPUT!EU:EU","v":45219.239340277774},{"$f":"INPUT!FE353","v":59.5},{"$f":"INPUT!FI353","v":52.6},{"$f":"INPUT!GB353","v":59},{"$f":"INPUT!GD353","v":7.2}]
[{"$f":"INPUT!EU:EU","v":45219.240046296298},{"$f":"INPUT!FE354","v":59.5},{"$f":"INPUT!FI354","v":52.5},{"$f":"INPUT!GB354","v":59},{"$f":"INPUT!GD354","v":4.8}]
[{"$f":"INPUT!EU:EU","v":45219.240752314814},{"$f":"INPUT!FE355","v":59.4},{"$f":"INPUT!FI355","v":52.5},{"$f":"INPUT!GB355","v":59},{"$f":"INPUT!GD355","v":4.8}]
[{"$f":"INPUT!EU:EU","v":45219.241446759261},{"$f":"INPUT!FE356","v":59.3},{"$f":"INPUT!FI356","v":52.5},{"$f":"INPUT!GB356","v":59},{"$f":"INPUT!GD356","v":4.8}]
[{"$f":"INPUT!EU:EU","v":45219.242152777777},{"$f":"INPUT!FE357","v":59.3},{"$f":"INPUT!FI357","v":52.5},{"$f":"INPUT!GB357","v":59},{"$f":"INPUT!GD357","v":4.9000000000000004}]
[{"$f":"INPUT!EU:EU","v":45219.242858796293},{"$f":"INPUT!FE358","v":59.2},{"$f":"INPUT!FI358","v":52.6},{"$f":"INPUT!GB358","v":59},{"$f":"INPUT!GD358","v":4.9000000000000004}]
[{"$f":"INPUT!EU:EU","v":45219.24355324074},{"$f":"INPUT!FE359","v":59.2},{"$f":"INPUT!FI359","v":52.6},{"$f":"INPUT!GB359","v":59},{"$f":"INPUT!GD359","v":2.6}]
[{"$f":"INPUT!EU:EU","v":45219.244259259256},{"$f":"INPUT!FE360","v":59.1},{"$f":"INPUT!FI360","v":52.6},{"$f":"INPUT!GB360","v":59},{"$f":"INPUT!GD360","v":2.7}]
[{"$f":"INPUT!EU:EU","v":45219.24496527778},{"$f":"INPUT!FE361","v":59.1},{"$f":"INPUT!FI361","v":52.6},{"$f":"INPUT!GB361","v":59},{"$f":"INPUT!GD361","v":8.1}]
[{"$f":"INPUT!EU:EU","v":45219.245671296296},{"$f":"INPUT!FE362","v":59},{"$f":"INPUT!FI362","v":52.5},{"$f":"INPUT!GB362","v":59},{"$f":"INPUT!GD362","v":4.4000000000000004}]
[{"$f":"INPUT!EU:EU","v":45219.246388888889},{"$f":"INPUT!FE363","v":59},{"$f":"INPUT!FI363","v":52.5},{"$f":"INPUT!GB363","v":59},{"$f":"INPUT!GD363","v":4.4000000000000004}]
[{"$f":"INPUT!EU:EU","v":45219.247083333335},{"$f":"INPUT!FE364","v":58.9},{"$f":"INPUT!FI364","v":52.5},{"$f":"INPUT!GB364","v":59},{"$f":"INPUT!GD364","v":4.4000000000000004}]
[{"$f":"INPUT!EU:EU","v":45219.247789351852},{"$f":"INPUT!FE365","v":58.8},{"$f":"INPUT!FI365","v":52.5},{"$f":"INPUT!GB365","v":59},{"$f":"INPUT!GD365","v":4.4000000000000004}]
[{"$f":"INPUT!EU:EU","v":45219.248495370368},{"$f":"INPUT!FE366","v":58.8},{"$f":"INPUT!FI366","v":52.6},{"$f":"INPUT!GB366","v":59},{"$f":"INPUT!GD366","v":4.3}]
[{"$f":"INPUT!EU:EU","v":45219.249189814815},{"$f":"INPUT!FE367","v":58.7},{"$f":"INPUT!FI367","v":52.6},{"$f":"INPUT!GB367","v":59},{"$f":"INPUT!GD367","v":2.7}]
[{"$f":"INPUT!EU:EU","v":45219.249895833331},{"$f":"INPUT!FE368","v":58.7},{"$f":"INPUT!FI368","v":52.6},{"$f":"INPUT!GB368","v":59},{"$f":"INPUT!GD368","v":3}]
[{"$f":"INPUT!EU:EU","v":45219.250590277778},{"$f":"INPUT!FE369","v":58.6},{"$f":"INPUT!FI369","v":52.5},{"$f":"INPUT!GB369","v":59},{"$f":"INPUT!GD369","v":5.6}]
[{"$f":"INPUT!EU:EU","v":45219.251296296294},{"$f":"INPUT!FE370","v":58.6},{"$f":"INPUT!FI370","v":52.5},{"$f":"INPUT!GB370","v":59},{"$f":"INPUT!GD370","v":4.4000000000000004}]
[{"$f":"INPUT!EU:EU","v":45219.252002314817},{"$f":"INPUT!FE371","v":58.5},{"$f":"INPUT!FI371","v":52.5},{"$f":"INPUT!GB371","v":59},{"$f":"INPUT!GD371","v":4.3}]
[{"$f":"INPUT!EU:EU","v":45219.252708333333},{"$f":"INPUT!FE372","v":58.4},{"$f":"INPUT!FI372","v":52.5},{"$f":"INPUT!GB372","v":59},{"$f":"INPUT!GD372","v":4.5}]
[{"$f":"INPUT!EU:EU","v":45219.253425925926},{"$f":"INPUT!FE373","v":58.4},{"$f":"INPUT!FI373","v":52.5},{"$f":"INPUT!GB373","v":59},{"$f":"INPUT!GD373","v":4.5}]
[{"$f":"INPUT!EU:EU","v":45219.254120370373},{"$f":"INPUT!FE374","v":58.3},{"$f":"INPUT!FI374","v":52.5},{"$f":"INPUT!GB374","v":59},{"$f":"INPUT!GD374","v":4.4000000000000004}]
[{"$f":"INPUT!EU:EU","v":45219.254826388889},{"$f":"INPUT!FE375","v":58.3},{"$f":"INPUT!FI375","v":52.6},{"$f":"INPUT!GB375","v":59},{"$f":"INPUT!GD375","v":2.7}]
[{"$f":"INPUT!EU:EU","v":45219.255532407406},{"$f":"INPUT!FE376","v":58.2},{"$f":"INPUT!FI376","v":52.6},{"$f":"INPUT!GB376","v":59},{"$f":"INPUT!GD376","v":2.9}]
[{"$f":"INPUT!EU:EU","v":45219.256238425929},{"$f":"INPUT!FE377","v":58.1},{"$f":"INPUT!FI377","v":52.5},{"$f":"INPUT!GB377","v":59},{"$f":"INPUT!GD377","v":6.7}]
[{"$f":"INPUT!EU:EU","v":45219.256932870368},{"$f":"INPUT!FE378","v":58.1},{"$f":"INPUT!FI378","v":52.5},{"$f":"INPUT!GB378","v":59},{"$f":"INPUT!GD378","v":4.5}]
[{"$f":"INPUT!EU:EU","v":45219.257638888892},{"$f":"INPUT!FE379","v":58},{"$f":"INPUT!FI379","v":52.5},{"$f":"INPUT!GB379","v":59},{"$f":"INPUT!GD379","v":4.5}]
[{"$f":"INPUT!EU:EU","v":45219.258344907408},{"$f":"INPUT!FE380","v":57.9},{"$f":"INPUT!FI380","v":52.5},{"$f":"INPUT!GB380","v":59},{"$f":"INPUT!GD380","v":4.5}]
[{"$f":"INPUT!EU:EU","v":45219.259050925924},{"$f":"INPUT!FE381","v":57.9},{"$f":"INPUT!FI381","v":52.5},{"$f":"INPUT!GB381","v":59},{"$f":"INPUT!GD381","v":4.5}]
[{"$f":"INPUT!EU:EU","v":45219.259745370371},{"$f":"INPUT!FE382","v":57.8},{"$f":"INPUT!FI382","v":52.5},{"$f":"INPUT!GB382","v":59},{"$f":"INPUT!GD382","v":2.7}]
[{"$f":"INPUT!EU:EU","v":45219.260462962964},{"$f":"INPUT!FE383","v":57.8},{"$f":"INPUT!FI383","v":52.5},{"$f":"INPUT!GB383","v":59},{"$f":"INPUT!GD383","v":2.7}]
[{"$f":"INPUT!EU:EU","v":45219.26116898148},{"$f":"INPUT!FE384","v":57.7},{"$f":"INPUT!FI384","v":52.5},{"$f":"INPUT!GB384","v":59},{"$f":"INPUT!GD384","v":8.4}]
[{"$f":"INPUT!EU:EU","v":45219.261874999997},{"$f":"INPUT!FE385","v":57.7},{"$f":"INPUT!FI385","v":52.5},{"$f":"INPUT!GB385","v":59},{"$f":"INPUT!GD385","v":4.5999999999999996}]
[{"$f":"INPUT!EU:EU","v":45219.26258101852},{"$f":"INPUT!FE386","v":57.6},{"$f":"INPUT!FI386","v":52.5},{"$f":"INPUT!GB386","v":59},{"$f":"INPUT!GD386","v":4.4000000000000004}]
[{"$f":"INPUT!EU:EU","v":45219.263275462959},{"$f":"INPUT!FE387","v":57.5},{"$f":"INPUT!FI387","v":52.5},{"$f":"INPUT!GB387","v":59},{"$f":"INPUT!GD387","v":4.5}]
[{"$f":"INPUT!EU:EU","v":45219.263981481483},{"$f":"INPUT!FE388","v":57.5},{"$f":"INPUT!FI388","v":52.5},{"$f":"INPUT!GB388","v":59},{"$f":"INPUT!GD388","v":4.5}]
[{"$f":"INPUT!EU:EU","v":45219.264687499999},{"$f":"INPUT!FE389","v":57.4},{"$f":"INPUT!FI389","v":52.5},{"$f":"INPUT!GB389","v":59},{"$f":"INPUT!GD389","v":4.5}]
[{"$f":"INPUT!EU:EU","v":45219.265381944446},{"$f":"INPUT!FE390","v":57.4},{"$f":"INPUT!FI390","v":52.6},{"$f":"INPUT!GB390","v":59},{"$f":"INPUT!GD390","v":2.7}]
[{"$f":"INPUT!EU:EU","v":45219.266087962962},{"$f":"INPUT!FE391","v":57.3},{"$f":"INPUT!FI391","v":52.6},{"$f":"INPUT!GB391","v":59},{"$f":"INPUT!GD391","v":2.7}]
[{"$f":"INPUT!EU:EU","v":45219.266782407409},{"$f":"INPUT!FE392","v":57.3},{"$f":"INPUT!FI392","v":52.6},{"$f":"INPUT!GB392","v":59},{"$f":"INPUT!GD392","v":8.1}]
[{"$f":"INPUT!EU:EU","v":45219.267500000002},{"$f":"INPUT!FE393","v":57.2},{"$f":"INPUT!FI393","v":52.5},{"$f":"INPUT!GB393","v":59},{"$f":"INPUT!GD393","v":4.5}]
[{"$f":"INPUT!EU:EU","v":45219.268206018518},{"$f":"INPUT!FE394","v":57.2},{"$f":"INPUT!FI394","v":52.5},{"$f":"INPUT!GB394","v":59},{"$f":"INPUT!GD394","v":4.4000000000000004}]
[{"$f":"INPUT!EU:EU","v":45219.268912037034},{"$f":"INPUT!FE395","v":57.1},{"$f":"INPUT!FI395","v":52.5},{"$f":"INPUT!GB395","v":59},{"$f":"INPUT!GD395","v":4.4000000000000004}]
[{"$f":"INPUT!EU:EU","v":45219.269618055558},{"$f":"INPUT!FE396","v":57},{"$f":"INPUT!FI396","v":52.5},{"$f":"INPUT!GB396","v":59},{"$f":"INPUT!GD396","v":4.5}]
[{"$f":"INPUT!EU:EU","v":45219.270324074074},{"$f":"INPUT!FE397","v":57},{"$f":"INPUT!FI397","v":52.5},{"$f":"INPUT!GB397","v":59},{"$f":"INPUT!GD397","v":4.4000000000000004}]
[{"$f":"INPUT!EU:EU","v":45219.271018518521},{"$f":"INPUT!FE398","v":56.9},{"$f":"INPUT!FI398","v":52.6},{"$f":"INPUT!GB398","v":59},{"$f":"INPUT!GD398","v":2.8}]
[{"$f":"INPUT!EU:EU","v":45219.271724537037},{"$f":"INPUT!FE399","v":56.9},{"$f":"INPUT!FI399","v":52.6},{"$f":"INPUT!GB399","v":59},{"$f":"INPUT!GD399","v":2.8}]
[{"$f":"INPUT!EU:EU","v":45219.272430555553},{"$f":"INPUT!FE400","v":56.8},{"$f":"INPUT!FI400","v":52.6},{"$f":"INPUT!GB400","v":59},{"$f":"INPUT!GD400","v":8.1999999999999993}]
[{"$f":"INPUT!EU:EU","v":45219.273136574076},{"$f":"INPUT!FE401","v":56.8},{"$f":"INPUT!FI401","v":52.5},{"$f":"INPUT!GB401","v":59},{"$f":"INPUT!GD401","v":4.5}]
[{"$f":"INPUT!EU:EU","v":45219.273854166669},{"$f":"INPUT!FE402","v":56.7},{"$f":"INPUT!FI402","v":52.5},{"$f":"INPUT!GB402","v":59},{"$f":"INPUT!GD402","v":4.3}]
[{"$f":"INPUT!EU:EU","v":45219.274548611109},{"$f":"INPUT!FE403","v":56.7},{"$f":"INPUT!FI403","v":52.5},{"$f":"INPUT!GB403","v":59},{"$f":"INPUT!GD403","v":4.4000000000000004}]
[{"$f":"INPUT!EU:EU","v":45219.275254629632},{"$f":"INPUT!FE404","v":56.6},{"$f":"INPUT!FI404","v":52.5},{"$f":"INPUT!GB404","v":59},{"$f":"INPUT!GD404","v":4.5}]
[{"$f":"INPUT!EU:EU","v":45219.275960648149},{"$f":"INPUT!FE405","v":56.5},{"$f":"INPUT!FI405","v":52.6},{"$f":"INPUT!GB405","v":59},{"$f":"INPUT!GD405","v":4.4000000000000004}]
[{"$f":"INPUT!EU:EU","v":45219.276666666665},{"$f":"INPUT!FE406","v":56.5},{"$f":"INPUT!FI406","v":52.6},{"$f":"INPUT!GB406","v":59},{"$f":"INPUT!GD406","v":2.7}]
[{"$f":"INPUT!EU:EU","v":45219.277372685188},{"$f":"INPUT!FE407","v":56.5},{"$f":"INPUT!FI407","v":52.6},{"$f":"INPUT!GB407","v":59},{"$f":"INPUT!GD407","v":2.7}]
[{"$f":"INPUT!EU:EU","v":45219.278067129628},{"$f":"INPUT!FE408","v":56.4},{"$f":"INPUT!FI408","v":52.6},{"$f":"INPUT!GB408","v":59},{"$f":"INPUT!GD408","v":2.9}]
[{"$f":"INPUT!EU:EU","v":45219.278773148151},{"$f":"INPUT!FE409","v":56.4},{"$f":"INPUT!FI409","v":52.6},{"$f":"INPUT!GB409","v":59},{"$f":"INPUT!GD409","v":8}]
[{"$f":"INPUT!EU:EU","v":45219.279479166667},{"$f":"INPUT!FE410","v":56.3},{"$f":"INPUT!FI410","v":52.5},{"$f":"INPUT!GB410","v":59},{"$f":"INPUT!GD410","v":4.4000000000000004}]
[{"$f":"INPUT!EU:EU","v":45219.280185185184},{"$f":"INPUT!FE411","v":56.2},{"$f":"INPUT!FI411","v":52.5},{"$f":"INPUT!GB411","v":59},{"$f":"INPUT!GD411","v":4.4000000000000004}]
[{"$f":"INPUT!EU:EU","v":45219.280891203707},{"$f":"INPUT!FE412","v":56.2},{"$f":"INPUT!FI412","v":52.5},{"$f":"INPUT!GB412","v":59},{"$f":"INPUT!GD412","v":4.4000000000000004}]
[{"$f":"INPUT!EU:EU","v":45219.281597222223},{"$f":"INPUT!FE413","v":56.1},{"$f":"INPUT!FI413","v":52.5},{"$f":"INPUT!GB413","v":59},{"$f":"INPUT!GD413","v":4.3}]
[{"$f":"INPUT!EU:EU","v":45219.28230324074},{"$f":"INPUT!FE414","v":56.1},{"$f":"INPUT!FI414","v":52.6},{"$f":"INPUT!GB414","v":59},{"$f":"INPUT!GD414","v":2.7}]
[{"$f":"INPUT!EU:EU","v":45219.282997685186},{"$f":"INPUT!FE415","v":56},{"$f":"INPUT!FI415","v":52.6},{"$f":"INPUT!GB415","v":59},{"$f":"INPUT!GD415","v":2.8}]
[{"$f":"INPUT!EU:EU","v":45219.283692129633},{"$f":"INPUT!FE416","v":56},{"$f":"INPUT!FI416","v":52.6},{"$f":"INPUT!GB416","v":59},{"$f":"INPUT!GD416","v":2.8}]
[{"$f":"INPUT!EU:EU","v":45219.284398148149},{"$f":"INPUT!FE417","v":56},{"$f":"INPUT!FI417","v":52.6},{"$f":"INPUT!GB417","v":59},{"$f":"INPUT!GD417","v":6.4}]
[{"$f":"INPUT!EU:EU","v":45219.285104166665},{"$f":"INPUT!FE418","v":55.9},{"$f":"INPUT!FI418","v":52.5},{"$f":"INPUT!GB418","v":59},{"$f":"INPUT!GD418","v":4.4000000000000004}]
[{"$f":"INPUT!EU:EU","v":45219.285810185182},{"$f":"INPUT!FE419","v":55.8},{"$f":"INPUT!FI419","v":52.5},{"$f":"INPUT!GB419","v":59},{"$f":"INPUT!GD419","v":4.3}]
[{"$f":"INPUT!EU:EU","v":45219.286516203705},{"$f":"INPUT!FE420","v":55.8},{"$f":"INPUT!FI420","v":52.5},{"$f":"INPUT!GB420","v":59},{"$f":"INPUT!GD420","v":4.5}]
[{"$f":"INPUT!EU:EU","v":45219.287222222221},{"$f":"INPUT!FE421","v":55.7},{"$f":"INPUT!FI421","v":52.6},{"$f":"INPUT!GB421","v":59},{"$f":"INPUT!GD421","v":2.6}]
[{"$f":"INPUT!EU:EU","v":45219.287928240738},{"$f":"INPUT!FE422","v":55.7},{"$f":"INPUT!FI422","v":52.6},{"$f":"INPUT!GB422","v":59},{"$f":"INPUT!GD422","v":2.6}]
[{"$f":"INPUT!EU:EU","v":45219.288634259261},{"$f":"INPUT!FE423","v":55.7},{"$f":"INPUT!FI423","v":52.6},{"$f":"INPUT!GB423","v":59},{"$f":"INPUT!GD423","v":2.6}]
[{"$f":"INPUT!EU:EU","v":45219.2893287037},{"$f":"INPUT!FE424","v":55.6},{"$f":"INPUT!FI424","v":52.6},{"$f":"INPUT!GB424","v":59},{"$f":"INPUT!GD424","v":2.6}]
[{"$f":"INPUT!EU:EU","v":45219.290034722224},{"$f":"INPUT!FE425","v":55.6},{"$f":"INPUT!FI425","v":52.6},{"$f":"INPUT!GB425","v":59},{"$f":"INPUT!GD425","v":2.6}]
[{"$f":"INPUT!EU:EU","v":45219.29074074074},{"$f":"INPUT!FE426","v":55.5},{"$f":"INPUT!FI426","v":52.6},{"$f":"INPUT!GB426","v":59},{"$f":"INPUT!GD426","v":2.6}]
[{"$f":"INPUT!EU:EU","v":45219.291446759256},{"$f":"INPUT!FE427","v":55.5},{"$f":"INPUT!FI427","v":52.6},{"$f":"INPUT!GB427","v":59},{"$f":"INPUT!GD427","v":2.6}]
[{"$f":"INPUT!EU:EU","v":45219.292141203703},{"$f":"INPUT!FE428","v":55.5},{"$f":"INPUT!FI428","v":52.6},{"$f":"INPUT!GB428","v":59},{"$f":"INPUT!GD428","v":2.6}]
[{"$f":"INPUT!EU:EU","v":45219.292847222219},{"$f":"INPUT!FE429","v":55.4},{"$f":"INPUT!FI429","v":52.6},{"$f":"INPUT!GB429","v":59},{"$f":"INPUT!GD429","v":2.6}]
[{"$f":"INPUT!EU:EU","v":45219.293553240743},{"$f":"INPUT!FE430","v":55.4},{"$f":"INPUT!FI430","v":52.6},{"$f":"INPUT!GB430","v":59},{"$f":"INPUT!GD430","v":2.6}]
[{"$f":"INPUT!EU:EU","v":45219.294259259259},{"$f":"INPUT!FE431","v":55.3},{"$f":"INPUT!FI431","v":52.6},{"$f":"INPUT!GB431","v":59},{"$f":"INPUT!GD431","v":2.6}]
[{"$f":"INPUT!EU:EU","v":45219.294988425929},{"$f":"INPUT!FE432","v":55.3},{"$f":"INPUT!FI432","v":52.6},{"$f":"INPUT!GB432","v":59},{"$f":"INPUT!GD432","v":2.7}]
[{"$f":"INPUT!EU:EU","v":45219.295694444445},{"$f":"INPUT!FE433","v":55.3},{"$f":"INPUT!FI433","v":52.6},{"$f":"INPUT!GB433","v":59},{"$f":"INPUT!GD433","v":2.6}]
[{"$f":"INPUT!EU:EU","v":45219.296388888892},{"$f":"INPUT!FE434","v":55.2},{"$f":"INPUT!FI434","v":52.6},{"$f":"INPUT!GB434","v":59},{"$f":"INPUT!GD434","v":2.6}]
[{"$f":"INPUT!EU:EU","v":45219.297094907408},{"$f":"INPUT!FE435","v":55.2},{"$f":"INPUT!FI435","v":52.6},{"$f":"INPUT!GB435","v":59},{"$f":"INPUT!GD435","v":2.6}]
[{"$f":"INPUT!EU:EU","v":45219.297800925924},{"$f":"INPUT!FE436","v":55.1},{"$f":"INPUT!FI436","v":52.6},{"$f":"INPUT!GB436","v":59},{"$f":"INPUT!GD436","v":2.6}]
[{"$f":"INPUT!EU:EU","v":45219.298506944448},{"$f":"INPUT!FE437","v":55.1},{"$f":"INPUT!FI437","v":52.6},{"$f":"INPUT!GB437","v":59},{"$f":"INPUT!GD437","v":2.6}]
[{"$f":"INPUT!EU:EU","v":45219.299212962964},{"$f":"INPUT!FE438","v":55},{"$f":"INPUT!FI438","v":52.6},{"$f":"INPUT!GB438","v":59},{"$f":"INPUT!GD438","v":3.3}]
[{"$f":"INPUT!EU:EU","v":45219.29991898148},{"$f":"INPUT!FE439","v":55},{"$f":"INPUT!FI439","v":52.6},{"$f":"INPUT!GB439","v":59},{"$f":"INPUT!GD439","v":3.2}]
[{"$f":"INPUT!EU:EU","v":45219.300613425927},{"$f":"INPUT!FE440","v":55},{"$f":"INPUT!FI440","v":52.6},{"$f":"INPUT!GB440","v":59},{"$f":"INPUT!GD440","v":2.9}]
[{"$f":"INPUT!EU:EU","v":45219.301319444443},{"$f":"INPUT!FE441","v":54.9},{"$f":"INPUT!FI441","v":52.6},{"$f":"INPUT!GB441","v":59},{"$f":"INPUT!GD441","v":3.3}]
[{"$f":"INPUT!EU:EU","v":45219.302025462966},{"$f":"INPUT!FE442","v":54.9},{"$f":"INPUT!FI442","v":52.6},{"$f":"INPUT!GB442","v":59},{"$f":"INPUT!GD442","v":3.2}]
[{"$f":"INPUT!EU:EU","v":45219.302731481483},{"$f":"INPUT!FE443","v":54.8},{"$f":"INPUT!FI443","v":52.6},{"$f":"INPUT!GB443","v":59},{"$f":"INPUT!GD443","v":3.3}]
[{"$f":"INPUT!EU:EU","v":45219.303437499999},{"$f":"INPUT!FE444","v":54.8},{"$f":"INPUT!FI444","v":52.6},{"$f":"INPUT!GB444","v":59},{"$f":"INPUT!GD444","v":3}]
[{"$f":"INPUT!EU:EU","v":45219.304131944446},{"$f":"INPUT!FE445","v":54.7},{"$f":"INPUT!FI445","v":52.5},{"$f":"INPUT!GB445","v":59},{"$f":"INPUT!GD445","v":3.2}]
[{"$f":"INPUT!EU:EU","v":45219.304837962962},{"$f":"INPUT!FE446","v":54.7},{"$f":"INPUT!FI446","v":52.5},{"$f":"INPUT!GB446","v":59},{"$f":"INPUT!GD446","v":2.9}]
[{"$f":"INPUT!EU:EU","v":45219.305532407408},{"$f":"INPUT!FE447","v":54.6},{"$f":"INPUT!FI447","v":52.5},{"$f":"INPUT!GB447","v":59},{"$f":"INPUT!GD447","v":3.2}]
[{"$f":"INPUT!EU:EU","v":45219.306238425925},{"$f":"INPUT!FE448","v":54.6},{"$f":"INPUT!FI448","v":52.5},{"$f":"INPUT!GB448","v":59},{"$f":"INPUT!GD448","v":3.2}]
[{"$f":"INPUT!EU:EU","v":45219.306944444441},{"$f":"INPUT!FE449","v":54.5},{"$f":"INPUT!FI449","v":52.5},{"$f":"INPUT!GB449","v":59.1},{"$f":"INPUT!GD449","v":8.1}]
[{"$f":"INPUT!EU:EU","v":45219.307650462964},{"$f":"INPUT!FE450","v":54.5},{"$f":"INPUT!FI450","v":52.5},{"$f":"INPUT!GB450","v":59},{"$f":"INPUT!GD450","v":10.5}]
[{"$f":"INPUT!EU:EU","v":45219.308344907404},{"$f":"INPUT!FE451","v":54.4},{"$f":"INPUT!FI451","v":52.5},{"$f":"INPUT!GB451","v":59},{"$f":"INPUT!GD451","v":3}]
[{"$f":"INPUT!EU:EU","v":45219.309062499997},{"$f":"INPUT!FE452","v":54.4},{"$f":"INPUT!FI452","v":52.5},{"$f":"INPUT!GB452","v":59},{"$f":"INPUT!GD452","v":3}]
[{"$f":"INPUT!EU:EU","v":45219.30976851852},{"$f":"INPUT!FE453","v":54.3},{"$f":"INPUT!FI453","v":52.5},{"$f":"INPUT!GB453","v":59},{"$f":"INPUT!GD453","v":3}]
[{"$f":"INPUT!EU:EU","v":45219.310474537036},{"$f":"INPUT!FE454","v":54.3},{"$f":"INPUT!FI454","v":52.5},{"$f":"INPUT!GB454","v":59},{"$f":"INPUT!GD454","v":3}]
[{"$f":"INPUT!EU:EU","v":45219.311180555553},{"$f":"INPUT!FE455","v":54.3},{"$f":"INPUT!FI455","v":52.5},{"$f":"INPUT!GB455","v":59},{"$f":"INPUT!GD455","v":3}]
[{"$f":"INPUT!EU:EU","v":45219.311886574076},{"$f":"INPUT!FE456","v":54.2},{"$f":"INPUT!FI456","v":52.5},{"$f":"INPUT!GB456","v":59.1},{"$f":"INPUT!GD456","v":7.8}]
[{"$f":"INPUT!EU:EU","v":45219.312592592592},{"$f":"INPUT!FE457","v":54.2},{"$f":"INPUT!FI457","v":52.5},{"$f":"INPUT!GB457","v":59},{"$f":"INPUT!GD457","v":2.8}]
[{"$f":"INPUT!EU:EU","v":45219.313287037039},{"$f":"INPUT!FE458","v":54.1},{"$f":"INPUT!FI458","v":52.5},{"$f":"INPUT!GB458","v":59},{"$f":"INPUT!GD458","v":2.9}]
[{"$f":"INPUT!EU:EU","v":45219.313993055555},{"$f":"INPUT!FE459","v":54.1},{"$f":"INPUT!FI459","v":52.5},{"$f":"INPUT!GB459","v":59},{"$f":"INPUT!GD459","v":3}]
[{"$f":"INPUT!EU:EU","v":45219.314699074072},{"$f":"INPUT!FE460","v":54},{"$f":"INPUT!FI460","v":52.5},{"$f":"INPUT!GB460","v":59},{"$f":"INPUT!GD460","v":3}]
[{"$f":"INPUT!EU:EU","v":45219.315405092595},{"$f":"INPUT!FE461","v":54},{"$f":"INPUT!FI461","v":52.6},{"$f":"INPUT!GB461","v":59},{"$f":"INPUT!GD461","v":3}]
[{"$f":"INPUT!EU:EU","v":45219.316122685188},{"$f":"INPUT!FE462","v":54},{"$f":"INPUT!FI462","v":52.6},{"$f":"INPUT!GB462","v":59},{"$f":"INPUT!GD462","v":2.9}]
[{"$f":"INPUT!EU:EU","v":45219.316817129627},{"$f":"INPUT!FE463","v":53.9},{"$f":"INPUT!FI463","v":52.6},{"$f":"INPUT!GB463","v":59},{"$f":"INPUT!GD463","v":2.9}]
[{"$f":"INPUT!EU:EU","v":45219.317523148151},{"$f":"INPUT!FE464","v":53.9},{"$f":"INPUT!FI464","v":52.5},{"$f":"INPUT!GB464","v":59},{"$f":"INPUT!GD464","v":2.9}]
[{"$f":"INPUT!EU:EU","v":45219.318229166667},{"$f":"INPUT!FE465","v":53.8},{"$f":"INPUT!FI465","v":52.5},{"$f":"INPUT!GB465","v":59},{"$f":"INPUT!GD465","v":2.8}]
[{"$f":"INPUT!EU:EU","v":45219.318935185183},{"$f":"INPUT!FE466","v":53.8},{"$f":"INPUT!FI466","v":52.6},{"$f":"INPUT!GB466","v":59},{"$f":"INPUT!GD466","v":2.8}]
[{"$f":"INPUT!EU:EU","v":45219.319641203707},{"$f":"INPUT!FE467","v":53.7},{"$f":"INPUT!FI467","v":52.5},{"$f":"INPUT!GB467","v":59},{"$f":"INPUT!GD467","v":2.8}]
[{"$f":"INPUT!EU:EU","v":45219.320347222223},{"$f":"INPUT!FE468","v":53.7},{"$f":"INPUT!FI468","v":52.6},{"$f":"INPUT!GB468","v":59},{"$f":"INPUT!GD468","v":3}]
[{"$f":"INPUT!EU:EU","v":45219.32104166667},{"$f":"INPUT!FE469","v":53.7},{"$f":"INPUT!FI469","v":52.6},{"$f":"INPUT!GB469","v":59},{"$f":"INPUT!GD469","v":2.9}]
[{"$f":"INPUT!EU:EU","v":45219.321736111109},{"$f":"INPUT!FE470","v":53.6},{"$f":"INPUT!FI470","v":52.6},{"$f":"INPUT!GB470","v":59},{"$f":"INPUT!GD470","v":2.9}]
[{"$f":"INPUT!EU:EU","v":45219.322453703702},{"$f":"INPUT!FE471","v":53.6},{"$f":"INPUT!FI471","v":52.6},{"$f":"INPUT!GB471","v":59},{"$f":"INPUT!GD471","v":2.8}]
[{"$f":"INPUT!EU:EU","v":45219.323159722226},{"$f":"INPUT!FE472","v":53.5},{"$f":"INPUT!FI472","v":52.5},{"$f":"INPUT!GB472","v":59},{"$f":"INPUT!GD472","v":2.7}]
[{"$f":"INPUT!EU:EU","v":45219.323865740742},{"$f":"INPUT!FE473","v":53.5},{"$f":"INPUT!FI473","v":52.5},{"$f":"INPUT!GB473","v":59},{"$f":"INPUT!GD473","v":2.7}]
[{"$f":"INPUT!EU:EU","v":45219.324571759258},{"$f":"INPUT!FE474","v":53.4},{"$f":"INPUT!FI474","v":52.5},{"$f":"INPUT!GB474","v":59},{"$f":"INPUT!GD474","v":2.6}]
[{"$f":"INPUT!EU:EU","v":45219.325266203705},{"$f":"INPUT!FE475","v":53.4},{"$f":"INPUT!FI475","v":52.5},{"$f":"INPUT!GB475","v":59},{"$f":"INPUT!GD475","v":2.6}]
[{"$f":"INPUT!EU:EU","v":45219.325972222221},{"$f":"INPUT!FE476","v":53.4},{"$f":"INPUT!FI476","v":52.6},{"$f":"INPUT!GB476","v":59},{"$f":"INPUT!GD476","v":2.6}]
[{"$f":"INPUT!EU:EU","v":45219.326678240737},{"$f":"INPUT!FE477","v":53.3},{"$f":"INPUT!FI477","v":52.6},{"$f":"INPUT!GB477","v":59},{"$f":"INPUT!GD477","v":2.6}]
[{"$f":"INPUT!EU:EU","v":45219.327384259261},{"$f":"INPUT!FE478","v":53.3},{"$f":"INPUT!FI478","v":52.6},{"$f":"INPUT!GB478","v":59},{"$f":"INPUT!GD478","v":2.6}]
[{"$f":"INPUT!EU:EU","v":45219.328090277777},{"$f":"INPUT!FE479","v":53.2},{"$f":"INPUT!FI479","v":52.6},{"$f":"INPUT!GB479","v":59},{"$f":"INPUT!GD479","v":2.7}]
[{"$f":"INPUT!EU:EU","v":45219.328784722224},{"$f":"INPUT!FE480","v":53.2},{"$f":"INPUT!FI480","v":52.6},{"$f":"INPUT!GB480","v":59},{"$f":"INPUT!GD480","v":2.8}]
[{"$f":"INPUT!EU:EU","v":45219.329513888886},{"$f":"INPUT!FE481","v":53.2},{"$f":"INPUT!FI481","v":52.6},{"$f":"INPUT!GB481","v":59},{"$f":"INPUT!GD481","v":2.6}]
[{"$f":"INPUT!EU:EU","v":45219.33021990741},{"$f":"INPUT!FE482","v":53.1},{"$f":"INPUT!FI482","v":52.6},{"$f":"INPUT!GB482","v":59},{"$f":"INPUT!GD482","v":2.5}]
[{"$f":"INPUT!EU:EU","v":45219.330914351849},{"$f":"INPUT!FE483","v":53.1},{"$f":"INPUT!FI483","v":52.6},{"$f":"INPUT!GB483","v":59},{"$f":"INPUT!GD483","v":2.5}]
[{"$f":"INPUT!EU:EU","v":45219.331620370373},{"$f":"INPUT!FE484","v":53.1},{"$f":"INPUT!FI484","v":52.6},{"$f":"INPUT!GB484","v":59},{"$f":"INPUT!GD484","v":2.5}]
[{"$f":"INPUT!EU:EU","v":45219.332326388889},{"$f":"INPUT!FE485","v":53},{"$f":"INPUT!FI485","v":52.6},{"$f":"INPUT!GB485","v":59},{"$f":"INPUT!GD485","v":2.5}]
[{"$f":"INPUT!EU:EU","v":45219.333032407405},{"$f":"INPUT!FE486","v":53},{"$f":"INPUT!FI486","v":52.6},{"$f":"INPUT!GB486","v":59},{"$f":"INPUT!GD486","v":2.5}]
[{"$f":"INPUT!EU:EU","v":45219.333738425928},{"$f":"INPUT!FE487","v":53},{"$f":"INPUT!FI487","v":52.6},{"$f":"INPUT!GB487","v":59},{"$f":"INPUT!GD487","v":2.5}]
[{"$f":"INPUT!EU:EU","v":45219.334444444445},{"$f":"INPUT!FE488","v":52.9},{"$f":"INPUT!FI488","v":52.6},{"$f":"INPUT!GB488","v":59},{"$f":"INPUT!GD488","v":2.5}]
[{"$f":"INPUT!EU:EU","v":45219.335138888891},{"$f":"INPUT!FE489","v":52.9},{"$f":"INPUT!FI489","v":52.6},{"$f":"INPUT!GB489","v":59},{"$f":"INPUT!GD489","v":2.7}]
[{"$f":"INPUT!EU:EU","v":45219.335844907408},{"$f":"INPUT!FE490","v":52.9},{"$f":"INPUT!FI490","v":52.6},{"$f":"INPUT!GB490","v":59},{"$f":"INPUT!GD490","v":2.8}]
[{"$f":"INPUT!EU:EU","v":45219.336562500001},{"$f":"INPUT!FE491","v":52.8},{"$f":"INPUT!FI491","v":52.6},{"$f":"INPUT!GB491","v":59},{"$f":"INPUT!GD491","v":2.7}]
[{"$f":"INPUT!EU:EU","v":45219.337256944447},{"$f":"INPUT!FE492","v":52.8},{"$f":"INPUT!FI492","v":52.6},{"$f":"INPUT!GB492","v":59},{"$f":"INPUT!GD492","v":2.5}]
[{"$f":"INPUT!EU:EU","v":45219.337962962964},{"$f":"INPUT!FE493","v":52.8},{"$f":"INPUT!FI493","v":52.6},{"$f":"INPUT!GB493","v":59},{"$f":"INPUT!GD493","v":2.5}]
[{"$f":"INPUT!EU:EU","v":45219.33866898148},{"$f":"INPUT!FE494","v":52.7},{"$f":"INPUT!FI494","v":52.6},{"$f":"INPUT!GB494","v":59},{"$f":"INPUT!GD494","v":2.6}]
[{"$f":"INPUT!EU:EU","v":45219.339375000003},{"$f":"INPUT!FE495","v":52.7},{"$f":"INPUT!FI495","v":52.6},{"$f":"INPUT!GB495","v":59},{"$f":"INPUT!GD495","v":2.5}]
[{"$f":"INPUT!EU:EU","v":45219.340069444443},{"$f":"INPUT!FE496","v":52.7},{"$f":"INPUT!FI496","v":52.6},{"$f":"INPUT!GB496","v":59},{"$f":"INPUT!GD496","v":2.5}]
[{"$f":"INPUT!EU:EU","v":45219.340775462966},{"$f":"INPUT!FE497","v":52.6},{"$f":"INPUT!FI497","v":52.6},{"$f":"INPUT!GB497","v":59},{"$f":"INPUT!GD497","v":2.5}]
[{"$f":"INPUT!EU:EU","v":45219.341481481482},{"$f":"INPUT!FE498","v":52.6},{"$f":"INPUT!FI498","v":52.6},{"$f":"INPUT!GB498","v":59},{"$f":"INPUT!GD498","v":2.5}]
[{"$f":"INPUT!EU:EU","v":45219.342187499999},{"$f":"INPUT!FE499","v":52.6},{"$f":"INPUT!FI499","v":52.6},{"$f":"INPUT!GB499","v":59},{"$f":"INPUT!GD499","v":2.6}]
[{"$f":"INPUT!EU:EU","v":45219.342893518522},{"$f":"INPUT!FE500","v":52.5},{"$f":"INPUT!FI500","v":52.6},{"$f":"INPUT!GB500","v":59},{"$f":"INPUT!GD500","v":2.6}]
[{"$f":"INPUT!EU:EU","v":45219.343599537038},{"$f":"INPUT!FE501","v":52.5},{"$f":"INPUT!FI501","v":52.6},{"$f":"INPUT!GB501","v":59},{"$f":"INPUT!GD501","v":2.9}]
[{"$f":"INPUT!EU:EU","v":45219.344305555554},{"$f":"INPUT!FE502","v":52.4},{"$f":"INPUT!FI502","v":52.6},{"$f":"INPUT!GB502","v":59},{"$f":"INPUT!GD502","v":2.7}]
[{"$f":"INPUT!EU:EU","v":45219.345000000001},{"$f":"INPUT!FE503","v":52.4},{"$f":"INPUT!FI503","v":52.6},{"$f":"INPUT!GB503","v":59},{"$f":"INPUT!GD503","v":2.6}]
[{"$f":"INPUT!EU:EU","v":45219.345706018517},{"$f":"INPUT!FE504","v":52.4},{"$f":"INPUT!FI504","v":52.6},{"$f":"INPUT!GB504","v":59},{"$f":"INPUT!GD504","v":2.6}]
[{"$f":"INPUT!EU:EU","v":45219.346412037034},{"$f":"INPUT!FE505","v":52.3},{"$f":"INPUT!FI505","v":52.6},{"$f":"INPUT!GB505","v":59},{"$f":"INPUT!GD505","v":2.6}]
[{"$f":"INPUT!EU:EU","v":45219.347118055557},{"$f":"INPUT!FE506","v":52.3},{"$f":"INPUT!FI506","v":52.6},{"$f":"INPUT!GB506","v":59},{"$f":"INPUT!GD506","v":2.6}]
[{"$f":"INPUT!EU:EU","v":45219.347824074073},{"$f":"INPUT!FE507","v":52.2},{"$f":"INPUT!FI507","v":52.6},{"$f":"INPUT!GB507","v":59},{"$f":"INPUT!GD507","v":2.7}]
[{"$f":"INPUT!EU:EU","v":45219.34851851852},{"$f":"INPUT!FE508","v":52.2},{"$f":"INPUT!FI508","v":52.5},{"$f":"INPUT!GB508","v":59},{"$f":"INPUT!GD508","v":2.7}]
[{"$f":"INPUT!EU:EU","v":45219.349224537036},{"$f":"INPUT!FE509","v":52.2},{"$f":"INPUT!FI509","v":52.6},{"$f":"INPUT!GB509","v":59},{"$f":"INPUT!GD509","v":2.7}]
[{"$f":"INPUT!EU:EU","v":45219.349930555552},{"$f":"INPUT!FE510","v":52.1},{"$f":"INPUT!FI510","v":52.6},{"$f":"INPUT!GB510","v":59},{"$f":"INPUT!GD510","v":2.7}]
[{"$f":"INPUT!EU:EU","v":45219.350659722222},{"$f":"INPUT!FE511","v":52.1},{"$f":"INPUT!FI511","v":52.6},{"$f":"INPUT!GB511","v":59},{"$f":"INPUT!GD511","v":2.6}]
[{"$f":"INPUT!EU:EU","v":45219.351354166669},{"$f":"INPUT!FE512","v":52.1},{"$f":"INPUT!FI512","v":52.6},{"$f":"INPUT!GB512","v":59},{"$f":"INPUT!GD512","v":2.7}]
[{"$f":"INPUT!EU:EU","v":45219.352060185185},{"$f":"INPUT!FE513","v":52},{"$f":"INPUT!FI513","v":52.6},{"$f":"INPUT!GB513","v":59},{"$f":"INPUT!GD513","v":2.6}]
[{"$f":"INPUT!EU:EU","v":45219.352766203701},{"$f":"INPUT!FE514","v":52},{"$f":"INPUT!FI514","v":52.6},{"$f":"INPUT!GB514","v":59},{"$f":"INPUT!GD514","v":2.6}]
[{"$f":"INPUT!EU:EU","v":45219.353460648148},{"$f":"INPUT!FE515","v":52},{"$f":"INPUT!FI515","v":52.6},{"$f":"INPUT!GB515","v":59},{"$f":"INPUT!GD515","v":2.6}]
[{"$f":"INPUT!EU:EU","v":45219.354166666664},{"$f":"INPUT!FE516","v":51.9},{"$f":"INPUT!FI516","v":52.5},{"$f":"INPUT!GB516","v":59.7},{"$f":"INPUT!GD516","v":2.5}]
[{"$f":"INPUT!EU:EU","v":45219.354872685188},{"$f":"INPUT!FE517","v":51.9},{"$f":"INPUT!FI517","v":53.2},{"$f":"INPUT!GB517","v":60.2},{"$f":"INPUT!GD517","v":16.8}]
[{"$f":"INPUT!EU:EU","v":45219.355578703704},{"$f":"INPUT!FE518","v":52.1},{"$f":"INPUT!FI518","v":53.4},{"$f":"INPUT!GB518","v":60.1},{"$f":"INPUT!GD518","v":14.2}]
[{"$f":"INPUT!EU:EU","v":45219.356273148151},{"$f":"INPUT!FE519","v":52.2},{"$f":"INPUT!FI519","v":53.5},{"$f":"INPUT!GB519","v":60.1},{"$f":"INPUT!GD519","v":14.5}]
[{"$f":"INPUT!EU:EU","v":45219.356979166667},{"$f":"INPUT!FE520","v":52.4},{"$f":"INPUT!FI520","v":53.5},{"$f":"INPUT!GB520","v":60.2},{"$f":"INPUT!GD520","v":13.8}]
[{"$f":"INPUT!EU:EU","v":45219.35769675926},{"$f":"INPUT!FE521","v":52.6},{"$f":"INPUT!FI521","v":53.6},{"$f":"INPUT!GB521","v":60.1},{"$f":"INPUT!GD521","v":13.8}]
[{"$f":"INPUT!EU:EU","v":45219.358402777776},{"$f":"INPUT!FE522","v":52.8},{"$f":"INPUT!FI522","v":53.6},{"$f":"INPUT!GB522","v":60.1},{"$f":"INPUT!GD522","v":14.1}]
[{"$f":"INPUT!EU:EU","v":45219.359097222223},{"$f":"INPUT!FE523","v":52.9},{"$f":"INPUT!FI523","v":53.6},{"$f":"INPUT!GB523","v":60.1},{"$f":"INPUT!GD523","v":14}]
[{"$f":"INPUT!EU:EU","v":45219.359803240739},{"$f":"INPUT!FE524","v":53.1},{"$f":"INPUT!FI524","v":53.7},{"$f":"INPUT!GB524","v":60.1},{"$f":"INPUT!GD524","v":14.1}]
[{"$f":"INPUT!EU:EU","v":45219.360497685186},{"$f":"INPUT!FE525","v":53.3},{"$f":"INPUT!FI525","v":53.7},{"$f":"INPUT!GB525","v":60.1},{"$f":"INPUT!GD525","v":14}]
[{"$f":"INPUT!EU:EU","v":45219.361203703702},{"$f":"INPUT!FE526","v":53.5},{"$f":"INPUT!FI526","v":53.7},{"$f":"INPUT!GB526","v":60.1},{"$f":"INPUT!GD526","v":14}]
[{"$f":"INPUT!EU:EU","v":45219.361898148149},{"$f":"INPUT!FE527","v":53.6},{"$f":"INPUT!FI527","v":53.7},{"$f":"INPUT!GB527","v":60.1},{"$f":"INPUT!GD527","v":14.1}]
[{"$f":"INPUT!EU:EU","v":45219.362604166665},{"$f":"INPUT!FE528","v":53.8},{"$f":"INPUT!FI528","v":53.7},{"$f":"INPUT!GB528","v":60.1},{"$f":"INPUT!GD528","v":13.7}]
[{"$f":"INPUT!EU:EU","v":45219.363310185188},{"$f":"INPUT!FE529","v":54},{"$f":"INPUT!FI529","v":53.7},{"$f":"INPUT!GB529","v":60.1},{"$f":"INPUT!GD529","v":13.9}]
[{"$f":"INPUT!EU:EU","v":45219.364016203705},{"$f":"INPUT!FE530","v":54.2},{"$f":"INPUT!FI530","v":53.7},{"$f":"INPUT!GB530","v":60.1},{"$f":"INPUT!GD530","v":14}]
[{"$f":"INPUT!EU:EU","v":45219.364733796298},{"$f":"INPUT!FE531","v":54.3},{"$f":"INPUT!FI531","v":53.7},{"$f":"INPUT!GB531","v":60.1},{"$f":"INPUT!GD531","v":14.5}]
[{"$f":"INPUT!EU:EU","v":45219.365439814814},{"$f":"INPUT!FE532","v":54.5},{"$f":"INPUT!FI532","v":53.7},{"$f":"INPUT!GB532","v":60.1},{"$f":"INPUT!GD532","v":14}]
[{"$f":"INPUT!EU:EU","v":45219.36614583333},{"$f":"INPUT!FE533","v":54.7},{"$f":"INPUT!FI533","v":53.7},{"$f":"INPUT!GB533","v":60.1},{"$f":"INPUT!GD533","v":13.9}]
[{"$f":"INPUT!EU:EU","v":45219.366851851853},{"$f":"INPUT!FE534","v":54.9},{"$f":"INPUT!FI534","v":53.7},{"$f":"INPUT!GB534","v":60.1},{"$f":"INPUT!GD534","v":14}]
[{"$f":"INPUT!EU:EU","v":45219.36755787037},{"$f":"INPUT!FE535","v":55},{"$f":"INPUT!FI535","v":53.7},{"$f":"INPUT!GB535","v":60.1},{"$f":"INPUT!GD535","v":14}]
[{"$f":"INPUT!EU:EU","v":45219.368263888886},{"$f":"INPUT!FE536","v":55.2},{"$f":"INPUT!FI536","v":53.7},{"$f":"INPUT!GB536","v":60.1},{"$f":"INPUT!GD536","v":13.9}]
[{"$f":"INPUT!EU:EU","v":45219.368958333333},{"$f":"INPUT!FE537","v":55.4},{"$f":"INPUT!FI537","v":53.7},{"$f":"INPUT!GB537","v":60.1},{"$f":"INPUT!GD537","v":14}]
[{"$f":"INPUT!EU:EU","v":45219.369664351849},{"$f":"INPUT!FE538","v":55.6},{"$f":"INPUT!FI538","v":53.7},{"$f":"INPUT!GB538","v":60.1},{"$f":"INPUT!GD538","v":14.2}]
[{"$f":"INPUT!EU:EU","v":45219.370370370372},{"$f":"INPUT!FE539","v":55.7},{"$f":"INPUT!FI539","v":53.7},{"$f":"INPUT!GB539","v":60.1},{"$f":"INPUT!GD539","v":14}]
[{"$f":"INPUT!EU:EU","v":45219.371087962965},{"$f":"INPUT!FE540","v":55.9},{"$f":"INPUT!FI540","v":53.7},{"$f":"INPUT!GB540","v":60.1},{"$f":"INPUT!GD540","v":13.8}]
[{"$f":"INPUT!EU:EU","v":45219.371793981481},{"$f":"INPUT!FE541","v":56.1},{"$f":"INPUT!FI541","v":53.7},{"$f":"INPUT!GB541","v":60.1},{"$f":"INPUT!GD541","v":13.8}]
[{"$f":"INPUT!EU:EU","v":45219.372488425928},{"$f":"INPUT!FE542","v":56.3},{"$f":"INPUT!FI542","v":53.7},{"$f":"INPUT!GB542","v":60.1},{"$f":"INPUT!GD542","v":13.9}]
[{"$f":"INPUT!EU:EU","v":45219.373194444444},{"$f":"INPUT!FE543","v":56.4},{"$f":"INPUT!FI543","v":53.8},{"$f":"INPUT!GB543","v":60.1},{"$f":"INPUT!GD543","v":14}]
[{"$f":"INPUT!EU:EU","v":45219.373900462961},{"$f":"INPUT!FE544","v":56.6},{"$f":"INPUT!FI544","v":53.7},{"$f":"INPUT!GB544","v":60.1},{"$f":"INPUT!GD544","v":13.8}]
[{"$f":"INPUT!EU:EU","v":45219.374606481484},{"$f":"INPUT!FE545","v":56.8},{"$f":"INPUT!FI545","v":53.7},{"$f":"INPUT!GB545","v":60.1},{"$f":"INPUT!GD545","v":13.7}]
[{"$f":"INPUT!EU:EU","v":45219.3753125},{"$f":"INPUT!FE546","v":57},{"$f":"INPUT!FI546","v":53.7},{"$f":"INPUT!GB546","v":60.1},{"$f":"INPUT!GD546","v":14.1}]
[{"$f":"INPUT!EU:EU","v":45219.376018518517},{"$f":"INPUT!FE547","v":57.1},{"$f":"INPUT!FI547","v":53.7},{"$f":"INPUT!GB547","v":60.3},{"$f":"INPUT!GD547","v":16.399999999999999}]
[{"$f":"INPUT!EU:EU","v":45219.37672453704},{"$f":"INPUT!FE548","v":57.2},{"$f":"INPUT!FI548","v":53.7},{"$f":"INPUT!GB548","v":60},{"$f":"INPUT!GD548","v":13.7}]
[{"$f":"INPUT!EU:EU","v":45219.377430555556},{"$f":"INPUT!FE549","v":57.4},{"$f":"INPUT!FI549","v":53.7},{"$f":"INPUT!GB549","v":60.1},{"$f":"INPUT!GD549","v":14.6}]
[{"$f":"INPUT!EU:EU","v":45219.378148148149},{"$f":"INPUT!FE550","v":57.5},{"$f":"INPUT!FI550","v":53.7},{"$f":"INPUT!GB550","v":60.1},{"$f":"INPUT!GD550","v":14.4}]
[{"$f":"INPUT!EU:EU","v":45219.378842592596},{"$f":"INPUT!FE551","v":57.7},{"$f":"INPUT!FI551","v":53.7},{"$f":"INPUT!GB551","v":60.1},{"$f":"INPUT!GD551","v":13.6}]
[{"$f":"INPUT!EU:EU","v":45219.379548611112},{"$f":"INPUT!FE552","v":57.8},{"$f":"INPUT!FI552","v":53.7},{"$f":"INPUT!GB552","v":60.1},{"$f":"INPUT!GD552","v":13.6}]
[{"$f":"INPUT!EU:EU","v":45219.380254629628},{"$f":"INPUT!FE553","v":58},{"$f":"INPUT!FI553","v":53.7},{"$f":"INPUT!GB553","v":60.1},{"$f":"INPUT!GD553","v":14.2}]
[{"$f":"INPUT!EU:EU","v":45219.380960648145},{"$f":"INPUT!FE554","v":58.1},{"$f":"INPUT!FI554","v":53.7},{"$f":"INPUT!GB554","v":60.1},{"$f":"INPUT!GD554","v":14}]
[{"$f":"INPUT!EU:EU","v":45219.381666666668},{"$f":"INPUT!FE555","v":58.3},{"$f":"INPUT!FI555","v":53.7},{"$f":"INPUT!GB555","v":60.1},{"$f":"INPUT!GD555","v":14}]
[{"$f":"INPUT!EU:EU","v":45219.382361111115},{"$f":"INPUT!FE556","v":58.4},{"$f":"INPUT!FI556","v":53.7},{"$f":"INPUT!GB556","v":60.1},{"$f":"INPUT!GD556","v":13.6}]
[{"$f":"INPUT!EU:EU","v":45219.383067129631},{"$f":"INPUT!FE557","v":58.6},{"$f":"INPUT!FI557","v":53.7},{"$f":"INPUT!GB557","v":60.1},{"$f":"INPUT!GD557","v":13.3}]
[{"$f":"INPUT!EU:EU","v":45219.383773148147},{"$f":"INPUT!FE558","v":58.7},{"$f":"INPUT!FI558","v":53.7},{"$f":"INPUT!GB558","v":60.1},{"$f":"INPUT!GD558","v":12.8}]
[{"$f":"INPUT!EU:EU","v":45219.384479166663},{"$f":"INPUT!FE559","v":58.9},{"$f":"INPUT!FI559","v":53.7},{"$f":"INPUT!GB559","v":60.1},{"$f":"INPUT!GD559","v":13}]
[{"$f":"INPUT!EU:EU","v":45219.385185185187},{"$f":"INPUT!FE560","v":59},{"$f":"INPUT!FI560","v":53.7},{"$f":"INPUT!GB560","v":60.1},{"$f":"INPUT!GD560","v":13.3}]
[{"$f":"INPUT!EU:EU","v":45219.385891203703},{"$f":"INPUT!FE561","v":59.1},{"$f":"INPUT!FI561","v":53.7},{"$f":"INPUT!GB561","v":60.1},{"$f":"INPUT!GD561","v":14.4}]
[{"$f":"INPUT!EU:EU","v":45219.386597222219},{"$f":"INPUT!FE562","v":59.3},{"$f":"INPUT!FI562","v":53.7},{"$f":"INPUT!GB562","v":60.1},{"$f":"INPUT!GD562","v":14.4}]
[{"$f":"INPUT!EU:EU","v":45219.387303240743},{"$f":"INPUT!FE563","v":59.4},{"$f":"INPUT!FI563","v":53.7},{"$f":"INPUT!GB563","v":60.1},{"$f":"INPUT!GD563","v":13.8}]
[{"$f":"INPUT!EU:EU","v":45219.387997685182},{"$f":"INPUT!FE564","v":59.6},{"$f":"INPUT!FI564","v":53.7},{"$f":"INPUT!GB564","v":60.1},{"$f":"INPUT!GD564","v":13.8}]
[{"$f":"INPUT!EU:EU","v":45219.388703703706},{"$f":"INPUT!FE565","v":59.7},{"$f":"INPUT!FI565","v":53.7},{"$f":"INPUT!GB565","v":60.1},{"$f":"INPUT!GD565","v":12.5}]
[{"$f":"INPUT!EU:EU","v":45219.389409722222},{"$f":"INPUT!FE566","v":59.8},{"$f":"INPUT!FI566","v":53.7},{"$f":"INPUT!GB566","v":60.1},{"$f":"INPUT!GD566","v":12.8}]
[{"$f":"INPUT!EU:EU","v":45219.390115740738},{"$f":"INPUT!FE567","v":60},{"$f":"INPUT!FI567","v":53.6},{"$f":"INPUT!GB567","v":60.1},{"$f":"INPUT!GD567","v":13.2}]
[{"$f":"INPUT!EU:EU","v":45219.390821759262},{"$f":"INPUT!FE568","v":60.1},{"$f":"INPUT!FI568","v":53.6},{"$f":"INPUT!GB568","v":60.1},{"$f":"INPUT!GD568","v":12.3}]
[{"$f":"INPUT!EU:EU","v":45219.391527777778},{"$f":"INPUT!FE569","v":60.2},{"$f":"INPUT!FI569","v":53.6},{"$f":"INPUT!GB569","v":60.1},{"$f":"INPUT!GD569","v":12.8}]
[{"$f":"INPUT!EU:EU","v":45219.392245370371},{"$f":"INPUT!FE570","v":60.3},{"$f":"INPUT!FI570","v":53.6},{"$f":"INPUT!GB570","v":60.2},{"$f":"INPUT!GD570","v":14.2}]
[{"$f":"INPUT!EU:EU","v":45219.392939814818},{"$f":"INPUT!FE571","v":60.4},{"$f":"INPUT!FI571","v":53.6},{"$f":"INPUT!GB571","v":60.1},{"$f":"INPUT!GD571","v":12.2}]
[{"$f":"INPUT!EU:EU","v":45219.393645833334},{"$f":"INPUT!FE572","v":60.6},{"$f":"INPUT!FI572","v":53.6},{"$f":"INPUT!GB572","v":60.1},{"$f":"INPUT!GD572","v":12.8}]
[{"$f":"INPUT!EU:EU","v":45219.39434027778},{"$f":"INPUT!FE573","v":60.7},{"$f":"INPUT!FI573","v":53.6},{"$f":"INPUT!GB573","v":60.1},{"$f":"INPUT!GD573","v":12.6}]
[{"$f":"INPUT!EU:EU","v":45219.395046296297},{"$f":"INPUT!FE574","v":60.8},{"$f":"INPUT!FI574","v":53.6},{"$f":"INPUT!GB574","v":60.1},{"$f":"INPUT!GD574","v":12.5}]
[{"$f":"INPUT!EU:EU","v":45219.395752314813},{"$f":"INPUT!FE575","v":61},{"$f":"INPUT!FI575","v":53.6},{"$f":"INPUT!GB575","v":60.1},{"$f":"INPUT!GD575","v":12.6}]
[{"$f":"INPUT!EU:EU","v":45219.396458333336},{"$f":"INPUT!FE576","v":61.1},{"$f":"INPUT!FI576","v":53.7},{"$f":"INPUT!GB576","v":60.1},{"$f":"INPUT!GD576","v":12.8}]
[{"$f":"INPUT!EU:EU","v":45219.397164351853},{"$f":"INPUT!FE577","v":61.2},{"$f":"INPUT!FI577","v":53.7},{"$f":"INPUT!GB577","v":60.1},{"$f":"INPUT!GD577","v":13.1}]
[{"$f":"INPUT!EU:EU","v":45219.397870370369},{"$f":"INPUT!FE578","v":61.4},{"$f":"INPUT!FI578","v":53.7},{"$f":"INPUT!GB578","v":60.1},{"$f":"INPUT!GD578","v":13}]
[{"$f":"INPUT!EU:EU","v":45219.398564814815},{"$f":"INPUT!FE579","v":61.5},{"$f":"INPUT!FI579","v":53.7},{"$f":"INPUT!GB579","v":60.1},{"$f":"INPUT!GD579","v":12.8}]
[{"$f":"INPUT!EU:EU","v":45219.399282407408},{"$f":"INPUT!FE580","v":61.6},{"$f":"INPUT!FI580","v":53.7},{"$f":"INPUT!GB580","v":60.1},{"$f":"INPUT!GD580","v":12.8}]
[{"$f":"INPUT!EU:EU","v":45219.399988425925},{"$f":"INPUT!FE581","v":61.8},{"$f":"INPUT!FI581","v":53.7},{"$f":"INPUT!GB581","v":60.1},{"$f":"INPUT!GD581","v":13.3}]
[{"$f":"INPUT!EU:EU","v":45219.400694444441},{"$f":"INPUT!FE582","v":61.9},{"$f":"INPUT!FI582","v":53.7},{"$f":"INPUT!GB582","v":60.1},{"$f":"INPUT!GD582","v":12.9}]
[{"$f":"INPUT!EU:EU","v":45219.401400462964},{"$f":"INPUT!FE583","v":62},{"$f":"INPUT!FI583","v":53.7},{"$f":"INPUT!GB583","v":60.1},{"$f":"INPUT!GD583","v":12.8}]
[{"$f":"INPUT!EU:EU","v":45219.402094907404},{"$f":"INPUT!FE584","v":62.2},{"$f":"INPUT!FI584","v":53.7},{"$f":"INPUT!GB584","v":60.1},{"$f":"INPUT!GD584","v":13.1}]
[{"$f":"INPUT!EU:EU","v":45219.402800925927},{"$f":"INPUT!FE585","v":62.3},{"$f":"INPUT!FI585","v":53.7},{"$f":"INPUT!GB585","v":60.1},{"$f":"INPUT!GD585","v":13.3}]
[{"$f":"INPUT!EU:EU","v":45219.403506944444},{"$f":"INPUT!FE586","v":62.4},{"$f":"INPUT!FI586","v":53.7},{"$f":"INPUT!GB586","v":60.1},{"$f":"INPUT!GD586","v":13.2}]
[{"$f":"INPUT!EU:EU","v":45219.40421296296},{"$f":"INPUT!FE587","v":62.6},{"$f":"INPUT!FI587","v":53.7},{"$f":"INPUT!GB587","v":60.1},{"$f":"INPUT!GD587","v":12.7}]
[{"$f":"INPUT!EU:EU","v":45219.404918981483},{"$f":"INPUT!FE588","v":62.7},{"$f":"INPUT!FI588","v":53.7},{"$f":"INPUT!GB588","v":60.1},{"$f":"INPUT!GD588","v":13.1}]
[{"$f":"INPUT!EU:EU","v":45219.405624999999},{"$f":"INPUT!FE589","v":62.8},{"$f":"INPUT!FI589","v":53.7},{"$f":"INPUT!GB589","v":60.2},{"$f":"INPUT!GD589","v":12.7}]
[{"$f":"INPUT!EU:EU","v":45219.406342592592},{"$f":"INPUT!FE590","v":62.9},{"$f":"INPUT!FI590","v":53.6},{"$f":"INPUT!GB590","v":60.1},{"$f":"INPUT!GD590","v":6.6}]
[{"$f":"INPUT!EU:EU","v":45219.407037037039},{"$f":"INPUT!FE591","v":63},{"$f":"INPUT!FI591","v":53.6},{"$f":"INPUT!GB591","v":60.1},{"$f":"INPUT!GD591","v":6.6}]
[{"$f":"INPUT!EU:EU","v":45219.407743055555},{"$f":"INPUT!FE592","v":63.1},{"$f":"INPUT!FI592","v":53.7},{"$f":"INPUT!GB592","v":60.1},{"$f":"INPUT!GD592","v":13}]
[{"$f":"INPUT!EU:EU","v":45219.408449074072},{"$f":"INPUT!FE593","v":63.2},{"$f":"INPUT!FI593","v":53.7},{"$f":"INPUT!GB593","v":60.1},{"$f":"INPUT!GD593","v":13.3}]
[{"$f":"INPUT!EU:EU","v":45219.409155092595},{"$f":"INPUT!FE594","v":63.4},{"$f":"INPUT!FI594","v":53.7},{"$f":"INPUT!GB594","v":60.1},{"$f":"INPUT!GD594","v":12.9}]
[{"$f":"INPUT!EU:EU","v":45219.409849537034},{"$f":"INPUT!FE595","v":63.5},{"$f":"INPUT!FI595","v":53.7},{"$f":"INPUT!GB595","v":60.1},{"$f":"INPUT!GD595","v":13}]
[{"$f":"INPUT!EU:EU","v":45219.410555555558},{"$f":"INPUT!FE596","v":63.6},{"$f":"INPUT!FI596","v":53.7},{"$f":"INPUT!GB596","v":60.1},{"$f":"INPUT!GD596","v":12.9}]
[{"$f":"INPUT!EU:EU","v":45219.411261574074},{"$f":"INPUT!FE597","v":63.8},{"$f":"INPUT!FI597","v":53.7},{"$f":"INPUT!GB597","v":60.1},{"$f":"INPUT!GD597","v":13}]
[{"$f":"INPUT!EU:EU","v":45219.411956018521},{"$f":"INPUT!FE598","v":63.9},{"$f":"INPUT!FI598","v":53.7},{"$f":"INPUT!GB598","v":60.1},{"$f":"INPUT!GD598","v":13}]
[{"$f":"INPUT!EU:EU","v":45219.412662037037},{"$f":"INPUT!FE599","v":64},{"$f":"INPUT!FI599","v":53.7},{"$f":"INPUT!GB599","v":60.1},{"$f":"INPUT!GD599","v":13.2}]
[{"$f":"INPUT!EU:EU","v":45219.41337962963},{"$f":"INPUT!FE600","v":64.2},{"$f":"INPUT!FI600","v":53.7},{"$f":"INPUT!GB600","v":60.1},{"$f":"INPUT!GD600","v":12.9}]
[{"$f":"INPUT!EU:EU","v":45219.414074074077},{"$f":"INPUT!FE601","v":64.3},{"$f":"INPUT!FI601","v":53.7},{"$f":"INPUT!GB601","v":60.1},{"$f":"INPUT!GD601","v":12.9}]
[{"$f":"INPUT!EU:EU","v":45219.414780092593},{"$f":"INPUT!FE602","v":64.5},{"$f":"INPUT!FI602","v":53.8},{"$f":"INPUT!GB602","v":60.1},{"$f":"INPUT!GD602","v":13}]
[{"$f":"INPUT!EU:EU","v":45219.415486111109},{"$f":"INPUT!FE603","v":64.599999999999994},{"$f":"INPUT!FI603","v":53.8},{"$f":"INPUT!GB603","v":60.1},{"$f":"INPUT!GD603","v":12.8}]
[{"$f":"INPUT!EU:EU","v":45219.416192129633},{"$f":"INPUT!FE604","v":64.7},{"$f":"INPUT!FI604","v":53.8},{"$f":"INPUT!GB604","v":60.1},{"$f":"INPUT!GD604","v":13.2}]
[{"$f":"INPUT!EU:EU","v":45219.416886574072},{"$f":"INPUT!FE605","v":64.900000000000006},{"$f":"INPUT!FI605","v":53.7},{"$f":"INPUT!GB605","v":60.1},{"$f":"INPUT!GD605","v":13.1}]
[{"$f":"INPUT!EU:EU","v":45219.417592592596},{"$f":"INPUT!FE606","v":65},{"$f":"INPUT!FI606","v":53.8},{"$f":"INPUT!GB606","v":60.1},{"$f":"INPUT!GD606","v":13.1}]
[{"$f":"INPUT!EU:EU","v":45219.418298611112},{"$f":"INPUT!FE607","v":65.2},{"$f":"INPUT!FI607","v":53.8},{"$f":"INPUT!GB607","v":60.1},{"$f":"INPUT!GD607","v":14.2}]
[{"$f":"INPUT!EU:EU","v":45219.419004629628},{"$f":"INPUT!FE608","v":65.3},{"$f":"INPUT!FI608","v":53.8},{"$f":"INPUT!GB608","v":60.1},{"$f":"INPUT!GD608","v":14.3}]
[{"$f":"INPUT!EU:EU","v":45219.419722222221},{"$f":"INPUT!FE609","v":65.400000000000006},{"$f":"INPUT!FI609","v":53.8},{"$f":"INPUT!GB609","v":60.1},{"$f":"INPUT!GD609","v":14.6}]
[{"$f":"INPUT!EU:EU","v":45219.420416666668},{"$f":"INPUT!FE610","v":65.599999999999994},{"$f":"INPUT!FI610","v":53.8},{"$f":"INPUT!GB610","v":60.1},{"$f":"INPUT!GD610","v":14.2}]
[{"$f":"INPUT!EU:EU","v":45219.421122685184},{"$f":"INPUT!FE611","v":65.7},{"$f":"INPUT!FI611","v":53.8},{"$f":"INPUT!GB611","v":60.1},{"$f":"INPUT!GD611","v":14.1}]
[{"$f":"INPUT!EU:EU","v":45219.4218287037},{"$f":"INPUT!FE612","v":65.900000000000006},{"$f":"INPUT!FI612","v":53.8},{"$f":"INPUT!GB612","v":60.1},{"$f":"INPUT!GD612","v":14.4}]
[{"$f":"INPUT!EU:EU","v":45219.422534722224},{"$f":"INPUT!FE613","v":66},{"$f":"INPUT!FI613","v":53.8},{"$f":"INPUT!GB613","v":60.1},{"$f":"INPUT!GD613","v":14.5}]
[{"$f":"INPUT!EU:EU","v":45219.42324074074},{"$f":"INPUT!FE614","v":66.2},{"$f":"INPUT!FI614","v":53.8},{"$f":"INPUT!GB614","v":60.1},{"$f":"INPUT!GD614","v":14.3}]
[{"$f":"INPUT!EU:EU","v":45219.423935185187},{"$f":"INPUT!FE615","v":66.3},{"$f":"INPUT!FI615","v":53.8},{"$f":"INPUT!GB615","v":60.1},{"$f":"INPUT!GD615","v":14.1}]
[{"$f":"INPUT!EU:EU","v":45219.424641203703},{"$f":"INPUT!FE616","v":66.5},{"$f":"INPUT!FI616","v":53.8},{"$f":"INPUT!GB616","v":60.1},{"$f":"INPUT!GD616","v":14.2}]
[{"$f":"INPUT!EU:EU","v":45219.425347222219},{"$f":"INPUT!FE617","v":66.599999999999994},{"$f":"INPUT!FI617","v":53.8},{"$f":"INPUT!GB617","v":60.1},{"$f":"INPUT!GD617","v":14.5}]
[{"$f":"INPUT!EU:EU","v":45219.426041666666},{"$f":"INPUT!FE618","v":66.8},{"$f":"INPUT!FI618","v":53.9},{"$f":"INPUT!GB618","v":60.1},{"$f":"INPUT!GD618","v":14.2}]
[{"$f":"INPUT!EU:EU","v":45219.426759259259},{"$f":"INPUT!FE619","v":66.900000000000006},{"$f":"INPUT!FI619","v":53.9},{"$f":"INPUT!GB619","v":60.1},{"$f":"INPUT!GD619","v":14.2}]
[{"$f":"INPUT!EU:EU","v":45219.427465277775},{"$f":"INPUT!FE620","v":67.099999999999994},{"$f":"INPUT!FI620","v":53.9},{"$f":"INPUT!GB620","v":60.1},{"$f":"INPUT!GD620","v":14.1}]
[{"$f":"INPUT!EU:EU","v":45219.428171296298},{"$f":"INPUT!FE621","v":67.2},{"$f":"INPUT!FI621","v":53.9},{"$f":"INPUT!GB621","v":60.1},{"$f":"INPUT!GD621","v":14.4}]
[{"$f":"INPUT!EU:EU","v":45219.428877314815},{"$f":"INPUT!FE622","v":67.400000000000006},{"$f":"INPUT!FI622","v":53.9},{"$f":"INPUT!GB622","v":60.1},{"$f":"INPUT!GD622","v":14.2}]
[{"$f":"INPUT!EU:EU","v":45219.429583333331},{"$f":"INPUT!FE623","v":67.5},{"$f":"INPUT!FI623","v":53.9},{"$f":"INPUT!GB623","v":60.1},{"$f":"INPUT!GD623","v":14.3}]
[{"$f":"INPUT!EU:EU","v":45219.430289351854},{"$f":"INPUT!FE624","v":67.7},{"$f":"INPUT!FI624","v":53.9},{"$f":"INPUT!GB624","v":60.1},{"$f":"INPUT!GD624","v":14.1}]
[{"$f":"INPUT!EU:EU","v":45219.430995370371},{"$f":"INPUT!FE625","v":67.8},{"$f":"INPUT!FI625","v":53.9},{"$f":"INPUT!GB625","v":60.1},{"$f":"INPUT!GD625","v":14.2}]
[{"$f":"INPUT!EU:EU","v":45219.431701388887},{"$f":"INPUT!FE626","v":67.900000000000006},{"$f":"INPUT!FI626","v":53.9},{"$f":"INPUT!GB626","v":60.1},{"$f":"INPUT!GD626","v":14.2}]
[{"$f":"INPUT!EU:EU","v":45219.43240740741},{"$f":"INPUT!FE627","v":68.099999999999994},{"$f":"INPUT!FI627","v":53.9},{"$f":"INPUT!GB627","v":60.1},{"$f":"INPUT!GD627","v":14.4}]
[{"$f":"INPUT!EU:EU","v":45219.43310185185},{"$f":"INPUT!FE628","v":68.2},{"$f":"INPUT!FI628","v":53.9},{"$f":"INPUT!GB628","v":60.1},{"$f":"INPUT!GD628","v":14.5}]
[{"$f":"INPUT!EU:EU","v":45219.433819444443},{"$f":"INPUT!FE629","v":68.400000000000006},{"$f":"INPUT!FI629","v":53.9},{"$f":"INPUT!GB629","v":60.1},{"$f":"INPUT!GD629","v":14.4}]
[{"$f":"INPUT!EU:EU","v":45219.434513888889},{"$f":"INPUT!FE630","v":68.5},{"$f":"INPUT!FI630","v":53.9},{"$f":"INPUT!GB630","v":60.1},{"$f":"INPUT!GD630","v":14.4}]
[{"$f":"INPUT!EU:EU","v":45219.435219907406},{"$f":"INPUT!FE631","v":68.7},{"$f":"INPUT!FI631","v":53.9},{"$f":"INPUT!GB631","v":60.1},{"$f":"INPUT!GD631","v":14.4}]
[{"$f":"INPUT!EU:EU","v":45219.435925925929},{"$f":"INPUT!FE632","v":68.8},{"$f":"INPUT!FI632","v":53.9},{"$f":"INPUT!GB632","v":60.1},{"$f":"INPUT!GD632","v":14.7}]
[{"$f":"INPUT!EU:EU","v":45219.436631944445},{"$f":"INPUT!FE633","v":69},{"$f":"INPUT!FI633","v":54},{"$f":"INPUT!GB633","v":60.1},{"$f":"INPUT!GD633","v":14.3}]
[{"$f":"INPUT!EU:EU","v":45219.437337962961},{"$f":"INPUT!FE634","v":69.099999999999994},{"$f":"INPUT!FI634","v":54},{"$f":"INPUT!GB634","v":60.1},{"$f":"INPUT!GD634","v":13.8}]
[{"$f":"INPUT!EU:EU","v":45219.438043981485},{"$f":"INPUT!FE635","v":69.3},{"$f":"INPUT!FI635","v":54},{"$f":"INPUT!GB635","v":60.1},{"$f":"INPUT!GD635","v":14.2}]
[{"$f":"INPUT!EU:EU","v":45219.438750000001},{"$f":"INPUT!FE636","v":69.400000000000006},{"$f":"INPUT!FI636","v":54},{"$f":"INPUT!GB636","v":60.1},{"$f":"INPUT!GD636","v":14.4}]
[{"$f":"INPUT!EU:EU","v":45219.439444444448},{"$f":"INPUT!FE637","v":69.599999999999994},{"$f":"INPUT!FI637","v":54},{"$f":"INPUT!GB637","v":60.1},{"$f":"INPUT!GD637","v":14.4}]
[{"$f":"INPUT!EU:EU","v":45219.440150462964},{"$f":"INPUT!FE638","v":69.7},{"$f":"INPUT!FI638","v":54},{"$f":"INPUT!GB638","v":60.1},{"$f":"INPUT!GD638","v":14}]
[{"$f":"INPUT!EU:EU","v":45219.440868055557},{"$f":"INPUT!FE639","v":69.8},{"$f":"INPUT!FI639","v":54},{"$f":"INPUT!GB639","v":60.1},{"$f":"INPUT!GD639","v":14.6}]
[{"$f":"INPUT!EU:EU","v":45219.441574074073},{"$f":"INPUT!FE640","v":70},{"$f":"INPUT!FI640","v":54},{"$f":"INPUT!GB640","v":60.1},{"$f":"INPUT!GD640","v":14.9}]
[{"$f":"INPUT!EU:EU","v":45219.442280092589},{"$f":"INPUT!FE641","v":70.099999999999994},{"$f":"INPUT!FI641","v":54},{"$f":"INPUT!GB641","v":60.1},{"$f":"INPUT!GD641","v":14.5}]
[{"$f":"INPUT!EU:EU","v":45219.442986111113},{"$f":"INPUT!FE642","v":70.3},{"$f":"INPUT!FI642","v":54.1},{"$f":"INPUT!GB642","v":60.1},{"$f":"INPUT!GD642","v":14.6}]
[{"$f":"INPUT!EU:EU","v":45219.443692129629},{"$f":"INPUT!FE643","v":70.400000000000006},{"$f":"INPUT!FI643","v":54.1},{"$f":"INPUT!GB643","v":60.1},{"$f":"INPUT!GD643","v":14.4}]
[{"$f":"INPUT!EU:EU","v":45219.444398148145},{"$f":"INPUT!FE644","v":70.5},{"$f":"INPUT!FI644","v":54.1},{"$f":"INPUT!GB644","v":60.1},{"$f":"INPUT!GD644","v":14.2}]
[{"$f":"INPUT!EU:EU","v":45219.445104166669},{"$f":"INPUT!FE645","v":70.7},{"$f":"INPUT!FI645","v":54.1},{"$f":"INPUT!GB645","v":60.1},{"$f":"INPUT!GD645","v":14.5}]
[{"$f":"INPUT!EU:EU","v":45219.445798611108},{"$f":"INPUT!FE646","v":70.8},{"$f":"INPUT!FI646","v":54.1},{"$f":"INPUT!GB646","v":60.1},{"$f":"INPUT!GD646","v":14.9}]
[{"$f":"INPUT!EU:EU","v":45219.446504629632},{"$f":"INPUT!FE647","v":71},{"$f":"INPUT!FI647","v":54.1},{"$f":"INPUT!GB647","v":60.1},{"$f":"INPUT!GD647","v":14.7}]
[{"$f":"INPUT!EU:EU","v":45219.447210648148},{"$f":"INPUT!FE648","v":71.099999999999994},{"$f":"INPUT!FI648","v":54.1},{"$f":"INPUT!GB648","v":60.1},{"$f":"INPUT!GD648","v":14.3}]
[{"$f":"INPUT!EU:EU","v":45219.447939814818},{"$f":"INPUT!FE649","v":71.2},{"$f":"INPUT!FI649","v":54.1},{"$f":"INPUT!GB649","v":60.1},{"$f":"INPUT!GD649","v":14.3}]
[{"$f":"INPUT!EU:EU","v":45219.448645833334},{"$f":"INPUT!FE650","v":71.400000000000006},{"$f":"INPUT!FI650","v":54.2},{"$f":"INPUT!GB650","v":60.1},{"$f":"INPUT!GD650","v":14.5}]
[{"$f":"INPUT!EU:EU","v":45219.44935185185},{"$f":"INPUT!FE651","v":71.5},{"$f":"INPUT!FI651","v":54.2},{"$f":"INPUT!GB651","v":60.1},{"$f":"INPUT!GD651","v":14.3}]
[{"$f":"INPUT!EU:EU","v":45219.450057870374},{"$f":"INPUT!FE652","v":71.7},{"$f":"INPUT!FI652","v":54.2},{"$f":"INPUT!GB652","v":60.1},{"$f":"INPUT!GD652","v":14.3}]
[{"$f":"INPUT!EU:EU","v":45219.45076388889},{"$f":"INPUT!FE653","v":71.8},{"$f":"INPUT!FI653","v":54.2},{"$f":"INPUT!GB653","v":60.1},{"$f":"INPUT!GD653","v":14.2}]
[{"$f":"INPUT!EU:EU","v":45219.451469907406},{"$f":"INPUT!FE654","v":71.900000000000006},{"$f":"INPUT!FI654","v":54.2},{"$f":"INPUT!GB654","v":60.1},{"$f":"INPUT!GD654","v":14.3}]
[{"$f":"INPUT!EU:EU","v":45219.452175925922},{"$f":"INPUT!FE655","v":72.099999999999994},{"$f":"INPUT!FI655","v":54.2},{"$f":"INPUT!GB655","v":60.1},{"$f":"INPUT!GD655","v":14.5}]
[{"$f":"INPUT!EU:EU","v":45219.452870370369},{"$f":"INPUT!FE656","v":72.2},{"$f":"INPUT!FI656","v":54.2},{"$f":"INPUT!GB656","v":60.1},{"$f":"INPUT!GD656","v":14.4}]
[{"$f":"INPUT!EU:EU","v":45219.453576388885},{"$f":"INPUT!FE657","v":72.400000000000006},{"$f":"INPUT!FI657","v":54.2},{"$f":"INPUT!GB657","v":60.1},{"$f":"INPUT!GD657","v":14.1}]
[{"$f":"INPUT!EU:EU","v":45219.454282407409},{"$f":"INPUT!FE658","v":72.5},{"$f":"INPUT!FI658","v":54.2},{"$f":"INPUT!GB658","v":60.1},{"$f":"INPUT!GD658","v":14.2}]
[{"$f":"INPUT!EU:EU","v":45219.455000000002},{"$f":"INPUT!FE659","v":72.7},{"$f":"INPUT!FI659","v":54.2},{"$f":"INPUT!GB659","v":60.1},{"$f":"INPUT!GD659","v":14.4}]
[{"$f":"INPUT!EU:EU","v":45219.455706018518},{"$f":"INPUT!FE660","v":72.8},{"$f":"INPUT!FI660","v":54.2},{"$f":"INPUT!GB660","v":60.1},{"$f":"INPUT!GD660","v":14.4}]
[{"$f":"INPUT!EU:EU","v":45219.456412037034},{"$f":"INPUT!FE661","v":72.900000000000006},{"$f":"INPUT!FI661","v":54.2},{"$f":"INPUT!GB661","v":60.1},{"$f":"INPUT!GD661","v":14.4}]
[{"$f":"INPUT!EU:EU","v":45219.457118055558},{"$f":"INPUT!FE662","v":73.099999999999994},{"$f":"INPUT!FI662","v":54.2},{"$f":"INPUT!GB662","v":60.1},{"$f":"INPUT!GD662","v":14.7}]
[{"$f":"INPUT!EU:EU","v":45219.457812499997},{"$f":"INPUT!FE663","v":73.2},{"$f":"INPUT!FI663","v":54.2},{"$f":"INPUT!GB663","v":60.1},{"$f":"INPUT!GD663","v":14.7}]
[{"$f":"INPUT!EU:EU","v":45219.458518518521},{"$f":"INPUT!FE664","v":73.400000000000006},{"$f":"INPUT!FI664","v":54.2},{"$f":"INPUT!GB664","v":60.1},{"$f":"INPUT!GD664","v":14.6}]
[{"$f":"INPUT!EU:EU","v":45219.459224537037},{"$f":"INPUT!FE665","v":73.5},{"$f":"INPUT!FI665","v":54.2},{"$f":"INPUT!GB665","v":60.1},{"$f":"INPUT!GD665","v":14.4}]
[{"$f":"INPUT!EU:EU","v":45219.459918981483},{"$f":"INPUT!FE666","v":73.599999999999994},{"$f":"INPUT!FI666","v":54.2},{"$f":"INPUT!GB666","v":60.1},{"$f":"INPUT!GD666","v":14.1}]
[{"$f":"INPUT!EU:EU","v":45219.460625},{"$f":"INPUT!FE667","v":73.8},{"$f":"INPUT!FI667","v":54.2},{"$f":"INPUT!GB667","v":60.1},{"$f":"INPUT!GD667","v":14.4}]
[{"$f":"INPUT!EU:EU","v":45219.461342592593},{"$f":"INPUT!FE668","v":73.900000000000006},{"$f":"INPUT!FI668","v":54.2},{"$f":"INPUT!GB668","v":60.1},{"$f":"INPUT!GD668","v":14.5}]
[{"$f":"INPUT!EU:EU","v":45219.462048611109},{"$f":"INPUT!FE669","v":74.099999999999994},{"$f":"INPUT!FI669","v":54.2},{"$f":"INPUT!GB669","v":60.1},{"$f":"INPUT!GD669","v":14.3}]
[{"$f":"INPUT!EU:EU","v":45219.462743055556},{"$f":"INPUT!FE670","v":74.2},{"$f":"INPUT!FI670","v":54.2},{"$f":"INPUT!GB670","v":60.1},{"$f":"INPUT!GD670","v":14.2}]
[{"$f":"INPUT!EU:EU","v":45219.463449074072},{"$f":"INPUT!FE671","v":74.3},{"$f":"INPUT!FI671","v":54.2},{"$f":"INPUT!GB671","v":60.1},{"$f":"INPUT!GD671","v":14.4}]
[{"$f":"INPUT!EU:EU","v":45219.464155092595},{"$f":"INPUT!FE672","v":74.5},{"$f":"INPUT!FI672","v":54.2},{"$f":"INPUT!GB672","v":60.1},{"$f":"INPUT!GD672","v":14.5}]
[{"$f":"INPUT!EU:EU","v":45219.464861111112},{"$f":"INPUT!FE673","v":74.599999999999994},{"$f":"INPUT!FI673","v":54.2},{"$f":"INPUT!GB673","v":60.1},{"$f":"INPUT!GD673","v":14.3}]
[{"$f":"INPUT!EU:EU","v":45219.465567129628},{"$f":"INPUT!FE674","v":74.8},{"$f":"INPUT!FI674","v":54.2},{"$f":"INPUT!GB674","v":60.1},{"$f":"INPUT!GD674","v":14.3}]
[{"$f":"INPUT!EU:EU","v":45219.466273148151},{"$f":"INPUT!FE675","v":74.900000000000006},{"$f":"INPUT!FI675","v":54.2},{"$f":"INPUT!GB675","v":60.1},{"$f":"INPUT!GD675","v":14.4}]
[{"$f":"INPUT!EU:EU","v":45219.466979166667},{"$f":"INPUT!FE676","v":75.099999999999994},{"$f":"INPUT!FI676","v":54.2},{"$f":"INPUT!GB676","v":60.1},{"$f":"INPUT!GD676","v":14.6}]
[{"$f":"INPUT!EU:EU","v":45219.467685185184},{"$f":"INPUT!FE677","v":75.2},{"$f":"INPUT!FI677","v":54.2},{"$f":"INPUT!GB677","v":60.1},{"$f":"INPUT!GD677","v":14.4}]
[{"$f":"INPUT!EU:EU","v":45219.468402777777},{"$f":"INPUT!FE678","v":75.400000000000006},{"$f":"INPUT!FI678","v":54.2},{"$f":"INPUT!GB678","v":60.1},{"$f":"INPUT!GD678","v":14}]
[{"$f":"INPUT!EU:EU","v":45219.469097222223},{"$f":"INPUT!FE679","v":75.5},{"$f":"INPUT!FI679","v":54.2},{"$f":"INPUT!GB679","v":60.1},{"$f":"INPUT!GD679","v":13.8}]
[{"$f":"INPUT!EU:EU","v":45219.46980324074},{"$f":"INPUT!FE680","v":75.599999999999994},{"$f":"INPUT!FI680","v":54.2},{"$f":"INPUT!GB680","v":60.1},{"$f":"INPUT!GD680","v":13.9}]
[{"$f":"INPUT!EU:EU","v":45219.470509259256},{"$f":"INPUT!FE681","v":75.8},{"$f":"INPUT!FI681","v":54.2},{"$f":"INPUT!GB681","v":60.1},{"$f":"INPUT!GD681","v":14.1}]
[{"$f":"INPUT!EU:EU","v":45219.471215277779},{"$f":"INPUT!FE682","v":75.900000000000006},{"$f":"INPUT!FI682","v":54.2},{"$f":"INPUT!GB682","v":60.1},{"$f":"INPUT!GD682","v":14.2}]
[{"$f":"INPUT!EU:EU","v":45219.471921296295},{"$f":"INPUT!FE683","v":76.099999999999994},{"$f":"INPUT!FI683","v":54.2},{"$f":"INPUT!GB683","v":60.1},{"$f":"INPUT!GD683","v":14.1}]
[{"$f":"INPUT!EU:EU","v":45219.472627314812},{"$f":"INPUT!FE684","v":76.2},{"$f":"INPUT!FI684","v":54.2},{"$f":"INPUT!GB684","v":60.1},{"$f":"INPUT!GD684","v":13.9}]
[{"$f":"INPUT!EU:EU","v":45219.473333333335},{"$f":"INPUT!FE685","v":76.3},{"$f":"INPUT!FI685","v":54.2},{"$f":"INPUT!GB685","v":60.1},{"$f":"INPUT!GD685","v":14.1}]
[{"$f":"INPUT!EU:EU","v":45219.474039351851},{"$f":"INPUT!FE686","v":76.5},{"$f":"INPUT!FI686","v":54.2},{"$f":"INPUT!GB686","v":60.1},{"$f":"INPUT!GD686","v":14.1}]
[{"$f":"INPUT!EU:EU","v":45219.474745370368},{"$f":"INPUT!FE687","v":76.599999999999994},{"$f":"INPUT!FI687","v":54.2},{"$f":"INPUT!GB687","v":60.1},{"$f":"INPUT!GD687","v":14.1}]
[{"$f":"INPUT!EU:EU","v":45219.475462962961},{"$f":"INPUT!FE688","v":76.7},{"$f":"INPUT!FI688","v":54.2},{"$f":"INPUT!GB688","v":60.1},{"$f":"INPUT!GD688","v":14.4}]
[{"$f":"INPUT!EU:EU","v":45219.476157407407},{"$f":"INPUT!FE689","v":76.900000000000006},{"$f":"INPUT!FI689","v":54.2},{"$f":"INPUT!GB689","v":60.1},{"$f":"INPUT!GD689","v":14.1}]
[{"$f":"INPUT!EU:EU","v":45219.476863425924},{"$f":"INPUT!FE690","v":77},{"$f":"INPUT!FI690","v":54.2},{"$f":"INPUT!GB690","v":60.1},{"$f":"INPUT!GD690","v":13.9}]
[{"$f":"INPUT!EU:EU","v":45219.477569444447},{"$f":"INPUT!FE691","v":77.099999999999994},{"$f":"INPUT!FI691","v":54.2},{"$f":"INPUT!GB691","v":60.1},{"$f":"INPUT!GD691","v":14.1}]
[{"$f":"INPUT!EU:EU","v":45219.478275462963},{"$f":"INPUT!FE692","v":77.3},{"$f":"INPUT!FI692","v":54.2},{"$f":"INPUT!GB692","v":60.1},{"$f":"INPUT!GD692","v":14.1}]
[{"$f":"INPUT!EU:EU","v":45219.478981481479},{"$f":"INPUT!FE693","v":77.400000000000006},{"$f":"INPUT!FI693","v":54.2},{"$f":"INPUT!GB693","v":60.1},{"$f":"INPUT!GD693","v":14.3}]
[{"$f":"INPUT!EU:EU","v":45219.479675925926},{"$f":"INPUT!FE694","v":77.5},{"$f":"INPUT!FI694","v":54.2},{"$f":"INPUT!GB694","v":60.1},{"$f":"INPUT!GD694","v":13.7}]
[{"$f":"INPUT!EU:EU","v":45219.480381944442},{"$f":"INPUT!FE695","v":77.599999999999994},{"$f":"INPUT!FI695","v":54.2},{"$f":"INPUT!GB695","v":60.1},{"$f":"INPUT!GD695","v":14.1}]
[{"$f":"INPUT!EU:EU","v":45219.481087962966},{"$f":"INPUT!FE696","v":77.8},{"$f":"INPUT!FI696","v":54.2},{"$f":"INPUT!GB696","v":60.1},{"$f":"INPUT!GD696","v":14.7}]
[{"$f":"INPUT!EU:EU","v":45219.481793981482},{"$f":"INPUT!FE697","v":77.900000000000006},{"$f":"INPUT!FI697","v":54.2},{"$f":"INPUT!GB697","v":60.2},{"$f":"INPUT!GD697","v":16.2}]
[{"$f":"INPUT!EU:EU","v":45219.482511574075},{"$f":"INPUT!FE698","v":78},{"$f":"INPUT!FI698","v":54.2},{"$f":"INPUT!GB698","v":60.1},{"$f":"INPUT!GD698","v":12.9}]
[{"$f":"INPUT!EU:EU","v":45219.483217592591},{"$f":"INPUT!FE699","v":78.099999999999994},{"$f":"INPUT!FI699","v":54.2},{"$f":"INPUT!GB699","v":60.1},{"$f":"INPUT!GD699","v":12.5}]
[{"$f":"INPUT!EU:EU","v":45219.483923611115},{"$f":"INPUT!FE700","v":78.2},{"$f":"INPUT!FI700","v":54.2},{"$f":"INPUT!GB700","v":60.1},{"$f":"INPUT!GD700","v":13.2}]
[{"$f":"INPUT!EU:EU","v":45219.484629629631},{"$f":"INPUT!FE701","v":78.400000000000006},{"$f":"INPUT!FI701","v":54.2},{"$f":"INPUT!GB701","v":60.2},{"$f":"INPUT!GD701","v":12.9}]
[{"$f":"INPUT!EU:EU","v":45219.485324074078},{"$f":"INPUT!FE702","v":78.5},{"$f":"INPUT!FI702","v":54.1},{"$f":"INPUT!GB702","v":60.1},{"$f":"INPUT!GD702","v":7}]
[{"$f":"INPUT!EU:EU","v":45219.486030092594},{"$f":"INPUT!FE703","v":78.599999999999994},{"$f":"INPUT!FI703","v":54.1},{"$f":"INPUT!GB703","v":60.1},{"$f":"INPUT!GD703","v":6.3}]
[{"$f":"INPUT!EU:EU","v":45219.48673611111},{"$f":"INPUT!FE704","v":78.7},{"$f":"INPUT!FI704","v":54.2},{"$f":"INPUT!GB704","v":60.1},{"$f":"INPUT!GD704","v":12.8}]
[{"$f":"INPUT!EU:EU","v":45219.487442129626},{"$f":"INPUT!FE705","v":78.8},{"$f":"INPUT!FI705","v":54.2},{"$f":"INPUT!GB705","v":60.1},{"$f":"INPUT!GD705","v":13.1}]
[{"$f":"INPUT!EU:EU","v":45219.48814814815},{"$f":"INPUT!FE706","v":78.900000000000006},{"$f":"INPUT!FI706","v":54.2},{"$f":"INPUT!GB706","v":60.1},{"$f":"INPUT!GD706","v":13.1}]
[{"$f":"INPUT!EU:EU","v":45219.488854166666},{"$f":"INPUT!FE707","v":79.099999999999994},{"$f":"INPUT!FI707","v":54.2},{"$f":"INPUT!GB707","v":60.1},{"$f":"INPUT!GD707","v":13}]
[{"$f":"INPUT!EU:EU","v":45219.489571759259},{"$f":"INPUT!FE708","v":79.2},{"$f":"INPUT!FI708","v":54.2},{"$f":"INPUT!GB708","v":60.1},{"$f":"INPUT!GD708","v":12.5}]
[{"$f":"INPUT!EU:EU","v":45219.490277777775},{"$f":"INPUT!FE709","v":79.3},{"$f":"INPUT!FI709","v":54.2},{"$f":"INPUT!GB709","v":60.1},{"$f":"INPUT!GD709","v":12.9}]
[{"$f":"INPUT!EU:EU","v":45219.490983796299},{"$f":"INPUT!FE710","v":79.5},{"$f":"INPUT!FI710","v":54.2},{"$f":"INPUT!GB710","v":60.1},{"$f":"INPUT!GD710","v":13.5}]
[{"$f":"INPUT!EU:EU","v":45219.491678240738},{"$f":"INPUT!FE711","v":79.599999999999994},{"$f":"INPUT!FI711","v":54.2},{"$f":"INPUT!GB711","v":60.1},{"$f":"INPUT!GD711","v":13.4}]
[{"$f":"INPUT!EU:EU","v":45219.492384259262},{"$f":"INPUT!FE712","v":79.7},{"$f":"INPUT!FI712","v":54.2},{"$f":"INPUT!GB712","v":60.1},{"$f":"INPUT!GD712","v":12.7}]
[{"$f":"INPUT!EU:EU","v":45219.493078703701},{"$f":"INPUT!FE713","v":79.8},{"$f":"INPUT!FI713","v":54.2},{"$f":"INPUT!GB713","v":60.1},{"$f":"INPUT!GD713","v":13.8}]
[{"$f":"INPUT!EU:EU","v":45219.493784722225},{"$f":"INPUT!FE714","v":80},{"$f":"INPUT!FI714","v":54.2},{"$f":"INPUT!GB714","v":60.1},{"$f":"INPUT!GD714","v":14.1}]
[{"$f":"INPUT!EU:EU","v":45219.494490740741},{"$f":"INPUT!FE715","v":80.099999999999994},{"$f":"INPUT!FI715","v":54.2},{"$f":"INPUT!GB715","v":60.1},{"$f":"INPUT!GD715","v":14}]
[{"$f":"INPUT!EU:EU","v":45219.495196759257},{"$f":"INPUT!FE716","v":80.3},{"$f":"INPUT!FI716","v":54.3},{"$f":"INPUT!GB716","v":60.1},{"$f":"INPUT!GD716","v":13.9}]
[{"$f":"INPUT!EU:EU","v":45219.49590277778},{"$f":"INPUT!FE717","v":80.400000000000006},{"$f":"INPUT!FI717","v":54.2},{"$f":"INPUT!GB717","v":60.1},{"$f":"INPUT!GD717","v":14}]
[{"$f":"INPUT!EU:EU","v":45219.496620370373},{"$f":"INPUT!FE718","v":80.5},{"$f":"INPUT!FI718","v":54.2},{"$f":"INPUT!GB718","v":60.1},{"$f":"INPUT!GD718","v":13.8}]
[{"$f":"INPUT!EU:EU","v":45219.497314814813},{"$f":"INPUT!FE719","v":80.7},{"$f":"INPUT!FI719","v":54.2},{"$f":"INPUT!GB719","v":60.1},{"$f":"INPUT!GD719","v":14.2}]
[{"$f":"INPUT!EU:EU","v":45219.498020833336},{"$f":"INPUT!FE720","v":80.8},{"$f":"INPUT!FI720","v":54.2},{"$f":"INPUT!GB720","v":60.1},{"$f":"INPUT!GD720","v":14}]
[{"$f":"INPUT!EU:EU","v":45219.498715277776},{"$f":"INPUT!FE721","v":80.900000000000006},{"$f":"INPUT!FI721","v":54.3},{"$f":"INPUT!GB721","v":60.1},{"$f":"INPUT!GD721","v":14}]
[{"$f":"INPUT!EU:EU","v":45219.499421296299},{"$f":"INPUT!FE722","v":81.099999999999994},{"$f":"INPUT!FI722","v":54.2},{"$f":"INPUT!GB722","v":60.1},{"$f":"INPUT!GD722","v":14}]
[{"$f":"INPUT!EU:EU","v":45219.500127314815},{"$f":"INPUT!FE723","v":81.2},{"$f":"INPUT!FI723","v":54.2},{"$f":"INPUT!GB723","v":60.1},{"$f":"INPUT!GD723","v":14.2}]
[{"$f":"INPUT!EU:EU","v":45219.500821759262},{"$f":"INPUT!FE724","v":81.3},{"$f":"INPUT!FI724","v":54.3},{"$f":"INPUT!GB724","v":60.1},{"$f":"INPUT!GD724","v":13.9}]
[{"$f":"INPUT!EU:EU","v":45219.501527777778},{"$f":"INPUT!FE725","v":81.5},{"$f":"INPUT!FI725","v":54.2},{"$f":"INPUT!GB725","v":60.1},{"$f":"INPUT!GD725","v":14.1}]
[{"$f":"INPUT!EU:EU","v":45219.502233796295},{"$f":"INPUT!FE726","v":81.599999999999994},{"$f":"INPUT!FI726","v":54.2},{"$f":"INPUT!GB726","v":60.1},{"$f":"INPUT!GD726","v":14.1}]
[{"$f":"INPUT!EU:EU","v":45219.502939814818},{"$f":"INPUT!FE727","v":81.8},{"$f":"INPUT!FI727","v":54.2},{"$f":"INPUT!GB727","v":60.1},{"$f":"INPUT!GD727","v":14.2}]
[{"$f":"INPUT!EU:EU","v":45219.503657407404},{"$f":"INPUT!FE728","v":81.900000000000006},{"$f":"INPUT!FI728","v":54.2},{"$f":"INPUT!GB728","v":60.1},{"$f":"INPUT!GD728","v":14.2}]
[{"$f":"INPUT!EU:EU","v":45219.504351851851},{"$f":"INPUT!FE729","v":82},{"$f":"INPUT!FI729","v":54.2},{"$f":"INPUT!GB729","v":60.1},{"$f":"INPUT!GD729","v":13.8}]
[{"$f":"INPUT!EU:EU","v":45219.505057870374},{"$f":"INPUT!FE730","v":82.2},{"$f":"INPUT!FI730","v":54.2},{"$f":"INPUT!GB730","v":60.1},{"$f":"INPUT!GD730","v":14.3}]
[{"$f":"INPUT!EU:EU","v":45219.50576388889},{"$f":"INPUT!FE731","v":82.3},{"$f":"INPUT!FI731","v":54.2},{"$f":"INPUT!GB731","v":60.1},{"$f":"INPUT!GD731","v":14.3}]
[{"$f":"INPUT!EU:EU","v":45219.506469907406},{"$f":"INPUT!FE732","v":82.4},{"$f":"INPUT!FI732","v":54.2},{"$f":"INPUT!GB732","v":60.1},{"$f":"INPUT!GD732","v":14.2}]
[{"$f":"INPUT!EU:EU","v":45219.507175925923},{"$f":"INPUT!FE733","v":82.5},{"$f":"INPUT!FI733","v":54.1},{"$f":"INPUT!GB733","v":60.1},{"$f":"INPUT!GD733","v":14}]
[{"$f":"INPUT!EU:EU","v":45219.507870370369},{"$f":"INPUT!FE734","v":82.6},{"$f":"INPUT!FI734","v":54.1},{"$f":"INPUT!GB734","v":60.1},{"$f":"INPUT!GD734","v":14.1}]
[{"$f":"INPUT!EU:EU","v":45219.508576388886},{"$f":"INPUT!FE735","v":82.7},{"$f":"INPUT!FI735","v":54.1},{"$f":"INPUT!GB735","v":60.1},{"$f":"INPUT!GD735","v":14.5}]
[{"$f":"INPUT!EU:EU","v":45219.509282407409},{"$f":"INPUT!FE736","v":82.8},{"$f":"INPUT!FI736","v":54.2},{"$f":"INPUT!GB736","v":60.1},{"$f":"INPUT!GD736","v":14.8}]
[{"$f":"INPUT!EU:EU","v":45219.51},{"$f":"INPUT!FE737","v":82.9},{"$f":"INPUT!FI737","v":54.2},{"$f":"INPUT!GB737","v":60.1},{"$f":"INPUT!GD737","v":14.2}]
[{"$f":"INPUT!EU:EU","v":45219.510706018518},{"$f":"INPUT!FE738","v":83},{"$f":"INPUT!FI738","v":54.1},{"$f":"INPUT!GB738","v":60.1},{"$f":"INPUT!GD738","v":14.1}]
[{"$f":"INPUT!EU:EU","v":45219.511400462965},{"$f":"INPUT!FE739","v":83.1},{"$f":"INPUT!FI739","v":54.1},{"$f":"INPUT!GB739","v":60.1},{"$f":"INPUT!GD739","v":14.1}]
[{"$f":"INPUT!EU:EU","v":45219.512106481481},{"$f":"INPUT!FE740","v":83.2},{"$f":"INPUT!FI740","v":54.1},{"$f":"INPUT!GB740","v":60.1},{"$f":"INPUT!GD740","v":14.1}]
[{"$f":"INPUT!EU:EU","v":45219.512800925928},{"$f":"INPUT!FE741","v":83.3},{"$f":"INPUT!FI741","v":54.2},{"$f":"INPUT!GB741","v":60.1},{"$f":"INPUT!GD741","v":15.1}]
[{"$f":"INPUT!EU:EU","v":45219.513506944444},{"$f":"INPUT!FE742","v":83.4},{"$f":"INPUT!FI742","v":54.2},{"$f":"INPUT!GB742","v":60.1},{"$f":"INPUT!GD742","v":14.1}]
[{"$f":"INPUT!EU:EU","v":45219.51421296296},{"$f":"INPUT!FE743","v":83.6},{"$f":"INPUT!FI743","v":54.2},{"$f":"INPUT!GB743","v":60.1},{"$f":"INPUT!GD743","v":14.2}]
[{"$f":"INPUT!EU:EU","v":45219.514907407407},{"$f":"INPUT!FE744","v":83.7},{"$f":"INPUT!FI744","v":54.2},{"$f":"INPUT!GB744","v":60.1},{"$f":"INPUT!GD744","v":14.3}]
[{"$f":"INPUT!EU:EU","v":45219.515613425923},{"$f":"INPUT!FE745","v":83.8},{"$f":"INPUT!FI745","v":54.1},{"$f":"INPUT!GB745","v":60.1},{"$f":"INPUT!GD745","v":14.1}]
[{"$f":"INPUT!EU:EU","v":45219.516319444447},{"$f":"INPUT!FE746","v":83.9},{"$f":"INPUT!FI746","v":54.1},{"$f":"INPUT!GB746","v":60.1},{"$f":"INPUT!GD746","v":14}]
[{"$f":"INPUT!EU:EU","v":45219.51703703704},{"$f":"INPUT!FE747","v":84},{"$f":"INPUT!FI747","v":54.2},{"$f":"INPUT!GB747","v":60.2},{"$f":"INPUT!GD747","v":15.3}]
[{"$f":"INPUT!EU:EU","v":45219.517743055556},{"$f":"INPUT!FE748","v":84.1},{"$f":"INPUT!FI748","v":54.2},{"$f":"INPUT!GB748","v":60.1},{"$f":"INPUT!GD748","v":14.3}]
[{"$f":"INPUT!EU:EU","v":45219.518449074072},{"$f":"INPUT!FE749","v":84.2},{"$f":"INPUT!FI749","v":54.2},{"$f":"INPUT!GB749","v":60.1},{"$f":"INPUT!GD749","v":14.4}]
[{"$f":"INPUT!EU:EU","v":45219.519155092596},{"$f":"INPUT!FE750","v":84.3},{"$f":"INPUT!FI750","v":54.1},{"$f":"INPUT!GB750","v":60.1},{"$f":"INPUT!GD750","v":14.4}]
[{"$f":"INPUT!EU:EU","v":45219.519861111112},{"$f":"INPUT!FE751","v":84.4},{"$f":"INPUT!FI751","v":54.1},{"$f":"INPUT!GB751","v":60.1},{"$f":"INPUT!GD751","v":14.3}]
[{"$f":"INPUT!EU:EU","v":45219.520555555559},{"$f":"INPUT!FE752","v":84.5},{"$f":"INPUT!FI752","v":54.1},{"$f":"INPUT!GB752","v":60.1},{"$f":"INPUT!GD752","v":14.6}]
[{"$f":"INPUT!EU:EU","v":45219.521261574075},{"$f":"INPUT!FE753","v":84.6},{"$f":"INPUT!FI753","v":54.1},{"$f":"INPUT!GB753","v":60.1},{"$f":"INPUT!GD753","v":14.4}]
[{"$f":"INPUT!EU:EU","v":45219.521967592591},{"$f":"INPUT!FE754","v":84.7},{"$f":"INPUT!FI754","v":54.1},{"$f":"INPUT!GB754","v":60.1},{"$f":"INPUT!GD754","v":14.3}]
[{"$f":"INPUT!EU:EU","v":45219.522673611114},{"$f":"INPUT!FE755","v":84.8},{"$f":"INPUT!FI755","v":54.1},{"$f":"INPUT!GB755","v":60.1},{"$f":"INPUT!GD755","v":14}]
[{"$f":"INPUT!EU:EU","v":45219.523379629631},{"$f":"INPUT!FE756","v":84.9},{"$f":"INPUT!FI756","v":54.2},{"$f":"INPUT!GB756","v":60.1},{"$f":"INPUT!GD756","v":14.3}]
[{"$f":"INPUT!EU:EU","v":45219.524085648147},{"$f":"INPUT!FE757","v":85},{"$f":"INPUT!FI757","v":54.2},{"$f":"INPUT!GB757","v":60.1},{"$f":"INPUT!GD757","v":14.4}]
[{"$f":"INPUT!EU:EU","v":45219.524791666663},{"$f":"INPUT!FE758","v":85.1},{"$f":"INPUT!FI758","v":54.2},{"$f":"INPUT!GB758","v":60.1},{"$f":"INPUT!GD758","v":14.2}]
[{"$f":"INPUT!EU:EU","v":45219.52548611111},{"$f":"INPUT!FE759","v":85.2},{"$f":"INPUT!FI759","v":54.1},{"$f":"INPUT!GB759","v":60.2},{"$f":"INPUT!GD759","v":17.7}]
[{"$f":"INPUT!EU:EU","v":45219.526192129626},{"$f":"INPUT!FE760","v":85.3},{"$f":"INPUT!FI760","v":54.1},{"$f":"INPUT!GB760","v":60.2},{"$f":"INPUT!GD760","v":15.9}]
[{"$f":"INPUT!EU:EU","v":45219.526898148149},{"$f":"INPUT!FE761","v":85.4},{"$f":"INPUT!FI761","v":54.2},{"$f":"INPUT!GB761","v":60.1},{"$f":"INPUT!GD761","v":14.3}]
[{"$f":"INPUT!EU:EU","v":45219.527604166666},{"$f":"INPUT!FE762","v":85.5},{"$f":"INPUT!FI762","v":54.2},{"$f":"INPUT!GB762","v":60.1},{"$f":"INPUT!GD762","v":14.3}]
[{"$f":"INPUT!EU:EU","v":45219.528310185182},{"$f":"INPUT!FE763","v":85.6},{"$f":"INPUT!FI763","v":54.2},{"$f":"INPUT!GB763","v":60.1},{"$f":"INPUT!GD763","v":14.2}]
[{"$f":"INPUT!EU:EU","v":45219.529016203705},{"$f":"INPUT!FE764","v":85.7},{"$f":"INPUT!FI764","v":54.2},{"$f":"INPUT!GB764","v":60.1},{"$f":"INPUT!GD764","v":13.9}]
[{"$f":"INPUT!EU:EU","v":45219.529722222222},{"$f":"INPUT!FE765","v":85.8},{"$f":"INPUT!FI765","v":54.2},{"$f":"INPUT!GB765","v":60.1},{"$f":"INPUT!GD765","v":14.5}]
[{"$f":"INPUT!EU:EU","v":45219.530428240738},{"$f":"INPUT!FE766","v":85.9},{"$f":"INPUT!FI766","v":54.3},{"$f":"INPUT!GB766","v":60.2},{"$f":"INPUT!GD766","v":15.1}]
[{"$f":"INPUT!EU:EU","v":45219.531134259261},{"$f":"INPUT!FE767","v":86},{"$f":"INPUT!FI767","v":54.3},{"$f":"INPUT!GB767","v":60.2},{"$f":"INPUT!GD767","v":16.399999999999999}]
[{"$f":"INPUT!EU:EU","v":45219.531840277778},{"$f":"INPUT!FE768","v":86.1},{"$f":"INPUT!FI768","v":54.3},{"$f":"INPUT!GB768","v":60.2},{"$f":"INPUT!GD768","v":13.8}]
[{"$f":"INPUT!EU:EU","v":45219.532546296294},{"$f":"INPUT!FE769","v":86.2},{"$f":"INPUT!FI769","v":54.3},{"$f":"INPUT!GB769","v":60.1},{"$f":"INPUT!GD769","v":13.8}]
[{"$f":"INPUT!EU:EU","v":45219.533252314817},{"$f":"INPUT!FE770","v":86.4},{"$f":"INPUT!FI770","v":54.3},{"$f":"INPUT!GB770","v":60.1},{"$f":"INPUT!GD770","v":14.3}]
[{"$f":"INPUT!EU:EU","v":45219.533958333333},{"$f":"INPUT!FE771","v":86.5},{"$f":"INPUT!FI771","v":54.3},{"$f":"INPUT!GB771","v":60.1},{"$f":"INPUT!GD771","v":14.2}]
[{"$f":"INPUT!EU:EU","v":45219.53466435185},{"$f":"INPUT!FE772","v":86.7},{"$f":"INPUT!FI772","v":54.3},{"$f":"INPUT!GB772","v":60.1},{"$f":"INPUT!GD772","v":14.5}]
[{"$f":"INPUT!EU:EU","v":45219.535370370373},{"$f":"INPUT!FE773","v":86.8},{"$f":"INPUT!FI773","v":54.3},{"$f":"INPUT!GB773","v":60.1},{"$f":"INPUT!GD773","v":13.8}]
[{"$f":"INPUT!EU:EU","v":45219.536076388889},{"$f":"INPUT!FE774","v":86.9},{"$f":"INPUT!FI774","v":54.3},{"$f":"INPUT!GB774","v":60.1},{"$f":"INPUT!GD774","v":13.9}]
[{"$f":"INPUT!EU:EU","v":45219.536782407406},{"$f":"INPUT!FE775","v":87.1},{"$f":"INPUT!FI775","v":54.3},{"$f":"INPUT!GB775","v":60.1},{"$f":"INPUT!GD775","v":14.2}]
[{"$f":"INPUT!EU:EU","v":45219.537476851852},{"$f":"INPUT!FE776","v":87.2},{"$f":"INPUT!FI776","v":54.3},{"$f":"INPUT!GB776","v":60.1},{"$f":"INPUT!GD776","v":14.2}]
[{"$f":"INPUT!EU:EU","v":45219.538194444445},{"$f":"INPUT!FE777","v":87.4},{"$f":"INPUT!FI777","v":54.3},{"$f":"INPUT!GB777","v":60.1},{"$f":"INPUT!GD777","v":14}]
[{"$f":"INPUT!EU:EU","v":45219.538900462961},{"$f":"INPUT!FE778","v":87.5},{"$f":"INPUT!FI778","v":54.3},{"$f":"INPUT!GB778","v":60.1},{"$f":"INPUT!GD778","v":14.1}]
[{"$f":"INPUT!EU:EU","v":45219.539606481485},{"$f":"INPUT!FE779","v":87.6},{"$f":"INPUT!FI779","v":54.3},{"$f":"INPUT!GB779","v":60.1},{"$f":"INPUT!GD779","v":14.2}]
[{"$f":"INPUT!EU:EU","v":45219.540300925924},{"$f":"INPUT!FE780","v":87.8},{"$f":"INPUT!FI780","v":54.3},{"$f":"INPUT!GB780","v":60.1},{"$f":"INPUT!GD780","v":14.6}]
[{"$f":"INPUT!EU:EU","v":45219.541006944448},{"$f":"INPUT!FE781","v":87.9},{"$f":"INPUT!FI781","v":54.3},{"$f":"INPUT!GB781","v":60.1},{"$f":"INPUT!GD781","v":14.2}]
[{"$f":"INPUT!EU:EU","v":45219.541712962964},{"$f":"INPUT!FE782","v":88.1},{"$f":"INPUT!FI782","v":54.3},{"$f":"INPUT!GB782","v":60.1},{"$f":"INPUT!GD782","v":14.1}]
[{"$f":"INPUT!EU:EU","v":45219.54241898148},{"$f":"INPUT!FE783","v":88.2},{"$f":"INPUT!FI783","v":54.3},{"$f":"INPUT!GB783","v":60.1},{"$f":"INPUT!GD783","v":13.9}]
[{"$f":"INPUT!EU:EU","v":45219.543124999997},{"$f":"INPUT!FE784","v":88.3},{"$f":"INPUT!FI784","v":54.3},{"$f":"INPUT!GB784","v":60.1},{"$f":"INPUT!GD784","v":14.3}]
[{"$f":"INPUT!EU:EU","v":45219.543819444443},{"$f":"INPUT!FE785","v":88.5},{"$f":"INPUT!FI785","v":54.3},{"$f":"INPUT!GB785","v":60.1},{"$f":"INPUT!GD785","v":14.3}]
[{"$f":"INPUT!EU:EU","v":45219.544525462959},{"$f":"INPUT!FE786","v":88.6},{"$f":"INPUT!FI786","v":54.3},{"$f":"INPUT!GB786","v":60.1},{"$f":"INPUT!GD786","v":13.9}]
[{"$f":"INPUT!EU:EU","v":45219.545243055552},{"$f":"INPUT!FE787","v":88.7},{"$f":"INPUT!FI787","v":54.3},{"$f":"INPUT!GB787","v":60.1},{"$f":"INPUT!GD787","v":14.1}]
[{"$f":"INPUT!EU:EU","v":45219.545949074076},{"$f":"INPUT!FE788","v":88.9},{"$f":"INPUT!FI788","v":54.3},{"$f":"INPUT!GB788","v":60.1},{"$f":"INPUT!GD788","v":13.9}]
[{"$f":"INPUT!EU:EU","v":45219.546655092592},{"$f":"INPUT!FE789","v":89},{"$f":"INPUT!FI789","v":54.3},{"$f":"INPUT!GB789","v":60.1},{"$f":"INPUT!GD789","v":14.1}]
[{"$f":"INPUT!EU:EU","v":45219.547361111108},{"$f":"INPUT!FE790","v":89.2},{"$f":"INPUT!FI790","v":54.3},{"$f":"INPUT!GB790","v":60.1},{"$f":"INPUT!GD790","v":14.2}]
[{"$f":"INPUT!EU:EU","v":45219.548055555555},{"$f":"INPUT!FE791","v":89.3},{"$f":"INPUT!FI791","v":54.3},{"$f":"INPUT!GB791","v":60.1},{"$f":"INPUT!GD791","v":14.2}]
[{"$f":"INPUT!EU:EU","v":45219.548761574071},{"$f":"INPUT!FE792","v":89.4},{"$f":"INPUT!FI792","v":54.3},{"$f":"INPUT!GB792","v":60.1},{"$f":"INPUT!GD792","v":14}]
[{"$f":"INPUT!EU:EU","v":45219.549467592595},{"$f":"INPUT!FE793","v":89.6},{"$f":"INPUT!FI793","v":54.3},{"$f":"INPUT!GB793","v":60.1},{"$f":"INPUT!GD793","v":13.2}]
[{"$f":"INPUT!EU:EU","v":45219.550173611111},{"$f":"INPUT!FE794","v":89.7},{"$f":"INPUT!FI794","v":54.3},{"$f":"INPUT!GB794","v":60.1},{"$f":"INPUT!GD794","v":13.2}]
[{"$f":"INPUT!EU:EU","v":45219.550879629627},{"$f":"INPUT!FE795","v":89.8},{"$f":"INPUT!FI795","v":54.3},{"$f":"INPUT!GB795","v":60.1},{"$f":"INPUT!GD795","v":13.1}]
[{"$f":"INPUT!EU:EU","v":45219.55159722222},{"$f":"INPUT!FE796","v":90},{"$f":"INPUT!FI796","v":54.3},{"$f":"INPUT!GB796","v":60.7},{"$f":"INPUT!GD796","v":12.8}]
[{"$f":"INPUT!EU:EU","v":45219.552291666667},{"$f":"INPUT!FE797","v":89.9},{"$f":"INPUT!FI797","v":53.7},{"$f":"INPUT!GB797","v":59},{"$f":"INPUT!GD797","v":2}]
[{"$f":"INPUT!EU:EU","v":45219.552997685183},{"$f":"INPUT!FE798","v":89.9},{"$f":"INPUT!FI798","v":53.6},{"$f":"INPUT!GB798","v":59},{"$f":"INPUT!GD798","v":1.9}]
[{"$f":"INPUT!EU:EU","v":45219.55369212963},{"$f":"INPUT!FE799","v":89.8},{"$f":"INPUT!FI799","v":53.6},{"$f":"INPUT!GB799","v":59},{"$f":"INPUT!GD799","v":2}]
[{"$f":"INPUT!EU:EU","v":45219.554398148146},{"$f":"INPUT!FE800","v":89.8},{"$f":"INPUT!FI800","v":53.5},{"$f":"INPUT!GB800","v":59},{"$f":"INPUT!GD800","v":2}]
[{"$f":"INPUT!EU:EU","v":45219.555104166669},{"$f":"INPUT!FE801","v":89.7},{"$f":"INPUT!FI801","v":53.5},{"$f":"INPUT!GB801","v":59},{"$f":"INPUT!GD801","v":2.8}]
[{"$f":"INPUT!EU:EU","v":45219.555798611109},{"$f":"INPUT!FE802","v":89.7},{"$f":"INPUT!FI802","v":53.5},{"$f":"INPUT!GB802","v":59},{"$f":"INPUT!GD802","v":2.8}]
[{"$f":"INPUT!EU:EU","v":45219.556504629632},{"$f":"INPUT!FE803","v":89.6},{"$f":"INPUT!FI803","v":53.5},{"$f":"INPUT!GB803","v":59},{"$f":"INPUT!GD803","v":2.9}]
[{"$f":"INPUT!EU:EU","v":45219.557210648149},{"$f":"INPUT!FE804","v":89.6},{"$f":"INPUT!FI804","v":53.5},{"$f":"INPUT!GB804","v":59},{"$f":"INPUT!GD804","v":2.9}]
[{"$f":"INPUT!EU:EU","v":45219.557905092595},{"$f":"INPUT!FE805","v":89.5},{"$f":"INPUT!FI805","v":53.5},{"$f":"INPUT!GB805","v":59},{"$f":"INPUT!GD805","v":2.9}]
[{"$f":"INPUT!EU:EU","v":45219.558622685188},{"$f":"INPUT!FE806","v":89.5},{"$f":"INPUT!FI806","v":53.5},{"$f":"INPUT!GB806","v":59},{"$f":"INPUT!GD806","v":3.2}]
[{"$f":"INPUT!EU:EU","v":45219.559328703705},{"$f":"INPUT!FE807","v":89.5},{"$f":"INPUT!FI807","v":54.1},{"$f":"INPUT!GB807","v":59},{"$f":"INPUT!GD807","v":16.100000000000001}]
[{"$f":"INPUT!EU:EU","v":45219.560034722221},{"$f":"INPUT!FE808","v":89.6},{"$f":"INPUT!FI808","v":54.3},{"$f":"INPUT!GB808","v":59},{"$f":"INPUT!GD808","v":15.9}]
[{"$f":"INPUT!EU:EU","v":45219.560729166667},{"$f":"INPUT!FE809","v":89.7},{"$f":"INPUT!FI809","v":54.4},{"$f":"INPUT!GB809","v":59},{"$f":"INPUT!GD809","v":16}]
[{"$f":"INPUT!EU:EU","v":45219.561435185184},{"$f":"INPUT!FE810","v":89.9},{"$f":"INPUT!FI810","v":54.5},{"$f":"INPUT!GB810","v":59},{"$f":"INPUT!GD810","v":16}]
[{"$f":"INPUT!EU:EU","v":45219.562141203707},{"$f":"INPUT!FE811","v":90.1},{"$f":"INPUT!FI811","v":54.5},{"$f":"INPUT!GB811","v":59},{"$f":"INPUT!GD811","v":16.100000000000001}]
[{"$f":"INPUT!EU:EU","v":45219.562835648147},{"$f":"INPUT!FE812","v":90.2},{"$f":"INPUT!FI812","v":54.5},{"$f":"INPUT!GB812","v":59},{"$f":"INPUT!GD812","v":16.100000000000001}]
[{"$f":"INPUT!EU:EU","v":45219.56354166667},{"$f":"INPUT!FE813","v":90.3},{"$f":"INPUT!FI813","v":54.5},{"$f":"INPUT!GB813","v":59},{"$f":"INPUT!GD813","v":16}]
[{"$f":"INPUT!EU:EU","v":45219.564247685186},{"$f":"INPUT!FE814","v":90.4},{"$f":"INPUT!FI814","v":54.5},{"$f":"INPUT!GB814","v":59},{"$f":"INPUT!GD814","v":15.9}]
[{"$f":"INPUT!EU:EU","v":45219.564953703702},{"$f":"INPUT!FE815","v":90.4},{"$f":"INPUT!FI815","v":54.5},{"$f":"INPUT!GB815","v":59},{"$f":"INPUT!GD815","v":16.2}]
[{"$f":"INPUT!EU:EU","v":45219.565671296295},{"$f":"INPUT!FE816","v":90.5},{"$f":"INPUT!FI816","v":54.5},{"$f":"INPUT!GB816","v":59},{"$f":"INPUT!GD816","v":16.2}]
[{"$f":"INPUT!EU:EU","v":45219.566377314812},{"$f":"INPUT!FE817","v":90.6},{"$f":"INPUT!FI817","v":54.5},{"$f":"INPUT!GB817","v":59},{"$f":"INPUT!GD817","v":16.100000000000001}]
[{"$f":"INPUT!EU:EU","v":45219.567083333335},{"$f":"INPUT!FE818","v":90.7},{"$f":"INPUT!FI818","v":54.5},{"$f":"INPUT!GB818","v":59},{"$f":"INPUT!GD818","v":16}]
[{"$f":"INPUT!EU:EU","v":45219.567789351851},{"$f":"INPUT!FE819","v":90.8},{"$f":"INPUT!FI819","v":54.5},{"$f":"INPUT!GB819","v":59},{"$f":"INPUT!GD819","v":16}]
[{"$f":"INPUT!EU:EU","v":45219.568495370368},{"$f":"INPUT!FE820","v":90.9},{"$f":"INPUT!FI820","v":54.4},{"$f":"INPUT!GB820","v":59},{"$f":"INPUT!GD820","v":16.2}]
[{"$f":"INPUT!EU:EU","v":45219.569201388891},{"$f":"INPUT!FE821","v":91},{"$f":"INPUT!FI821","v":54.4},{"$f":"INPUT!GB821","v":59},{"$f":"INPUT!GD821","v":16}]
[{"$f":"INPUT!EU:EU","v":45219.569895833331},{"$f":"INPUT!FE822","v":91.1},{"$f":"INPUT!FI822","v":54.4},{"$f":"INPUT!GB822","v":59},{"$f":"INPUT!GD822","v":16}]
[{"$f":"INPUT!EU:EU","v":45219.570601851854},{"$f":"INPUT!FE823","v":91.2},{"$f":"INPUT!FI823","v":54.4},{"$f":"INPUT!GB823","v":59},{"$f":"INPUT!GD823","v":15.7}]
[{"$f":"INPUT!EU:EU","v":45219.571296296293},{"$f":"INPUT!FE824","v":91.2},{"$f":"INPUT!FI824","v":54.4},{"$f":"INPUT!GB824","v":59},{"$f":"INPUT!GD824","v":15.9}]
[{"$f":"INPUT!EU:EU","v":45219.572002314817},{"$f":"INPUT!FE825","v":91.3},{"$f":"INPUT!FI825","v":54.4},{"$f":"INPUT!GB825","v":59},{"$f":"INPUT!GD825","v":15.9}]
[{"$f":"INPUT!EU:EU","v":45219.57271990741},{"$f":"INPUT!FE826","v":91.4},{"$f":"INPUT!FI826","v":54.4},{"$f":"INPUT!GB826","v":59},{"$f":"INPUT!GD826","v":15.9}]
[{"$f":"INPUT!EU:EU","v":45219.573425925926},{"$f":"INPUT!FE827","v":91.5},{"$f":"INPUT!FI827","v":54.4},{"$f":"INPUT!GB827","v":59},{"$f":"INPUT!GD827","v":15.9}]
[{"$f":"INPUT!EU:EU","v":45219.574131944442},{"$f":"INPUT!FE828","v":91.5},{"$f":"INPUT!FI828","v":54.4},{"$f":"INPUT!GB828","v":59},{"$f":"INPUT!GD828","v":15.8}]
[{"$f":"INPUT!EU:EU","v":45219.574837962966},{"$f":"INPUT!FE829","v":91.6},{"$f":"INPUT!FI829","v":54.4},{"$f":"INPUT!GB829","v":59},{"$f":"INPUT!GD829","v":16}]
[{"$f":"INPUT!EU:EU","v":45219.575532407405},{"$f":"INPUT!FE830","v":91.7},{"$f":"INPUT!FI830","v":54.5},{"$f":"INPUT!GB830","v":59},{"$f":"INPUT!GD830","v":16}]
[{"$f":"INPUT!EU:EU","v":45219.576238425929},{"$f":"INPUT!FE831","v":91.8},{"$f":"INPUT!FI831","v":54.4},{"$f":"INPUT!GB831","v":59},{"$f":"INPUT!GD831","v":16}]
[{"$f":"INPUT!EU:EU","v":45219.576944444445},{"$f":"INPUT!FE832","v":91.9},{"$f":"INPUT!FI832","v":54.4},{"$f":"INPUT!GB832","v":59},{"$f":"INPUT!GD832","v":15.9}]
[{"$f":"INPUT!EU:EU","v":45219.577650462961},{"$f":"INPUT!FE833","v":91.9},{"$f":"INPUT!FI833","v":54.4},{"$f":"INPUT!GB833","v":59},{"$f":"INPUT!GD833","v":16}]
[{"$f":"INPUT!EU:EU","v":45219.578344907408},{"$f":"INPUT!FE834","v":92},{"$f":"INPUT!FI834","v":54.4},{"$f":"INPUT!GB834","v":59},{"$f":"INPUT!GD834","v":16}]
[{"$f":"INPUT!EU:EU","v":45219.579050925924},{"$f":"INPUT!FE835","v":92.1},{"$f":"INPUT!FI835","v":54.5},{"$f":"INPUT!GB835","v":59},{"$f":"INPUT!GD835","v":16.100000000000001}]
[{"$f":"INPUT!EU:EU","v":45219.579768518517},{"$f":"INPUT!FE836","v":92.2},{"$f":"INPUT!FI836","v":54.4},{"$f":"INPUT!GB836","v":59},{"$f":"INPUT!GD836","v":16}]
[{"$f":"INPUT!EU:EU","v":45219.580462962964},{"$f":"INPUT!FE837","v":92.3},{"$f":"INPUT!FI837","v":54.4},{"$f":"INPUT!GB837","v":59},{"$f":"INPUT!GD837","v":15.9}]
[{"$f":"INPUT!EU:EU","v":45219.58116898148},{"$f":"INPUT!FE838","v":92.3},{"$f":"INPUT!FI838","v":54.4},{"$f":"INPUT!GB838","v":59},{"$f":"INPUT!GD838","v":15.9}]
[{"$f":"INPUT!EU:EU","v":45219.581875000003},{"$f":"INPUT!FE839","v":92.4},{"$f":"INPUT!FI839","v":54.4},{"$f":"INPUT!GB839","v":59},{"$f":"INPUT!GD839","v":15.7}]
[{"$f":"INPUT!EU:EU","v":45219.582569444443},{"$f":"INPUT!FE840","v":92.5},{"$f":"INPUT!FI840","v":54.4},{"$f":"INPUT!GB840","v":59},{"$f":"INPUT!GD840","v":15.9}]
[{"$f":"INPUT!EU:EU","v":45219.583275462966},{"$f":"INPUT!FE841","v":92.6},{"$f":"INPUT!FI841","v":54.4},{"$f":"INPUT!GB841","v":59},{"$f":"INPUT!GD841","v":15.7}]
[{"$f":"INPUT!EU:EU","v":45219.583981481483},{"$f":"INPUT!FE842","v":92.6},{"$f":"INPUT!FI842","v":54.4},{"$f":"INPUT!GB842","v":59},{"$f":"INPUT!GD842","v":15.8}]
[{"$f":"INPUT!EU:EU","v":45219.584687499999},{"$f":"INPUT!FE843","v":92.7},{"$f":"INPUT!FI843","v":54.4},{"$f":"INPUT!GB843","v":59},{"$f":"INPUT!GD843","v":15.6}]
[{"$f":"INPUT!EU:EU","v":45219.585393518515},{"$f":"INPUT!FE844","v":92.8},{"$f":"INPUT!FI844","v":54.4},{"$f":"INPUT!GB844","v":59},{"$f":"INPUT!GD844","v":15.7}]
[{"$f":"INPUT!EU:EU","v":45219.586099537039},{"$f":"INPUT!FE845","v":92.9},{"$f":"INPUT!FI845","v":54.5},{"$f":"INPUT!GB845","v":59},{"$f":"INPUT!GD845","v":15.7}]
[{"$f":"INPUT!EU:EU","v":45219.586817129632},{"$f":"INPUT!FE846","v":92.9},{"$f":"INPUT!FI846","v":54.5},{"$f":"INPUT!GB846","v":59},{"$f":"INPUT!GD846","v":15.6}]
[{"$f":"INPUT!EU:EU","v":45219.587511574071},{"$f":"INPUT!FE847","v":93},{"$f":"INPUT!FI847","v":54.5},{"$f":"INPUT!GB847","v":59},{"$f":"INPUT!GD847","v":15.8}]
[{"$f":"INPUT!EU:EU","v":45219.588217592594},{"$f":"INPUT!FE848","v":93.1},{"$f":"INPUT!FI848","v":54.5},{"$f":"INPUT!GB848","v":59},{"$f":"INPUT!GD848","v":15.6}]
[{"$f":"INPUT!EU:EU","v":45219.588923611111},{"$f":"INPUT!FE849","v":93.2},{"$f":"INPUT!FI849","v":54.5},{"$f":"INPUT!GB849","v":59},{"$f":"INPUT!GD849","v":15.7}]
[{"$f":"INPUT!EU:EU","v":45219.589629629627},{"$f":"INPUT!FE850","v":93.3},{"$f":"INPUT!FI850","v":54.5},{"$f":"INPUT!GB850","v":59},{"$f":"INPUT!GD850","v":15.6}]
[{"$f":"INPUT!EU:EU","v":45219.590324074074},{"$f":"INPUT!FE851","v":93.4},{"$f":"INPUT!FI851","v":54.5},{"$f":"INPUT!GB851","v":59},{"$f":"INPUT!GD851","v":15.8}]
[{"$f":"INPUT!EU:EU","v":45219.59103009259},{"$f":"INPUT!FE852","v":93.5},{"$f":"INPUT!FI852","v":54.5},{"$f":"INPUT!GB852","v":59},{"$f":"INPUT!GD852","v":15.6}]
[{"$f":"INPUT!EU:EU","v":45219.591736111113},{"$f":"INPUT!FE853","v":93.6},{"$f":"INPUT!FI853","v":54.5},{"$f":"INPUT!GB853","v":59},{"$f":"INPUT!GD853","v":15.7}]
[{"$f":"INPUT!EU:EU","v":45219.592442129629},{"$f":"INPUT!FE854","v":93.7},{"$f":"INPUT!FI854","v":54.5},{"$f":"INPUT!GB854","v":59},{"$f":"INPUT!GD854","v":15.5}]
[{"$f":"INPUT!EU:EU","v":45219.593136574076},{"$f":"INPUT!FE855","v":93.7},{"$f":"INPUT!FI855","v":54.5},{"$f":"INPUT!GB855","v":59},{"$f":"INPUT!GD855","v":15.7}]
[{"$f":"INPUT!EU:EU","v":45219.593865740739},{"$f":"INPUT!FE856","v":93.8},{"$f":"INPUT!FI856","v":54.5},{"$f":"INPUT!GB856","v":59},{"$f":"INPUT!GD856","v":15.6}]
[{"$f":"INPUT!EU:EU","v":45219.594571759262},{"$f":"INPUT!FE857","v":93.9},{"$f":"INPUT!FI857","v":54.5},{"$f":"INPUT!GB857","v":59},{"$f":"INPUT!GD857","v":15.7}]
[{"$f":"INPUT!EU:EU","v":45219.595266203702},{"$f":"INPUT!FE858","v":94},{"$f":"INPUT!FI858","v":54.5},{"$f":"INPUT!GB858","v":59},{"$f":"INPUT!GD858","v":15.7}]
[{"$f":"INPUT!EU:EU","v":45219.595972222225},{"$f":"INPUT!FE859","v":94.1},{"$f":"INPUT!FI859","v":54.5},{"$f":"INPUT!GB859","v":59},{"$f":"INPUT!GD859","v":15.4}]
[{"$f":"INPUT!EU:EU","v":45219.596678240741},{"$f":"INPUT!FE860","v":94.2},{"$f":"INPUT!FI860","v":54.5},{"$f":"INPUT!GB860","v":59},{"$f":"INPUT!GD860","v":15.5}]
[{"$f":"INPUT!EU:EU","v":45219.597384259258},{"$f":"INPUT!FE861","v":94.3},{"$f":"INPUT!FI861","v":54.5},{"$f":"INPUT!GB861","v":59},{"$f":"INPUT!GD861","v":15.5}]
[{"$f":"INPUT!EU:EU","v":45219.598090277781},{"$f":"INPUT!FE862","v":94.3},{"$f":"INPUT!FI862","v":54.5},{"$f":"INPUT!GB862","v":59},{"$f":"INPUT!GD862","v":15.6}]
[{"$f":"INPUT!EU:EU","v":45219.598796296297},{"$f":"INPUT!FE863","v":94.4},{"$f":"INPUT!FI863","v":54.5},{"$f":"INPUT!GB863","v":59},{"$f":"INPUT!GD863","v":15.4}]
[{"$f":"INPUT!EU:EU","v":45219.599502314813},{"$f":"INPUT!FE864","v":94.5},{"$f":"INPUT!FI864","v":54.5},{"$f":"INPUT!GB864","v":59},{"$f":"INPUT!GD864","v":15.4}]
[{"$f":"INPUT!EU:EU","v":45219.600208333337},{"$f":"INPUT!FE865","v":94.6},{"$f":"INPUT!FI865","v":54.5},{"$f":"INPUT!GB865","v":59},{"$f":"INPUT!GD865","v":15.4}]
[{"$f":"INPUT!EU:EU","v":45219.600914351853},{"$f":"INPUT!FE866","v":94.7},{"$f":"INPUT!FI866","v":54.6},{"$f":"INPUT!GB866","v":59},{"$f":"INPUT!GD866","v":15.5}]
[{"$f":"INPUT!EU:EU","v":45219.601620370369},{"$f":"INPUT!FE867","v":94.8},{"$f":"INPUT!FI867","v":54.6},{"$f":"INPUT!GB867","v":59},{"$f":"INPUT!GD867","v":15.4}]
[{"$f":"INPUT!EU:EU","v":45219.602326388886},{"$f":"INPUT!FE868","v":94.9},{"$f":"INPUT!FI868","v":54.6},{"$f":"INPUT!GB868","v":59},{"$f":"INPUT!GD868","v":15.3}]
[{"$f":"INPUT!EU:EU","v":45219.603032407409},{"$f":"INPUT!FE869","v":94.9},{"$f":"INPUT!FI869","v":54.6},{"$f":"INPUT!GB869","v":59},{"$f":"INPUT!GD869","v":15.2}]
[{"$f":"INPUT!EU:EU","v":45219.603738425925},{"$f":"INPUT!FE870","v":94.9},{"$f":"INPUT!FI870","v":54.6},{"$f":"INPUT!GB870","v":59},{"$f":"INPUT!GD870","v":15.3}]
[{"$f":"INPUT!EU:EU","v":45219.604444444441},{"$f":"INPUT!FE871","v":94.9},{"$f":"INPUT!FI871","v":54.6},{"$f":"INPUT!GB871","v":59},{"$f":"INPUT!GD871","v":15.3}]
[{"$f":"INPUT!EU:EU","v":45219.605150462965},{"$f":"INPUT!FE872","v":94.9},{"$f":"INPUT!FI872","v":54.6},{"$f":"INPUT!GB872","v":59},{"$f":"INPUT!GD872","v":15.3}]
[{"$f":"INPUT!EU:EU","v":45219.605844907404},{"$f":"INPUT!FE873","v":94.9},{"$f":"INPUT!FI873","v":54.6},{"$f":"INPUT!GB873","v":59},{"$f":"INPUT!GD873","v":15.1}]
[{"$f":"INPUT!EU:EU","v":45219.606550925928},{"$f":"INPUT!FE874","v":94.9},{"$f":"INPUT!FI874","v":54.6},{"$f":"INPUT!GB874","v":59},{"$f":"INPUT!GD874","v":15.1}]
[{"$f":"INPUT!EU:EU","v":45219.607268518521},{"$f":"INPUT!FE875","v":94.9},{"$f":"INPUT!FI875","v":54.6},{"$f":"INPUT!GB875","v":59},{"$f":"INPUT!GD875","v":15.1}]
[{"$f":"INPUT!EU:EU","v":45219.60796296296},{"$f":"INPUT!FE876","v":94.9},{"$f":"INPUT!FI876","v":54.6},{"$f":"INPUT!GB876","v":59},{"$f":"INPUT!GD876","v":15.1}]
[{"$f":"INPUT!EU:EU","v":45219.608668981484},{"$f":"INPUT!FE877","v":94.9},{"$f":"INPUT!FI877","v":54.6},{"$f":"INPUT!GB877","v":59},{"$f":"INPUT!GD877","v":15.4}]
[{"$f":"INPUT!EU:EU","v":45219.609375},{"$f":"INPUT!FE878","v":94.9},{"$f":"INPUT!FI878","v":54.6},{"$f":"INPUT!GB878","v":59},{"$f":"INPUT!GD878","v":14.9}]
[{"$f":"INPUT!EU:EU","v":45219.610081018516},{"$f":"INPUT!FE879","v":94.9},{"$f":"INPUT!FI879","v":54.6},{"$f":"INPUT!GB879","v":59},{"$f":"INPUT!GD879","v":15}]
[{"$f":"INPUT!EU:EU","v":45219.61078703704},{"$f":"INPUT!FE880","v":94.9},{"$f":"INPUT!FI880","v":54.7},{"$f":"INPUT!GB880","v":59},{"$f":"INPUT!GD880","v":15}]
[{"$f":"INPUT!EU:EU","v":45219.611493055556},{"$f":"INPUT!FE881","v":94.9},{"$f":"INPUT!FI881","v":54.7},{"$f":"INPUT!GB881","v":59},{"$f":"INPUT!GD881","v":14.9}]
[{"$f":"INPUT!EU:EU","v":45219.612187500003},{"$f":"INPUT!FE882","v":94.9},{"$f":"INPUT!FI882","v":54.7},{"$f":"INPUT!GB882","v":59},{"$f":"INPUT!GD882","v":14.7}]
[{"$f":"INPUT!EU:EU","v":45219.612893518519},{"$f":"INPUT!FE883","v":94.9},{"$f":"INPUT!FI883","v":54.7},{"$f":"INPUT!GB883","v":59},{"$f":"INPUT!GD883","v":14.9}]
[{"$f":"INPUT!EU:EU","v":45219.613599537035},{"$f":"INPUT!FE884","v":94.9},{"$f":"INPUT!FI884","v":54.7},{"$f":"INPUT!GB884","v":59},{"$f":"INPUT!GD884","v":14.9}]
[{"$f":"INPUT!EU:EU","v":45219.614305555559},{"$f":"INPUT!FE885","v":94.9},{"$f":"INPUT!FI885","v":54.7},{"$f":"INPUT!GB885","v":59},{"$f":"INPUT!GD885","v":14.8}]
[{"$f":"INPUT!EU:EU","v":45219.615011574075},{"$f":"INPUT!FE886","v":94.9},{"$f":"INPUT!FI886","v":54.8},{"$f":"INPUT!GB886","v":59},{"$f":"INPUT!GD886","v":14.7}]
[{"$f":"INPUT!EU:EU","v":45219.615717592591},{"$f":"INPUT!FE887","v":94.9},{"$f":"INPUT!FI887","v":54.8},{"$f":"INPUT!GB887","v":59},{"$f":"INPUT!GD887","v":14.6}]
[{"$f":"INPUT!EU:EU","v":45219.616423611114},{"$f":"INPUT!FE888","v":94.9},{"$f":"INPUT!FI888","v":54.8},{"$f":"INPUT!GB888","v":59},{"$f":"INPUT!GD888","v":14.8}]
[{"$f":"INPUT!EU:EU","v":45219.617118055554},{"$f":"INPUT!FE889","v":94.9},{"$f":"INPUT!FI889","v":54.8},{"$f":"INPUT!GB889","v":59},{"$f":"INPUT!GD889","v":14.8}]
[{"$f":"INPUT!EU:EU","v":45219.617824074077},{"$f":"INPUT!FE890","v":94.9},{"$f":"INPUT!FI890","v":54.9},{"$f":"INPUT!GB890","v":59},{"$f":"INPUT!GD890","v":14.7}]
[{"$f":"INPUT!EU:EU","v":45219.618530092594},{"$f":"INPUT!FE891","v":94.9},{"$f":"INPUT!FI891","v":55},{"$f":"INPUT!GB891","v":59},{"$f":"INPUT!GD891","v":14.6}]
[{"$f":"INPUT!EU:EU","v":45219.61922453704},{"$f":"INPUT!FE892","v":94.9},{"$f":"INPUT!FI892","v":55},{"$f":"INPUT!GB892","v":59},{"$f":"INPUT!GD892","v":14.5}]
[{"$f":"INPUT!EU:EU","v":45219.619930555556},{"$f":"INPUT!FE893","v":94.9},{"$f":"INPUT!FI893","v":55.2},{"$f":"INPUT!GB893","v":59},{"$f":"INPUT!GD893","v":14.7}]
[{"$f":"INPUT!EU:EU","v":45219.620636574073},{"$f":"INPUT!FE894","v":94.9},{"$f":"INPUT!FI894","v":55.3},{"$f":"INPUT!GB894","v":59},{"$f":"INPUT!GD894","v":14.7}]
[{"$f":"INPUT!EU:EU","v":45219.621365740742},{"$f":"INPUT!FE895","v":94.9},{"$f":"INPUT!FI895","v":55.4},{"$f":"INPUT!GB895","v":59},{"$f":"INPUT!GD895","v":14.5}]
[{"$f":"INPUT!EU:EU","v":45219.622060185182},{"$f":"INPUT!FE896","v":94.9},{"$f":"INPUT!FI896","v":55.7},{"$f":"INPUT!GB896","v":59},{"$f":"INPUT!GD896","v":14.3}]
[{"$f":"INPUT!EU:EU","v":45219.622766203705},{"$f":"INPUT!FE897","v":94.9},{"$f":"INPUT!FI897","v":56},{"$f":"INPUT!GB897","v":59},{"$f":"INPUT!GD897","v":14.5}]
[{"$f":"INPUT!EU:EU","v":45219.623472222222},{"$f":"INPUT!FE898","v":94.9},{"$f":"INPUT!FI898","v":56.5},{"$f":"INPUT!GB898","v":59},{"$f":"INPUT!GD898","v":14.5}]
[{"$f":"INPUT!EU:EU","v":45219.624178240738},{"$f":"INPUT!FE899","v":94.9},{"$f":"INPUT!FI899","v":68.599999999999994},{"$f":"INPUT!GB899","v":59.7},{"$f":"INPUT!GD899","v":56.7}]
[{"$f":"INPUT!EU:EU","v":45219.624884259261},{"$f":"INPUT!FE900","v":94.9},{"$f":"INPUT!FI900","v":54.9},{"$f":"INPUT!GB900","v":59},{"$f":"INPUT!GD900","v":2.6}]
[{"$f":"INPUT!EU:EU","v":45219.625590277778},{"$f":"INPUT!FE901","v":94.8},{"$f":"INPUT!FI901","v":54},{"$f":"INPUT!GB901","v":59},{"$f":"INPUT!GD901","v":2.6}]
[{"$f":"INPUT!EU:EU","v":45219.626284722224},{"$f":"INPUT!FE902","v":94.8},{"$f":"INPUT!FI902","v":53.6},{"$f":"INPUT!GB902","v":59},{"$f":"INPUT!GD902","v":2.5}]
[{"$f":"INPUT!EU:EU","v":45219.62699074074},{"$f":"INPUT!FE903","v":94.8},{"$f":"INPUT!FI903","v":53.4},{"$f":"INPUT!GB903","v":59},{"$f":"INPUT!GD903","v":2.5}]
[{"$f":"INPUT!EU:EU","v":45219.627696759257},{"$f":"INPUT!FE904","v":94.8},{"$f":"INPUT!FI904","v":53.3},{"$f":"INPUT!GB904","v":59},{"$f":"INPUT!GD904","v":2.5}]
[{"$f":"INPUT!EU:EU","v":45219.62841435185},{"$f":"INPUT!FE905","v":94.7},{"$f":"INPUT!FI905","v":69.400000000000006},{"$f":"INPUT!GB905","v":60},{"$f":"INPUT!GD905","v":3.6}]
[{"$f":"INPUT!EU:EU","v":45219.629108796296},{"$f":"INPUT!FE906","v":94.7},{"$f":"INPUT!FI906","v":53.1},{"$f":"INPUT!GB906","v":60},{"$f":"INPUT!GD906","v":2.6}]
[{"$f":"INPUT!EU:EU","v":45219.629814814813},{"$f":"INPUT!FE907","v":94.6},{"$f":"INPUT!FI907","v":53},{"$f":"INPUT!GB907","v":60},{"$f":"INPUT!GD907","v":2.6}]
[{"$f":"INPUT!EU:EU","v":45219.630509259259},{"$f":"INPUT!FE908","v":94.6},{"$f":"INPUT!FI908","v":52.9},{"$f":"INPUT!GB908","v":60},{"$f":"INPUT!GD908","v":2.6}]
[{"$f":"INPUT!EU:EU","v":45219.631215277775},{"$f":"INPUT!FE909","v":94.5},{"$f":"INPUT!FI909","v":52.9},{"$f":"INPUT!GB909","v":60},{"$f":"INPUT!GD909","v":2.6}]
[{"$f":"INPUT!EU:EU","v":45219.631921296299},{"$f":"INPUT!FE910","v":94.5},{"$f":"INPUT!FI910","v":52.8},{"$f":"INPUT!GB910","v":60},{"$f":"INPUT!GD910","v":3.2}]
[{"$f":"INPUT!EU:EU","v":45219.632627314815},{"$f":"INPUT!FE911","v":94.5},{"$f":"INPUT!FI911","v":66.599999999999994},{"$f":"INPUT!GB911","v":61.1},{"$f":"INPUT!GD911","v":4.5999999999999996}]
[{"$f":"INPUT!EU:EU","v":45219.633321759262},{"$f":"INPUT!FE912","v":94.4},{"$f":"INPUT!FI912","v":52.8},{"$f":"INPUT!GB912","v":60},{"$f":"INPUT!GD912","v":2.6}]
[{"$f":"INPUT!EU:EU","v":45219.634027777778},{"$f":"INPUT!FE913","v":94.4},{"$f":"INPUT!FI913","v":52.7},{"$f":"INPUT!GB913","v":60},{"$f":"INPUT!GD913","v":2.6}]
[{"$f":"INPUT!EU:EU","v":45219.634733796294},{"$f":"INPUT!FE914","v":94.4},{"$f":"INPUT!FI914","v":52.7},{"$f":"INPUT!GB914","v":60},{"$f":"INPUT!GD914","v":2.8}]
[{"$f":"INPUT!EU:EU","v":45219.635451388887},{"$f":"INPUT!FE915","v":94.3},{"$f":"INPUT!FI915","v":52.7},{"$f":"INPUT!GB915","v":60},{"$f":"INPUT!GD915","v":2.6}]
[{"$f":"INPUT!EU:EU","v":45219.636157407411},{"$f":"INPUT!FE916","v":94.3},{"$f":"INPUT!FI916","v":65.400000000000006},{"$f":"INPUT!GB916","v":60.5},{"$f":"INPUT!GD916","v":4.3}]
[{"$f":"INPUT!EU:EU","v":45219.636863425927},{"$f":"INPUT!FE917","v":94.2},{"$f":"INPUT!FI917","v":52.9},{"$f":"INPUT!GB917","v":60},{"$f":"INPUT!GD917","v":2.7}]
[{"$f":"INPUT!EU:EU","v":45219.637557870374},{"$f":"INPUT!FE918","v":94.2},{"$f":"INPUT!FI918","v":52.7},{"$f":"INPUT!GB918","v":60},{"$f":"INPUT!GD918","v":2.7}]
[{"$f":"INPUT!EU:EU","v":45219.63826388889},{"$f":"INPUT!FE919","v":94.2},{"$f":"INPUT!FI919","v":52.6},{"$f":"INPUT!GB919","v":60},{"$f":"INPUT!GD919","v":2.6}]
[{"$f":"INPUT!EU:EU","v":45219.638969907406},{"$f":"INPUT!FE920","v":94.1},{"$f":"INPUT!FI920","v":52.6},{"$f":"INPUT!GB920","v":60},{"$f":"INPUT!GD920","v":2.6}]
[{"$f":"INPUT!EU:EU","v":45219.639675925922},{"$f":"INPUT!FE921","v":94.1},{"$f":"INPUT!FI921","v":52.6},{"$f":"INPUT!GB921","v":60},{"$f":"INPUT!GD921","v":2.7}]
[{"$f":"INPUT!EU:EU","v":45219.640370370369},{"$f":"INPUT!FE922","v":94},{"$f":"INPUT!FI922","v":69.400000000000006},{"$f":"INPUT!GB922","v":60.6},{"$f":"INPUT!GD922","v":4.5}]
[{"$f":"INPUT!EU:EU","v":45219.641076388885},{"$f":"INPUT!FE923","v":94},{"$f":"INPUT!FI923","v":52.9},{"$f":"INPUT!GB923","v":0},{"$f":"INPUT!GD923","v":0.3}]
[{"$f":"INPUT!EU:EU","v":45219.641782407409},{"$f":"INPUT!FE924","v":94},{"$f":"INPUT!FI924","v":52.9},{"$f":"INPUT!GB924","v":0},{"$f":"INPUT!GD924","v":0.3}]
[{"$f":"INPUT!EU:EU","v":45219.642511574071},{"$f":"INPUT!FE925","v":94},{"$f":"INPUT!FI925","v":52.9},{"$f":"INPUT!GB925","v":0},{"$f":"INPUT!GD925","v":0.2}]
[{"$f":"INPUT!EU:EU","v":45219.643206018518},{"$f":"INPUT!FE926","v":94},{"$f":"INPUT!FI926","v":52.9},{"$f":"INPUT!GB926","v":0},{"$f":"INPUT!GD926","v":0.3}]
[{"$f":"INPUT!EU:EU","v":45219.643912037034},{"$f":"INPUT!FE927","v":94},{"$f":"INPUT!FI927","v":52.9},{"$f":"INPUT!GB927","v":0},{"$f":"INPUT!GD927","v":0.2}]
[{"$f":"INPUT!EU:EU","v":45219.644618055558},{"$f":"INPUT!FE928","v":94},{"$f":"INPUT!FI928","v":52.9},{"$f":"INPUT!GB928","v":0},{"$f":"INPUT!GD928","v":0.3}]
[{"$f":"INPUT!EU:EU","v":45219.645312499997},{"$f":"INPUT!FE929","v":94},{"$f":"INPUT!FI929","v":52.9},{"$f":"INPUT!GB929","v":0},{"$f":"INPUT!GD929","v":0.3}]
[{"$f":"INPUT!EU:EU","v":45219.646018518521},{"$f":"INPUT!FE930","v":94},{"$f":"INPUT!FI930","v":52.9},{"$f":"INPUT!GB930","v":0},{"$f":"INPUT!GD930","v":0.3}]
[{"$f":"INPUT!EU:EU","v":45219.646724537037},{"$f":"INPUT!FE931","v":94},{"$f":"INPUT!FI931","v":52.9},{"$f":"INPUT!GB931","v":0},{"$f":"INPUT!GD931","v":0.3}]
[{"$f":"INPUT!EU:EU","v":45219.647418981483},{"$f":"INPUT!FE932","v":94},{"$f":"INPUT!FI932","v":52.9},{"$f":"INPUT!GB932","v":60},{"$f":"INPUT!GD932","v":2.8}]
[{"$f":"INPUT!EU:EU","v":45219.648125},{"$f":"INPUT!FE933","v":93.9},{"$f":"INPUT!FI933","v":52.7},{"$f":"INPUT!GB933","v":60},{"$f":"INPUT!GD933","v":3}]
[{"$f":"INPUT!EU:EU","v":45219.648831018516},{"$f":"INPUT!FE934","v":93.9},{"$f":"INPUT!FI934","v":52.6},{"$f":"INPUT!GB934","v":60},{"$f":"INPUT!GD934","v":3.3}]
[{"$f":"INPUT!EU:EU","v":45219.649548611109},{"$f":"INPUT!FE935","v":93.8},{"$f":"INPUT!FI935","v":52.6},{"$f":"INPUT!GB935","v":60},{"$f":"INPUT!GD935","v":3.1}]
[{"$f":"INPUT!EU:EU","v":45219.650254629632},{"$f":"INPUT!FE936","v":93.8},{"$f":"INPUT!FI936","v":52.6},{"$f":"INPUT!GB936","v":60},{"$f":"INPUT!GD936","v":2.6}]
[{"$f":"INPUT!EU:EU","v":45219.650960648149},{"$f":"INPUT!FE937","v":93.7},{"$f":"INPUT!FI937","v":52.6},{"$f":"INPUT!GB937","v":60},{"$f":"INPUT!GD937","v":3.2}]
[{"$f":"INPUT!EU:EU","v":45219.651655092595},{"$f":"INPUT!FE938","v":93.7},{"$f":"INPUT!FI938","v":68.599999999999994},{"$f":"INPUT!GB938","v":60.9},{"$f":"INPUT!GD938","v":4.8}]
[{"$f":"INPUT!EU:EU","v":45219.652361111112},{"$f":"INPUT!FE939","v":93.6},{"$f":"INPUT!FI939","v":52.6},{"$f":"INPUT!GB939","v":60},{"$f":"INPUT!GD939","v":2.7}]
[{"$f":"INPUT!EU:EU","v":45219.653067129628},{"$f":"INPUT!FE940","v":93.6},{"$f":"INPUT!FI940","v":52.6},{"$f":"INPUT!GB940","v":60},{"$f":"INPUT!GD940","v":2.7}]
[{"$f":"INPUT!EU:EU","v":45219.653773148151},{"$f":"INPUT!FE941","v":93.6},{"$f":"INPUT!FI941","v":52.6},{"$f":"INPUT!GB941","v":60},{"$f":"INPUT!GD941","v":2.6}]
[{"$f":"INPUT!EU:EU","v":45219.654479166667},{"$f":"INPUT!FE942","v":93.5},{"$f":"INPUT!FI942","v":52.6},{"$f":"INPUT!GB942","v":60},{"$f":"INPUT!GD942","v":2.6}]
[{"$f":"INPUT!EU:EU","v":45219.655185185184},{"$f":"INPUT!FE943","v":93.5},{"$f":"INPUT!FI943","v":68.5},{"$f":"INPUT!GB943","v":60.7},{"$f":"INPUT!GD943","v":4.5999999999999996}]
[{"$f":"INPUT!EU:EU","v":45219.655914351853},{"$f":"INPUT!FE944","v":93.4},{"$f":"INPUT!FI944","v":52.6},{"$f":"INPUT!GB944","v":60},{"$f":"INPUT!GD944","v":3.3}]
[{"$f":"INPUT!EU:EU","v":45219.656608796293},{"$f":"INPUT!FE945","v":93.4},{"$f":"INPUT!FI945","v":69.599999999999994},{"$f":"INPUT!GB945","v":60.9},{"$f":"INPUT!GD945","v":4.8}]
[{"$f":"INPUT!EU:EU","v":45219.657314814816},{"$f":"INPUT!FE946","v":93.3},{"$f":"INPUT!FI946","v":52.6},{"$f":"INPUT!GB946","v":60},{"$f":"INPUT!GD946","v":2.7}]
[{"$f":"INPUT!EU:EU","v":45219.658020833333},{"$f":"INPUT!FE947","v":93.3},{"$f":"INPUT!FI947","v":52.6},{"$f":"INPUT!GB947","v":60},{"$f":"INPUT!GD947","v":2.7}]
[{"$f":"INPUT!EU:EU","v":45219.658726851849},{"$f":"INPUT!FE948","v":93.3},{"$f":"INPUT!FI948","v":52.6},{"$f":"INPUT!GB948","v":60},{"$f":"INPUT!GD948","v":2.6}]
[{"$f":"INPUT!EU:EU","v":45219.659432870372},{"$f":"INPUT!FE949","v":93.2},{"$f":"INPUT!FI949","v":52.6},{"$f":"INPUT!GB949","v":60},{"$f":"INPUT!GD949","v":2.6}]
[{"$f":"INPUT!EU:EU","v":45219.660138888888},{"$f":"INPUT!FE950","v":93.2},{"$f":"INPUT!FI950","v":52.7},{"$f":"INPUT!GB950","v":60},{"$f":"INPUT!GD950","v":3.4}]
[{"$f":"INPUT!EU:EU","v":45219.660833333335},{"$f":"INPUT!FE951","v":93.2},{"$f":"INPUT!FI951","v":69.099999999999994},{"$f":"INPUT!GB951","v":60.3},{"$f":"INPUT!GD951","v":3.9}]
[{"$f":"INPUT!EU:EU","v":45219.661539351851},{"$f":"INPUT!FE952","v":93.2},{"$f":"INPUT!FI952","v":52.9},{"$f":"INPUT!GB952","v":0},{"$f":"INPUT!GD952","v":0.3}]
[{"$f":"INPUT!EU:EU","v":45219.662245370368},{"$f":"INPUT!FE953","v":93.2},{"$f":"INPUT!FI953","v":52.9},{"$f":"INPUT!GB953","v":0},{"$f":"INPUT!GD953","v":0.3}]
[{"$f":"INPUT!EU:EU","v":45219.662951388891},{"$f":"INPUT!FE954","v":93.2},{"$f":"INPUT!FI954","v":52.9},{"$f":"INPUT!GB954","v":0},{"$f":"INPUT!GD954","v":0.3}]
[{"$f":"INPUT!EU:EU","v":45219.663657407407},{"$f":"INPUT!FE955","v":93.2},{"$f":"INPUT!FI955","v":53},{"$f":"INPUT!GB955","v":0},{"$f":"INPUT!GD955","v":0.3}]
[{"$f":"INPUT!EU:EU","v":45219.664351851854},{"$f":"INPUT!FE956","v":93.2},{"$f":"INPUT!FI956","v":52.9},{"$f":"INPUT!GB956","v":0},{"$f":"INPUT!GD956","v":0.3}]
[{"$f":"INPUT!EU:EU","v":45219.66505787037},{"$f":"INPUT!FE957","v":93.2},{"$f":"INPUT!FI957","v":52.9},{"$f":"INPUT!GB957","v":0},{"$f":"INPUT!GD957","v":0.3}]
[{"$f":"INPUT!EU:EU","v":45219.665752314817},{"$f":"INPUT!FE958","v":93.2},{"$f":"INPUT!FI958","v":52.9},{"$f":"INPUT!GB958","v":0},{"$f":"INPUT!GD958","v":0.3}]
[{"$f":"INPUT!EU:EU","v":45219.666446759256},{"$f":"INPUT!FE959","v":93.2},{"$f":"INPUT!FI959","v":52.9},{"$f":"INPUT!GB959","v":0},{"$f":"INPUT!GD959","v":0.3}]
[{"$f":"INPUT!EU:EU","v":45219.66715277778},{"$f":"INPUT!FE960","v":93.2},{"$f":"INPUT!FI960","v":52.9},{"$f":"INPUT!GB960","v":60},{"$f":"INPUT!GD960","v":2.8}]
[{"$f":"INPUT!EU:EU","v":45219.667858796296},{"$f":"INPUT!FE961","v":93.1},{"$f":"INPUT!FI961","v":52.7},{"$f":"INPUT!GB961","v":60},{"$f":"INPUT!GD961","v":2.9}]
[{"$f":"INPUT!EU:EU","v":45219.668564814812},{"$f":"INPUT!FE962","v":93.1},{"$f":"INPUT!FI962","v":52.8},{"$f":"INPUT!GB962","v":60},{"$f":"INPUT!GD962","v":6.3}]
[{"$f":"INPUT!EU:EU","v":45219.669270833336},{"$f":"INPUT!FE963","v":93},{"$f":"INPUT!FI963","v":52.6},{"$f":"INPUT!GB963","v":60},{"$f":"INPUT!GD963","v":3}]
[{"$f":"INPUT!EU:EU","v":45219.67},{"$f":"INPUT!FE964","v":92.9},{"$f":"INPUT!FI964","v":52.6},{"$f":"INPUT!GB964","v":60},{"$f":"INPUT!GD964","v":3}]
[{"$f":"INPUT!EU:EU","v":45219.670694444445},{"$f":"INPUT!FE965","v":92.9},{"$f":"INPUT!FI965","v":52.6},{"$f":"INPUT!GB965","v":60},{"$f":"INPUT!GD965","v":3}]
[{"$f":"INPUT!EU:EU","v":45219.671400462961},{"$f":"INPUT!FE966","v":92.9},{"$f":"INPUT!FI966","v":52.6},{"$f":"INPUT!GB966","v":60},{"$f":"INPUT!GD966","v":2.8}]
[{"$f":"INPUT!EU:EU","v":45219.672106481485},{"$f":"INPUT!FE967","v":92.8},{"$f":"INPUT!FI967","v":69},{"$f":"INPUT!GB967","v":60.8},{"$f":"INPUT!GD967","v":4.5}]
[{"$f":"INPUT!EU:EU","v":45219.672800925924},{"$f":"INPUT!FE968","v":92.8},{"$f":"INPUT!FI968","v":52.6},{"$f":"INPUT!GB968","v":60},{"$f":"INPUT!GD968","v":3.1}]
[{"$f":"INPUT!EU:EU","v":45219.673506944448},{"$f":"INPUT!FE969","v":92.7},{"$f":"INPUT!FI969","v":52.6},{"$f":"INPUT!GB969","v":60},{"$f":"INPUT!GD969","v":2.9}]
[{"$f":"INPUT!EU:EU","v":45219.674212962964},{"$f":"INPUT!FE970","v":92.7},{"$f":"INPUT!FI970","v":52.6},{"$f":"INPUT!GB970","v":60},{"$f":"INPUT!GD970","v":3}]
[{"$f":"INPUT!EU:EU","v":45219.67491898148},{"$f":"INPUT!FE971","v":92.6},{"$f":"INPUT!FI971","v":52.6},{"$f":"INPUT!GB971","v":60},{"$f":"INPUT!GD971","v":2.9}]
[{"$f":"INPUT!EU:EU","v":45219.675613425927},{"$f":"INPUT!FE972","v":92.6},{"$f":"INPUT!FI972","v":52.6},{"$f":"INPUT!GB972","v":60},{"$f":"INPUT!GD972","v":2.7}]
[{"$f":"INPUT!EU:EU","v":45219.676319444443},{"$f":"INPUT!FE973","v":92.5},{"$f":"INPUT!FI973","v":69.5},{"$f":"INPUT!GB973","v":60.9},{"$f":"INPUT!GD973","v":5.6}]
[{"$f":"INPUT!EU:EU","v":45219.677025462966},{"$f":"INPUT!FE974","v":92.5},{"$f":"INPUT!FI974","v":52.8},{"$f":"INPUT!GB974","v":0},{"$f":"INPUT!GD974","v":0.2}]
[{"$f":"INPUT!EU:EU","v":45219.677731481483},{"$f":"INPUT!FE975","v":92.5},{"$f":"INPUT!FI975","v":52.8},{"$f":"INPUT!GB975","v":60},{"$f":"INPUT!GD975","v":2.9}]
[{"$f":"INPUT!EU:EU","v":45219.678437499999},{"$f":"INPUT!FE976","v":92.4},{"$f":"INPUT!FI976","v":52.6},{"$f":"INPUT!GB976","v":60},{"$f":"INPUT!GD976","v":2.8}]
[{"$f":"INPUT!EU:EU","v":45219.679131944446},{"$f":"INPUT!FE977","v":92.4},{"$f":"INPUT!FI977","v":52.6},{"$f":"INPUT!GB977","v":60},{"$f":"INPUT!GD977","v":2.7}]
[{"$f":"INPUT!EU:EU","v":45219.679837962962},{"$f":"INPUT!FE978","v":92.4},{"$f":"INPUT!FI978","v":52.6},{"$f":"INPUT!GB978","v":60},{"$f":"INPUT!GD978","v":2.7}]
[{"$f":"INPUT!EU:EU","v":45219.680532407408},{"$f":"INPUT!FE979","v":92.3},{"$f":"INPUT!FI979","v":52.6},{"$f":"INPUT!GB979","v":60},{"$f":"INPUT!GD979","v":2.7}]
[{"$f":"INPUT!EU:EU","v":45219.681238425925},{"$f":"INPUT!FE980","v":92.3},{"$f":"INPUT!FI980","v":52.6},{"$f":"INPUT!GB980","v":60},{"$f":"INPUT!GD980","v":2.7}]
[{"$f":"INPUT!EU:EU","v":45219.681944444441},{"$f":"INPUT!FE981","v":92.2},{"$f":"INPUT!FI981","v":68.900000000000006},{"$f":"INPUT!GB981","v":60.8},{"$f":"INPUT!GD981","v":4}]
[{"$f":"INPUT!EU:EU","v":45219.682638888888},{"$f":"INPUT!FE982","v":92.2},{"$f":"INPUT!FI982","v":52.6},{"$f":"INPUT!GB982","v":60},{"$f":"INPUT!GD982","v":2.8}]
[{"$f":"INPUT!EU:EU","v":45219.683344907404},{"$f":"INPUT!FE983","v":92.2},{"$f":"INPUT!FI983","v":52.6},{"$f":"INPUT!GB983","v":60},{"$f":"INPUT!GD983","v":2.7}]
[{"$f":"INPUT!EU:EU","v":45219.684074074074},{"$f":"INPUT!FE984","v":92.1},{"$f":"INPUT!FI984","v":52.6},{"$f":"INPUT!GB984","v":60},{"$f":"INPUT!GD984","v":2.7}]
[{"$f":"INPUT!EU:EU","v":45219.68478009259},{"$f":"INPUT!FE985","v":92.1},{"$f":"INPUT!FI985","v":52.6},{"$f":"INPUT!GB985","v":60},{"$f":"INPUT!GD985","v":2.7}]
[{"$f":"INPUT!EU:EU","v":45219.685486111113},{"$f":"INPUT!FE986","v":92.1},{"$f":"INPUT!FI986","v":52.6},{"$f":"INPUT!GB986","v":60},{"$f":"INPUT!GD986","v":3.3}]
[{"$f":"INPUT!EU:EU","v":45219.686180555553},{"$f":"INPUT!FE987","v":92},{"$f":"INPUT!FI987","v":69.099999999999994},{"$f":"INPUT!GB987","v":60.9},{"$f":"INPUT!GD987","v":3.8}]
[{"$f":"INPUT!EU:EU","v":45219.686886574076},{"$f":"INPUT!FE988","v":92},{"$f":"INPUT!FI988","v":52.6},{"$f":"INPUT!GB988","v":60},{"$f":"INPUT!GD988","v":2.7}]
[{"$f":"INPUT!EU:EU","v":45219.687581018516},{"$f":"INPUT!FE989","v":91.9},{"$f":"INPUT!FI989","v":52.6},{"$f":"INPUT!GB989","v":60},{"$f":"INPUT!GD989","v":2.8}]
[{"$f":"INPUT!EU:EU","v":45219.688287037039},{"$f":"INPUT!FE990","v":91.9},{"$f":"INPUT!FI990","v":52.6},{"$f":"INPUT!GB990","v":60},{"$f":"INPUT!GD990","v":2.6}]
[{"$f":"INPUT!EU:EU","v":45219.688993055555},{"$f":"INPUT!FE991","v":91.8},{"$f":"INPUT!FI991","v":52.6},{"$f":"INPUT!GB991","v":60},{"$f":"INPUT!GD991","v":2.6}]
[{"$f":"INPUT!EU:EU","v":45219.689699074072},{"$f":"INPUT!FE992","v":91.8},{"$f":"INPUT!FI992","v":69.2},{"$f":"INPUT!GB992","v":60.7},{"$f":"INPUT!GD992","v":4.0999999999999996}]
[{"$f":"INPUT!EU:EU","v":45219.690393518518},{"$f":"INPUT!FE993","v":91.7},{"$f":"INPUT!FI993","v":52.8},{"$f":"INPUT!GB993","v":60},{"$f":"INPUT!GD993","v":2.9}]
[{"$f":"INPUT!EU:EU","v":45219.691111111111},{"$f":"INPUT!FE994","v":91.7},{"$f":"INPUT!FI994","v":52.6},{"$f":"INPUT!GB994","v":60},{"$f":"INPUT!GD994","v":2.7}]
[{"$f":"INPUT!EU:EU","v":45219.691817129627},{"$f":"INPUT!FE995","v":91.7},{"$f":"INPUT!FI995","v":52.6},{"$f":"INPUT!GB995","v":60},{"$f":"INPUT!GD995","v":2.8}]
[{"$f":"INPUT!EU:EU","v":45219.692511574074},{"$f":"INPUT!FE996","v":91.6},{"$f":"INPUT!FI996","v":52.6},{"$f":"INPUT!GB996","v":60},{"$f":"INPUT!GD996","v":2.7}]
[{"$f":"INPUT!EU:EU","v":45219.69321759259},{"$f":"INPUT!FE997","v":91.6},{"$f":"INPUT!FI997","v":52.6},{"$f":"INPUT!GB997","v":60},{"$f":"INPUT!GD997","v":2.7}]
[{"$f":"INPUT!EU:EU","v":45219.693912037037},{"$f":"INPUT!FE998","v":91.5},{"$f":"INPUT!FI998","v":69.5},{"$f":"INPUT!GB998","v":60.8},{"$f":"INPUT!GD998","v":4.3}]
[{"$f":"INPUT!EU:EU","v":45219.694618055553},{"$f":"INPUT!FE999","v":91.5},{"$f":"INPUT!FI999","v":52.8},{"$f":"INPUT!GB999","v":0},{"$f":"INPUT!GD999","v":0.3}]
[{"$f":"INPUT!EU:EU","v":45219.695324074077},{"$f":"INPUT!FE1000","v":91.5},{"$f":"INPUT!FI1000","v":52.9},{"$f":"INPUT!GB1000","v":0},{"$f":"INPUT!GD1000","v":0.3}]
[{"$f":"INPUT!EU:EU","v":45219.696018518516},{"$f":"INPUT!FE1001","v":91.5},{"$f":"INPUT!FI1001","v":52.9},{"$f":"INPUT!GB1001","v":0},{"$f":"INPUT!GD1001","v":0.3}]
[{"$f":"INPUT!EU:EU","v":45219.69672453704},{"$f":"INPUT!FE1002","v":91.5},{"$f":"INPUT!FI1002","v":52.9},{"$f":"INPUT!GB1002","v":0},{"$f":"INPUT!GD1002","v":0.3}]
[{"$f":"INPUT!EU:EU","v":45219.697418981479},{"$f":"INPUT!FE1003","v":91.5},{"$f":"INPUT!FI1003","v":52.9},{"$f":"INPUT!GB1003","v":0},{"$f":"INPUT!GD1003","v":0.3}]
[{"$f":"INPUT!EU:EU","v":45219.698148148149},{"$f":"INPUT!FE1004","v":91.5},{"$f":"INPUT!FI1004","v":52.9},{"$f":"INPUT!GB1004","v":0},{"$f":"INPUT!GD1004","v":0.3}]
[{"$f":"INPUT!EU:EU","v":45219.698854166665},{"$f":"INPUT!FE1005","v":91.5},{"$f":"INPUT!FI1005","v":52.9},{"$f":"INPUT!GB1005","v":0},{"$f":"INPUT!GD1005","v":0.3}]
[{"$f":"INPUT!EU:EU","v":45219.699560185189},{"$f":"INPUT!FE1006","v":91.5},{"$f":"INPUT!FI1006","v":52.9},{"$f":"INPUT!GB1006","v":0},{"$f":"INPUT!GD1006","v":0.2}]
[{"$f":"INPUT!EU:EU","v":45219.700266203705},{"$f":"INPUT!FE1007","v":91.5},{"$f":"INPUT!FI1007","v":52.9},{"$f":"INPUT!GB1007","v":0},{"$f":"INPUT!GD1007","v":0.3}]
[{"$f":"INPUT!EU:EU","v":45219.700960648152},{"$f":"INPUT!FE1008","v":91.5},{"$f":"INPUT!FI1008","v":52.9},{"$f":"INPUT!GB1008","v":60},{"$f":"INPUT!GD1008","v":2.9}]
[{"$f":"INPUT!EU:EU","v":45219.701666666668},{"$f":"INPUT!FE1009","v":91.4},{"$f":"INPUT!FI1009","v":52.6},{"$f":"INPUT!GB1009","v":60},{"$f":"INPUT!GD1009","v":2.8}]
[{"$f":"INPUT!EU:EU","v":45219.702372685184},{"$f":"INPUT!FE1010","v":91.3},{"$f":"INPUT!FI1010","v":52.6},{"$f":"INPUT!GB1010","v":60},{"$f":"INPUT!GD1010","v":2.8}]
[{"$f":"INPUT!EU:EU","v":45219.703067129631},{"$f":"INPUT!FE1011","v":91.3},{"$f":"INPUT!FI1011","v":52.6},{"$f":"INPUT!GB1011","v":60},{"$f":"INPUT!GD1011","v":2.7}]
[{"$f":"INPUT!EU:EU","v":45219.703773148147},{"$f":"INPUT!FE1012","v":91.2},{"$f":"INPUT!FI1012","v":52.6},{"$f":"INPUT!GB1012","v":60},{"$f":"INPUT!GD1012","v":3.2}]
[{"$f":"INPUT!EU:EU","v":45219.704479166663},{"$f":"INPUT!FE1013","v":91.2},{"$f":"INPUT!FI1013","v":52.6},{"$f":"INPUT!GB1013","v":60},{"$f":"INPUT!GD1013","v":3.9}]
[{"$f":"INPUT!EU:EU","v":45219.705185185187},{"$f":"INPUT!FE1014","v":91.1},{"$f":"INPUT!FI1014","v":68.7},{"$f":"INPUT!GB1014","v":60.6},{"$f":"INPUT!GD1014","v":4.4000000000000004}]
[{"$f":"INPUT!EU:EU","v":45219.705891203703},{"$f":"INPUT!FE1015","v":91.1},{"$f":"INPUT!FI1015","v":52.6},{"$f":"INPUT!GB1015","v":60},{"$f":"INPUT!GD1015","v":3.3}]
[{"$f":"INPUT!EU:EU","v":45219.706585648149},{"$f":"INPUT!FE1016","v":91},{"$f":"INPUT!FI1016","v":52.6},{"$f":"INPUT!GB1016","v":60},{"$f":"INPUT!GD1016","v":3.1}]
[{"$f":"INPUT!EU:EU","v":45219.707291666666},{"$f":"INPUT!FE1017","v":91},{"$f":"INPUT!FI1017","v":52.6},{"$f":"INPUT!GB1017","v":60},{"$f":"INPUT!GD1017","v":3}]
[{"$f":"INPUT!EU:EU","v":45219.707997685182},{"$f":"INPUT!FE1018","v":90.9},{"$f":"INPUT!FI1018","v":52.5},{"$f":"INPUT!GB1018","v":60},{"$f":"INPUT!GD1018","v":3.2}]
[{"$f":"INPUT!EU:EU","v":45219.708703703705},{"$f":"INPUT!FE1019","v":90.9},{"$f":"INPUT!FI1019","v":69},{"$f":"INPUT!GB1019","v":61.4},{"$f":"INPUT!GD1019","v":6.3}]
[{"$f":"INPUT!EU:EU","v":45219.709409722222},{"$f":"INPUT!FE1020","v":90.8},{"$f":"INPUT!FI1020","v":52.8},{"$f":"INPUT!GB1020","v":60},{"$f":"INPUT!GD1020","v":3.3}]
[{"$f":"INPUT!EU:EU","v":45219.710115740738},{"$f":"INPUT!FE1021","v":90.8},{"$f":"INPUT!FI1021","v":52.6},{"$f":"INPUT!GB1021","v":60},{"$f":"INPUT!GD1021","v":3}]
[{"$f":"INPUT!EU:EU","v":45219.710810185185},{"$f":"INPUT!FE1022","v":90.7},{"$f":"INPUT!FI1022","v":52.6},{"$f":"INPUT!GB1022","v":60},{"$f":"INPUT!GD1022","v":3.2}]
[{"$f":"INPUT!EU:EU","v":45219.711539351854},{"$f":"INPUT!FE1023","v":90.7},{"$f":"INPUT!FI1023","v":52.5},{"$f":"INPUT!GB1023","v":60},{"$f":"INPUT!GD1023","v":3.2}]
[{"$f":"INPUT!EU:EU","v":45219.712245370371},{"$f":"INPUT!FE1024","v":90.6},{"$f":"INPUT!FI1024","v":52.6},{"$f":"INPUT!GB1024","v":60},{"$f":"INPUT!GD1024","v":3.1}]
[{"$f":"INPUT!EU:EU","v":45219.712939814817},{"$f":"INPUT!FE1025","v":90.6},{"$f":"INPUT!FI1025","v":69.099999999999994},{"$f":"INPUT!GB1025","v":60.9},{"$f":"INPUT!GD1025","v":4.3}]
[{"$f":"INPUT!EU:EU","v":45219.713645833333},{"$f":"INPUT!FE1026","v":90.6},{"$f":"INPUT!FI1026","v":52.8},{"$f":"INPUT!GB1026","v":0},{"$f":"INPUT!GD1026","v":0.2}]
[{"$f":"INPUT!EU:EU","v":45219.71434027778},{"$f":"INPUT!FE1027","v":90.6},{"$f":"INPUT!FI1027","v":52.8},{"$f":"INPUT!GB1027","v":0},{"$f":"INPUT!GD1027","v":0.2}]
[{"$f":"INPUT!EU:EU","v":45219.715046296296},{"$f":"INPUT!FE1028","v":90.6},{"$f":"INPUT!FI1028","v":52.8},{"$f":"INPUT!GB1028","v":0},{"$f":"INPUT!GD1028","v":0.2}]
[{"$f":"INPUT!EU:EU","v":45219.715752314813},{"$f":"INPUT!FE1029","v":90.6},{"$f":"INPUT!FI1029","v":52.8},{"$f":"INPUT!GB1029","v":0},{"$f":"INPUT!GD1029","v":0.2}]
[{"$f":"INPUT!EU:EU","v":45219.716446759259},{"$f":"INPUT!FE1030","v":90.6},{"$f":"INPUT!FI1030","v":52.8},{"$f":"INPUT!GB1030","v":0},{"$f":"INPUT!GD1030","v":0.2}]
[{"$f":"INPUT!EU:EU","v":45219.717152777775},{"$f":"INPUT!FE1031","v":90.6},{"$f":"INPUT!FI1031","v":52.8},{"$f":"INPUT!GB1031","v":0},{"$f":"INPUT!GD1031","v":0.2}]
[{"$f":"INPUT!EU:EU","v":45219.717858796299},{"$f":"INPUT!FE1032","v":90.6},{"$f":"INPUT!FI1032","v":52.9},{"$f":"INPUT!GB1032","v":0},{"$f":"INPUT!GD1032","v":0.2}]
[{"$f":"INPUT!EU:EU","v":45219.718576388892},{"$f":"INPUT!FE1033","v":90.6},{"$f":"INPUT!FI1033","v":52.9},{"$f":"INPUT!GB1033","v":0},{"$f":"INPUT!GD1033","v":0.2}]
[{"$f":"INPUT!EU:EU","v":45219.719270833331},{"$f":"INPUT!FE1034","v":90.6},{"$f":"INPUT!FI1034","v":52.9},{"$f":"INPUT!GB1034","v":0},{"$f":"INPUT!GD1034","v":0.3}]
[{"$f":"INPUT!EU:EU","v":45219.719976851855},{"$f":"INPUT!FE1035","v":90.6},{"$f":"INPUT!FI1035","v":52.9},{"$f":"INPUT!GB1035","v":60},{"$f":"INPUT!GD1035","v":3.4}]
[{"$f":"INPUT!EU:EU","v":45219.720682870371},{"$f":"INPUT!FE1036","v":90.6},{"$f":"INPUT!FI1036","v":52.6},{"$f":"INPUT!GB1036","v":60},{"$f":"INPUT!GD1036","v":3.4}]
[{"$f":"INPUT!EU:EU","v":45219.721388888887},{"$f":"INPUT!FE1037","v":90.5},{"$f":"INPUT!FI1037","v":52.6},{"$f":"INPUT!GB1037","v":60},{"$f":"INPUT!GD1037","v":3.2}]
[{"$f":"INPUT!EU:EU","v":45219.722083333334},{"$f":"INPUT!FE1038","v":90.5},{"$f":"INPUT!FI1038","v":52.6},{"$f":"INPUT!GB1038","v":60},{"$f":"INPUT!GD1038","v":3.2}]
[{"$f":"INPUT!EU:EU","v":45219.72278935185},{"$f":"INPUT!FE1039","v":90.4},{"$f":"INPUT!FI1039","v":52.6},{"$f":"INPUT!GB1039","v":60},{"$f":"INPUT!GD1039","v":3.1}]
[{"$f":"INPUT!EU:EU","v":45219.723483796297},{"$f":"INPUT!FE1040","v":90.4},{"$f":"INPUT!FI1040","v":52.6},{"$f":"INPUT!GB1040","v":60},{"$f":"INPUT!GD1040","v":3.7}]
[{"$f":"INPUT!EU:EU","v":45219.724189814813},{"$f":"INPUT!FE1041","v":90.3},{"$f":"INPUT!FI1041","v":69.400000000000006},{"$f":"INPUT!GB1041","v":60.6},{"$f":"INPUT!GD1041","v":4.0999999999999996}]
[{"$f":"INPUT!EU:EU","v":45219.72488425926},{"$f":"INPUT!FE1042","v":90.3},{"$f":"INPUT!FI1042","v":52.6},{"$f":"INPUT!GB1042","v":60},{"$f":"INPUT!GD1042","v":3.1}]
[{"$f":"INPUT!EU:EU","v":45219.725613425922},{"$f":"INPUT!FE1043","v":90.2},{"$f":"INPUT!FI1043","v":52.6},{"$f":"INPUT!GB1043","v":60},{"$f":"INPUT!GD1043","v":3.1}]
[{"$f":"INPUT!EU:EU","v":45219.726319444446},{"$f":"INPUT!FE1044","v":90.2},{"$f":"INPUT!FI1044","v":52.6},{"$f":"INPUT!GB1044","v":60},{"$f":"INPUT!GD1044","v":3}]
[{"$f":"INPUT!EU:EU","v":45219.727025462962},{"$f":"INPUT!FE1045","v":90.1},{"$f":"INPUT!FI1045","v":52.5},{"$f":"INPUT!GB1045","v":60},{"$f":"INPUT!GD1045","v":3.1}]
[{"$f":"INPUT!EU:EU","v":45219.727719907409},{"$f":"INPUT!FE1046","v":90},{"$f":"INPUT!FI1046","v":52.6},{"$f":"INPUT!GB1046","v":60},{"$f":"INPUT!GD1046","v":3.7}]
[{"$f":"INPUT!EU:EU","v":45219.728425925925},{"$f":"INPUT!FE1047","v":90},{"$f":"INPUT!FI1047","v":69.2},{"$f":"INPUT!GB1047","v":60.5},{"$f":"INPUT!GD1047","v":4}]
[{"$f":"INPUT!EU:EU","v":45219.729131944441},{"$f":"INPUT!FE1048","v":90},{"$f":"INPUT!FI1048","v":52.6},{"$f":"INPUT!GB1048","v":60},{"$f":"INPUT!GD1048","v":3.1}]
[{"$f":"INPUT!EU:EU","v":45219.729826388888},{"$f":"INPUT!FE1049","v":89.9},{"$f":"INPUT!FI1049","v":52.6},{"$f":"INPUT!GB1049","v":60},{"$f":"INPUT!GD1049","v":3.1}]
[{"$f":"INPUT!EU:EU","v":45219.730532407404},{"$f":"INPUT!FE1050","v":89.9},{"$f":"INPUT!FI1050","v":53.1},{"$f":"INPUT!GB1050","v":60},{"$f":"INPUT!GD1050","v":3.2}]
[{"$f":"INPUT!EU:EU","v":45219.731238425928},{"$f":"INPUT!FE1051","v":89.8},{"$f":"INPUT!FI1051","v":53},{"$f":"INPUT!GB1051","v":60},{"$f":"INPUT!GD1051","v":3.1}]
[{"$f":"INPUT!EU:EU","v":45219.731944444444},{"$f":"INPUT!FE1052","v":89.8},{"$f":"INPUT!FI1052","v":53.3},{"$f":"INPUT!GB1052","v":60},{"$f":"INPUT!GD1052","v":4.4000000000000004}]
[{"$f":"INPUT!EU:EU","v":45219.732662037037},{"$f":"INPUT!FE1053","v":89.8},{"$f":"INPUT!FI1053","v":53.4},{"$f":"INPUT!GB1053","v":60},{"$f":"INPUT!GD1053","v":4.3}]
[{"$f":"INPUT!EU:EU","v":45219.733368055553},{"$f":"INPUT!FE1054","v":89.8},{"$f":"INPUT!FI1054","v":53.5},{"$f":"INPUT!GB1054","v":60},{"$f":"INPUT!GD1054","v":4.2}]
[{"$f":"INPUT!EU:EU","v":45219.7340625},{"$f":"INPUT!FE1055","v":89.8},{"$f":"INPUT!FI1055","v":53.5},{"$f":"INPUT!GB1055","v":60},{"$f":"INPUT!GD1055","v":4.0999999999999996}]
[{"$f":"INPUT!EU:EU","v":45219.734768518516},{"$f":"INPUT!FE1056","v":89.8},{"$f":"INPUT!FI1056","v":53.5},{"$f":"INPUT!GB1056","v":60},{"$f":"INPUT!GD1056","v":4}]
[{"$f":"INPUT!EU:EU","v":45219.735462962963},{"$f":"INPUT!FE1057","v":89.8},{"$f":"INPUT!FI1057","v":53.5},{"$f":"INPUT!GB1057","v":60},{"$f":"INPUT!GD1057","v":4}]
[{"$f":"INPUT!EU:EU","v":45219.736168981479},{"$f":"INPUT!FE1058","v":89.8},{"$f":"INPUT!FI1058","v":53.5},{"$f":"INPUT!GB1058","v":60},{"$f":"INPUT!GD1058","v":3.9}]
[{"$f":"INPUT!EU:EU","v":45219.736875000002},{"$f":"INPUT!FE1059","v":89.8},{"$f":"INPUT!FI1059","v":53.5},{"$f":"INPUT!GB1059","v":60},{"$f":"INPUT!GD1059","v":3.9}]
[{"$f":"INPUT!EU:EU","v":45219.737581018519},{"$f":"INPUT!FE1060","v":89.8},{"$f":"INPUT!FI1060","v":53.5},{"$f":"INPUT!GB1060","v":60},{"$f":"INPUT!GD1060","v":3.8}]
[{"$f":"INPUT!EU:EU","v":45219.738287037035},{"$f":"INPUT!FE1061","v":89.8},{"$f":"INPUT!FI1061","v":53.5},{"$f":"INPUT!GB1061","v":60},{"$f":"INPUT!GD1061","v":3.7}]
[{"$f":"INPUT!EU:EU","v":45219.738981481481},{"$f":"INPUT!FE1062","v":89.8},{"$f":"INPUT!FI1062","v":53.4},{"$f":"INPUT!GB1062","v":60},{"$f":"INPUT!GD1062","v":3.6}]
[{"$f":"INPUT!EU:EU","v":45219.739699074074},{"$f":"INPUT!FE1063","v":89.8},{"$f":"INPUT!FI1063","v":53.4},{"$f":"INPUT!GB1063","v":60},{"$f":"INPUT!GD1063","v":3.3}]
[{"$f":"INPUT!EU:EU","v":45219.740405092591},{"$f":"INPUT!FE1064","v":89.8},{"$f":"INPUT!FI1064","v":53.4},{"$f":"INPUT!GB1064","v":60},{"$f":"INPUT!GD1064","v":3.3}]
[{"$f":"INPUT!EU:EU","v":45219.741111111114},{"$f":"INPUT!FE1065","v":89.8},{"$f":"INPUT!FI1065","v":53.3},{"$f":"INPUT!GB1065","v":60},{"$f":"INPUT!GD1065","v":2.1}]
[{"$f":"INPUT!EU:EU","v":45219.741805555554},{"$f":"INPUT!FE1066","v":89.8},{"$f":"INPUT!FI1066","v":53.3},{"$f":"INPUT!GB1066","v":60},{"$f":"INPUT!GD1066","v":2}]
[{"$f":"INPUT!EU:EU","v":45219.742511574077},{"$f":"INPUT!FE1067","v":89.8},{"$f":"INPUT!FI1067","v":53.3},{"$f":"INPUT!GB1067","v":60},{"$f":"INPUT!GD1067","v":2}]
[{"$f":"INPUT!EU:EU","v":45219.743217592593},{"$f":"INPUT!FE1068","v":89.8},{"$f":"INPUT!FI1068","v":53.2},{"$f":"INPUT!GB1068","v":60},{"$f":"INPUT!GD1068","v":2}]
[{"$f":"INPUT!EU:EU","v":45219.743923611109},{"$f":"INPUT!FE1069","v":89.7},{"$f":"INPUT!FI1069","v":53.2},{"$f":"INPUT!GB1069","v":60},{"$f":"INPUT!GD1069","v":2}]
[{"$f":"INPUT!EU:EU","v":45219.744618055556},{"$f":"INPUT!FE1070","v":89.7},{"$f":"INPUT!FI1070","v":53.2},{"$f":"INPUT!GB1070","v":60},{"$f":"INPUT!GD1070","v":2.2000000000000002}]
[{"$f":"INPUT!EU:EU","v":45219.745324074072},{"$f":"INPUT!FE1071","v":89.7},{"$f":"INPUT!FI1071","v":53.2},{"$f":"INPUT!GB1071","v":60},{"$f":"INPUT!GD1071","v":2.2000000000000002}]
[{"$f":"INPUT!EU:EU","v":45219.746018518519},{"$f":"INPUT!FE1072","v":89.7},{"$f":"INPUT!FI1072","v":53.2},{"$f":"INPUT!GB1072","v":60},{"$f":"INPUT!GD1072","v":2.2000000000000002}]
[{"$f":"INPUT!EU:EU","v":45219.746747685182},{"$f":"INPUT!FE1073","v":89.6},{"$f":"INPUT!FI1073","v":53.1},{"$f":"INPUT!GB1073","v":60},{"$f":"INPUT!GD1073","v":2.4}]
[{"$f":"INPUT!EU:EU","v":45219.747453703705},{"$f":"INPUT!FE1074","v":89.6},{"$f":"INPUT!FI1074","v":53.1},{"$f":"INPUT!GB1074","v":60},{"$f":"INPUT!GD1074","v":2.4}]
[{"$f":"INPUT!EU:EU","v":45219.748159722221},{"$f":"INPUT!FE1075","v":89.6},{"$f":"INPUT!FI1075","v":53.2},{"$f":"INPUT!GB1075","v":60},{"$f":"INPUT!GD1075","v":2.2000000000000002}]
[{"$f":"INPUT!EU:EU","v":45219.748865740738},{"$f":"INPUT!FE1076","v":89.6},{"$f":"INPUT!FI1076","v":53.1},{"$f":"INPUT!GB1076","v":60},{"$f":"INPUT!GD1076","v":2.1}]
[{"$f":"INPUT!EU:EU","v":45219.749560185184},{"$f":"INPUT!FE1077","v":89.6},{"$f":"INPUT!FI1077","v":53.1},{"$f":"INPUT!GB1077","v":60},{"$f":"INPUT!GD1077","v":3.1}]
[{"$f":"INPUT!EU:EU","v":45219.7502662037},{"$f":"INPUT!FE1078","v":89.6},{"$f":"INPUT!FI1078","v":53.1},{"$f":"INPUT!GB1078","v":60},{"$f":"INPUT!GD1078","v":3.2}]
[{"$f":"INPUT!EU:EU","v":45219.750960648147},{"$f":"INPUT!FE1079","v":89.6},{"$f":"INPUT!FI1079","v":53.1},{"$f":"INPUT!GB1079","v":60},{"$f":"INPUT!GD1079","v":3.2}]
[{"$f":"INPUT!EU:EU","v":45219.751666666663},{"$f":"INPUT!FE1080","v":89.5},{"$f":"INPUT!FI1080","v":53.1},{"$f":"INPUT!GB1080","v":60},{"$f":"INPUT!GD1080","v":3.2}]
[{"$f":"INPUT!EU:EU","v":45219.752372685187},{"$f":"INPUT!FE1081","v":89.5},{"$f":"INPUT!FI1081","v":53.1},{"$f":"INPUT!GB1081","v":60},{"$f":"INPUT!GD1081","v":3.1}]
[{"$f":"INPUT!EU:EU","v":45219.753078703703},{"$f":"INPUT!FE1082","v":89.5},{"$f":"INPUT!FI1082","v":53.1},{"$f":"INPUT!GB1082","v":60},{"$f":"INPUT!GD1082","v":3.2}]
[{"$f":"INPUT!EU:EU","v":45219.753796296296},{"$f":"INPUT!FE1083","v":89.4},{"$f":"INPUT!FI1083","v":53.1},{"$f":"INPUT!GB1083","v":60},{"$f":"INPUT!GD1083","v":3.2}]
[{"$f":"INPUT!EU:EU","v":45219.754490740743},{"$f":"INPUT!FE1084","v":89.4},{"$f":"INPUT!FI1084","v":53.1},{"$f":"INPUT!GB1084","v":60},{"$f":"INPUT!GD1084","v":3.2}]
[{"$f":"INPUT!EU:EU","v":45219.755196759259},{"$f":"INPUT!FE1085","v":89.4},{"$f":"INPUT!FI1085","v":53.1},{"$f":"INPUT!GB1085","v":60},{"$f":"INPUT!GD1085","v":3.2}]
[{"$f":"INPUT!EU:EU","v":45219.755902777775},{"$f":"INPUT!FE1086","v":89.3},{"$f":"INPUT!FI1086","v":53},{"$f":"INPUT!GB1086","v":60},{"$f":"INPUT!GD1086","v":3.4}]
[{"$f":"INPUT!EU:EU","v":45219.756597222222},{"$f":"INPUT!FE1087","v":89.3},{"$f":"INPUT!FI1087","v":53},{"$f":"INPUT!GB1087","v":60},{"$f":"INPUT!GD1087","v":3.4}]
[{"$f":"INPUT!EU:EU","v":45219.757303240738},{"$f":"INPUT!FE1088","v":89.2},{"$f":"INPUT!FI1088","v":53},{"$f":"INPUT!GB1088","v":60},{"$f":"INPUT!GD1088","v":3.2}]
[{"$f":"INPUT!EU:EU","v":45219.758009259262},{"$f":"INPUT!FE1089","v":89.2},{"$f":"INPUT!FI1089","v":53},{"$f":"INPUT!GB1089","v":60},{"$f":"INPUT!GD1089","v":3.2}]
[{"$f":"INPUT!EU:EU","v":45219.758715277778},{"$f":"INPUT!FE1090","v":89.2},{"$f":"INPUT!FI1090","v":53},{"$f":"INPUT!GB1090","v":60},{"$f":"INPUT!GD1090","v":3.3}]
[{"$f":"INPUT!EU:EU","v":45219.759421296294},{"$f":"INPUT!FE1091","v":89.1},{"$f":"INPUT!FI1091","v":53.1},{"$f":"INPUT!GB1091","v":60},{"$f":"INPUT!GD1091","v":3.3}]
[{"$f":"INPUT!EU:EU","v":45219.760127314818},{"$f":"INPUT!FE1092","v":89.1},{"$f":"INPUT!FI1092","v":53.1},{"$f":"INPUT!GB1092","v":60},{"$f":"INPUT!GD1092","v":3.2}]
[{"$f":"INPUT!EU:EU","v":45219.760833333334},{"$f":"INPUT!FE1093","v":89},{"$f":"INPUT!FI1093","v":53},{"$f":"INPUT!GB1093","v":60},{"$f":"INPUT!GD1093","v":3.3}]
[{"$f":"INPUT!EU:EU","v":45219.76153935185},{"$f":"INPUT!FE1094","v":89},{"$f":"INPUT!FI1094","v":53},{"$f":"INPUT!GB1094","v":60},{"$f":"INPUT!GD1094","v":3.3}]
[{"$f":"INPUT!EU:EU","v":45219.762245370373},{"$f":"INPUT!FE1095","v":88.9},{"$f":"INPUT!FI1095","v":53},{"$f":"INPUT!GB1095","v":60},{"$f":"INPUT!GD1095","v":3.3}]
[{"$f":"INPUT!EU:EU","v":45219.762939814813},{"$f":"INPUT!FE1096","v":88.9},{"$f":"INPUT!FI1096","v":53},{"$f":"INPUT!GB1096","v":60},{"$f":"INPUT!GD1096","v":3.3}]
[{"$f":"INPUT!EU:EU","v":45219.763645833336},{"$f":"INPUT!FE1097","v":88.8},{"$f":"INPUT!FI1097","v":53},{"$f":"INPUT!GB1097","v":60},{"$f":"INPUT!GD1097","v":3.3}]
[{"$f":"INPUT!EU:EU","v":45219.764351851853},{"$f":"INPUT!FE1098","v":88.8},{"$f":"INPUT!FI1098","v":53},{"$f":"INPUT!GB1098","v":60},{"$f":"INPUT!GD1098","v":3.2}]
[{"$f":"INPUT!EU:EU","v":45219.765057870369},{"$f":"INPUT!FE1099","v":88.7},{"$f":"INPUT!FI1099","v":53.2},{"$f":"INPUT!GB1099","v":60},{"$f":"INPUT!GD1099","v":3.2}]
[{"$f":"INPUT!EU:EU","v":45219.765752314815},{"$f":"INPUT!FE1100","v":88.7},{"$f":"INPUT!FI1100","v":53.2},{"$f":"INPUT!GB1100","v":60},{"$f":"INPUT!GD1100","v":3.4}]
[{"$f":"INPUT!EU:EU","v":45219.766458333332},{"$f":"INPUT!FE1101","v":88.6},{"$f":"INPUT!FI1101","v":53.2},{"$f":"INPUT!GB1101","v":60},{"$f":"INPUT!GD1101","v":3.4}]
[{"$f":"INPUT!EU:EU","v":45219.767175925925},{"$f":"INPUT!FE1102","v":88.6},{"$f":"INPUT!FI1102","v":53.1},{"$f":"INPUT!GB1102","v":60},{"$f":"INPUT!GD1102","v":3.1}]
[{"$f":"INPUT!EU:EU","v":45219.767870370371},{"$f":"INPUT!FE1103","v":88.5},{"$f":"INPUT!FI1103","v":53.1},{"$f":"INPUT!GB1103","v":60},{"$f":"INPUT!GD1103","v":3.1}]
[{"$f":"INPUT!EU:EU","v":45219.768576388888},{"$f":"INPUT!FE1104","v":88.5},{"$f":"INPUT!FI1104","v":53.1},{"$f":"INPUT!GB1104","v":60},{"$f":"INPUT!GD1104","v":3.2}]
[{"$f":"INPUT!EU:EU","v":45219.769282407404},{"$f":"INPUT!FE1105","v":88.4},{"$f":"INPUT!FI1105","v":53.1},{"$f":"INPUT!GB1105","v":60},{"$f":"INPUT!GD1105","v":3.3}]
[{"$f":"INPUT!EU:EU","v":45219.769976851851},{"$f":"INPUT!FE1106","v":88.4},{"$f":"INPUT!FI1106","v":53.1},{"$f":"INPUT!GB1106","v":60},{"$f":"INPUT!GD1106","v":3.3}]
[{"$f":"INPUT!EU:EU","v":45219.770682870374},{"$f":"INPUT!FE1107","v":88.3},{"$f":"INPUT!FI1107","v":53.1},{"$f":"INPUT!GB1107","v":60},{"$f":"INPUT!GD1107","v":3.2}]
[{"$f":"INPUT!EU:EU","v":45219.771377314813},{"$f":"INPUT!FE1108","v":88.3},{"$f":"INPUT!FI1108","v":53.1},{"$f":"INPUT!GB1108","v":60},{"$f":"INPUT!GD1108","v":2.9}]
[{"$f":"INPUT!EU:EU","v":45219.772083333337},{"$f":"INPUT!FE1109","v":88.2},{"$f":"INPUT!FI1109","v":53.1},{"$f":"INPUT!GB1109","v":60},{"$f":"INPUT!GD1109","v":2.9}]
[{"$f":"INPUT!EU:EU","v":45219.772789351853},{"$f":"INPUT!FE1110","v":88.2},{"$f":"INPUT!FI1110","v":53.1},{"$f":"INPUT!GB1110","v":60},{"$f":"INPUT!GD1110","v":2.9}]
[{"$f":"INPUT!EU:EU","v":45219.773495370369},{"$f":"INPUT!FE1111","v":88.1},{"$f":"INPUT!FI1111","v":53.1},{"$f":"INPUT!GB1111","v":60},{"$f":"INPUT!GD1111","v":2.8}]
[{"$f":"INPUT!EU:EU","v":45219.774201388886},{"$f":"INPUT!FE1112","v":88.1},{"$f":"INPUT!FI1112","v":53.1},{"$f":"INPUT!GB1112","v":60},{"$f":"INPUT!GD1112","v":2.8}]
[{"$f":"INPUT!EU:EU","v":45219.774907407409},{"$f":"INPUT!FE1113","v":88},{"$f":"INPUT!FI1113","v":53.1},{"$f":"INPUT!GB1113","v":60},{"$f":"INPUT!GD1113","v":3}]
[{"$f":"INPUT!EU:EU","v":45219.775613425925},{"$f":"INPUT!FE1114","v":88},{"$f":"INPUT!FI1114","v":53.2},{"$f":"INPUT!GB1114","v":60},{"$f":"INPUT!GD1114","v":3}]
[{"$f":"INPUT!EU:EU","v":45219.776307870372},{"$f":"INPUT!FE1115","v":87.9},{"$f":"INPUT!FI1115","v":53.1},{"$f":"INPUT!GB1115","v":60},{"$f":"INPUT!GD1115","v":2.9}]
[{"$f":"INPUT!EU:EU","v":45219.777013888888},{"$f":"INPUT!FE1116","v":87.9},{"$f":"INPUT!FI1116","v":53.1},{"$f":"INPUT!GB1116","v":60},{"$f":"INPUT!GD1116","v":2.9}]
[{"$f":"INPUT!EU:EU","v":45219.777719907404},{"$f":"INPUT!FE1117","v":87.8},{"$f":"INPUT!FI1117","v":53.1},{"$f":"INPUT!GB1117","v":60},{"$f":"INPUT!GD1117","v":2.9}]
[{"$f":"INPUT!EU:EU","v":45219.778414351851},{"$f":"INPUT!FE1118","v":87.8},{"$f":"INPUT!FI1118","v":53.2},{"$f":"INPUT!GB1118","v":60},{"$f":"INPUT!GD1118","v":2.9}]
[{"$f":"INPUT!EU:EU","v":45219.779120370367},{"$f":"INPUT!FE1119","v":87.7},{"$f":"INPUT!FI1119","v":53.1},{"$f":"INPUT!GB1119","v":60},{"$f":"INPUT!GD1119","v":2.9}]
[{"$f":"INPUT!EU:EU","v":45219.779814814814},{"$f":"INPUT!FE1120","v":87.7},{"$f":"INPUT!FI1120","v":53.1},{"$f":"INPUT!GB1120","v":60},{"$f":"INPUT!GD1120","v":2.9}]
[{"$f":"INPUT!EU:EU","v":45219.78052083333},{"$f":"INPUT!FE1121","v":87.6},{"$f":"INPUT!FI1121","v":53.1},{"$f":"INPUT!GB1121","v":60},{"$f":"INPUT!GD1121","v":3}]
[{"$f":"INPUT!EU:EU","v":45219.781238425923},{"$f":"INPUT!FE1122","v":87.6},{"$f":"INPUT!FI1122","v":53.2},{"$f":"INPUT!GB1122","v":60},{"$f":"INPUT!GD1122","v":2.9}]
[{"$f":"INPUT!EU:EU","v":45219.781944444447},{"$f":"INPUT!FE1123","v":87.5},{"$f":"INPUT!FI1123","v":53.2},{"$f":"INPUT!GB1123","v":60},{"$f":"INPUT!GD1123","v":2.8}]
[{"$f":"INPUT!EU:EU","v":45219.782638888886},{"$f":"INPUT!FE1124","v":87.5},{"$f":"INPUT!FI1124","v":53.2},{"$f":"INPUT!GB1124","v":60},{"$f":"INPUT!GD1124","v":2.9}]
[{"$f":"INPUT!EU:EU","v":45219.78334490741},{"$f":"INPUT!FE1125","v":87.4},{"$f":"INPUT!FI1125","v":53.2},{"$f":"INPUT!GB1125","v":60},{"$f":"INPUT!GD1125","v":3}]
[{"$f":"INPUT!EU:EU","v":45219.784050925926},{"$f":"INPUT!FE1126","v":87.4},{"$f":"INPUT!FI1126","v":53.2},{"$f":"INPUT!GB1126","v":60},{"$f":"INPUT!GD1126","v":3}]
[{"$f":"INPUT!EU:EU","v":45219.784756944442},{"$f":"INPUT!FE1127","v":87.3},{"$f":"INPUT!FI1127","v":53.2},{"$f":"INPUT!GB1127","v":60},{"$f":"INPUT!GD1127","v":2.9}]
[{"$f":"INPUT!EU:EU","v":45219.785451388889},{"$f":"INPUT!FE1128","v":87.3},{"$f":"INPUT!FI1128","v":53.2},{"$f":"INPUT!GB1128","v":60},{"$f":"INPUT!GD1128","v":2.9}]
[{"$f":"INPUT!EU:EU","v":45219.786157407405},{"$f":"INPUT!FE1129","v":87.2},{"$f":"INPUT!FI1129","v":53.2},{"$f":"INPUT!GB1129","v":60},{"$f":"INPUT!GD1129","v":2.9}]
[{"$f":"INPUT!EU:EU","v":45219.786863425928},{"$f":"INPUT!FE1130","v":87.1},{"$f":"INPUT!FI1130","v":53.2},{"$f":"INPUT!GB1130","v":60},{"$f":"INPUT!GD1130","v":2.9}]
[{"$f":"INPUT!EU:EU","v":45219.787569444445},{"$f":"INPUT!FE1131","v":87.1},{"$f":"INPUT!FI1131","v":53.1},{"$f":"INPUT!GB1131","v":60},{"$f":"INPUT!GD1131","v":2.9}]
[{"$f":"INPUT!EU:EU","v":45219.788287037038},{"$f":"INPUT!FE1132","v":87},{"$f":"INPUT!FI1132","v":53.1},{"$f":"INPUT!GB1132","v":60},{"$f":"INPUT!GD1132","v":2.9}]
[{"$f":"INPUT!EU:EU","v":45219.788993055554},{"$f":"INPUT!FE1133","v":87},{"$f":"INPUT!FI1133","v":53.1},{"$f":"INPUT!GB1133","v":60},{"$f":"INPUT!GD1133","v":2.9}]
[{"$f":"INPUT!EU:EU","v":45219.789699074077},{"$f":"INPUT!FE1134","v":86.9},{"$f":"INPUT!FI1134","v":53.1},{"$f":"INPUT!GB1134","v":60},{"$f":"INPUT!GD1134","v":2.9}]
[{"$f":"INPUT!EU:EU","v":45219.790393518517},{"$f":"INPUT!FE1135","v":86.9},{"$f":"INPUT!FI1135","v":53.1},{"$f":"INPUT!GB1135","v":60},{"$f":"INPUT!GD1135","v":2.9}]
[{"$f":"INPUT!EU:EU","v":45219.79109953704},{"$f":"INPUT!FE1136","v":86.8},{"$f":"INPUT!FI1136","v":53.2},{"$f":"INPUT!GB1136","v":60},{"$f":"INPUT!GD1136","v":2.9}]
[{"$f":"INPUT!EU:EU","v":45219.79179398148},{"$f":"INPUT!FE1137","v":86.8},{"$f":"INPUT!FI1137","v":53.1},{"$f":"INPUT!GB1137","v":60},{"$f":"INPUT!GD1137","v":3.1}]
[{"$f":"INPUT!EU:EU","v":45219.792500000003},{"$f":"INPUT!FE1138","v":86.7},{"$f":"INPUT!FI1138","v":53.1},{"$f":"INPUT!GB1138","v":60},{"$f":"INPUT!GD1138","v":3.1}]
[{"$f":"INPUT!EU:EU","v":45219.793206018519},{"$f":"INPUT!FE1139","v":86.7},{"$f":"INPUT!FI1139","v":53.1},{"$f":"INPUT!GB1139","v":60},{"$f":"INPUT!GD1139","v":10.1}]
[{"$f":"INPUT!EU:EU","v":45219.793912037036},{"$f":"INPUT!FE1140","v":86.6},{"$f":"INPUT!FI1140","v":53.1},{"$f":"INPUT!GB1140","v":60},{"$f":"INPUT!GD1140","v":3.1}]
[{"$f":"INPUT!EU:EU","v":45219.794618055559},{"$f":"INPUT!FE1141","v":86.6},{"$f":"INPUT!FI1141","v":53.1},{"$f":"INPUT!GB1141","v":60},{"$f":"INPUT!GD1141","v":3.1}]
[{"$f":"INPUT!EU:EU","v":45219.795335648145},{"$f":"INPUT!FE1142","v":86.5},{"$f":"INPUT!FI1142","v":53.1},{"$f":"INPUT!GB1142","v":60},{"$f":"INPUT!GD1142","v":3}]
[{"$f":"INPUT!EU:EU","v":45219.796030092592},{"$f":"INPUT!FE1143","v":86.5},{"$f":"INPUT!FI1143","v":53.1},{"$f":"INPUT!GB1143","v":60},{"$f":"INPUT!GD1143","v":3}]
[{"$f":"INPUT!EU:EU","v":45219.796736111108},{"$f":"INPUT!FE1144","v":86.4},{"$f":"INPUT!FI1144","v":53.1},{"$f":"INPUT!GB1144","v":60},{"$f":"INPUT!GD1144","v":3}]
[{"$f":"INPUT!EU:EU","v":45219.797442129631},{"$f":"INPUT!FE1145","v":86.4},{"$f":"INPUT!FI1145","v":53.1},{"$f":"INPUT!GB1145","v":60},{"$f":"INPUT!GD1145","v":3.1}]
[{"$f":"INPUT!EU:EU","v":45219.798148148147},{"$f":"INPUT!FE1146","v":86.3},{"$f":"INPUT!FI1146","v":53.1},{"$f":"INPUT!GB1146","v":60},{"$f":"INPUT!GD1146","v":3.1}]
[{"$f":"INPUT!EU:EU","v":45219.798842592594},{"$f":"INPUT!FE1147","v":86.2},{"$f":"INPUT!FI1147","v":53.1},{"$f":"INPUT!GB1147","v":60},{"$f":"INPUT!GD1147","v":3}]
[{"$f":"INPUT!EU:EU","v":45219.79954861111},{"$f":"INPUT!FE1148","v":86.2},{"$f":"INPUT!FI1148","v":53.1},{"$f":"INPUT!GB1148","v":60},{"$f":"INPUT!GD1148","v":3}]
[{"$f":"INPUT!EU:EU","v":45219.800254629627},{"$f":"INPUT!FE1149","v":86.1},{"$f":"INPUT!FI1149","v":53.1},{"$f":"INPUT!GB1149","v":60},{"$f":"INPUT!GD1149","v":3.1}]
[{"$f":"INPUT!EU:EU","v":45219.80096064815},{"$f":"INPUT!FE1150","v":86.1},{"$f":"INPUT!FI1150","v":53.1},{"$f":"INPUT!GB1150","v":60},{"$f":"INPUT!GD1150","v":3.2}]
[{"$f":"INPUT!EU:EU","v":45219.801666666666},{"$f":"INPUT!FE1151","v":86},{"$f":"INPUT!FI1151","v":53.1},{"$f":"INPUT!GB1151","v":60},{"$f":"INPUT!GD1151","v":3.1}]
[{"$f":"INPUT!EU:EU","v":45219.802372685182},{"$f":"INPUT!FE1152","v":86},{"$f":"INPUT!FI1152","v":53.1},{"$f":"INPUT!GB1152","v":60},{"$f":"INPUT!GD1152","v":3}]
[{"$f":"INPUT!EU:EU","v":45219.803078703706},{"$f":"INPUT!FE1153","v":85.9},{"$f":"INPUT!FI1153","v":53.1},{"$f":"INPUT!GB1153","v":60},{"$f":"INPUT!GD1153","v":3}]
[{"$f":"INPUT!EU:EU","v":45219.803773148145},{"$f":"INPUT!FE1154","v":85.9},{"$f":"INPUT!FI1154","v":53.1},{"$f":"INPUT!GB1154","v":60},{"$f":"INPUT!GD1154","v":3.1}]
[{"$f":"INPUT!EU:EU","v":45219.804467592592},{"$f":"INPUT!FE1155","v":85.8},{"$f":"INPUT!FI1155","v":53.1},{"$f":"INPUT!GB1155","v":60},{"$f":"INPUT!GD1155","v":3.1}]
[{"$f":"INPUT!EU:EU","v":45219.805173611108},{"$f":"INPUT!FE1156","v":85.8},{"$f":"INPUT!FI1156","v":53.1},{"$f":"INPUT!GB1156","v":60},{"$f":"INPUT!GD1156","v":3.1}]
[{"$f":"INPUT!EU:EU","v":45219.805868055555},{"$f":"INPUT!FE1157","v":85.7},{"$f":"INPUT!FI1157","v":53.1},{"$f":"INPUT!GB1157","v":60},{"$f":"INPUT!GD1157","v":3}]
[{"$f":"INPUT!EU:EU","v":45219.806574074071},{"$f":"INPUT!FE1158","v":85.6},{"$f":"INPUT!FI1158","v":53.1},{"$f":"INPUT!GB1158","v":60},{"$f":"INPUT!GD1158","v":3.1}]
[{"$f":"INPUT!EU:EU","v":45219.807280092595},{"$f":"INPUT!FE1159","v":85.6},{"$f":"INPUT!FI1159","v":53.1},{"$f":"INPUT!GB1159","v":60},{"$f":"INPUT!GD1159","v":3.1}]
[{"$f":"INPUT!EU:EU","v":45219.807974537034},{"$f":"INPUT!FE1160","v":85.5},{"$f":"INPUT!FI1160","v":53.1},{"$f":"INPUT!GB1160","v":60},{"$f":"INPUT!GD1160","v":3.1}]
[{"$f":"INPUT!EU:EU","v":45219.808692129627},{"$f":"INPUT!FE1161","v":85.5},{"$f":"INPUT!FI1161","v":53.1},{"$f":"INPUT!GB1161","v":60},{"$f":"INPUT!GD1161","v":3.1}]
[{"$f":"INPUT!EU:EU","v":45219.809386574074},{"$f":"INPUT!FE1162","v":85.4},{"$f":"INPUT!FI1162","v":53.1},{"$f":"INPUT!GB1162","v":60},{"$f":"INPUT!GD1162","v":3}]
[{"$f":"INPUT!EU:EU","v":45219.81009259259},{"$f":"INPUT!FE1163","v":85.4},{"$f":"INPUT!FI1163","v":53.1},{"$f":"INPUT!GB1163","v":60},{"$f":"INPUT!GD1163","v":3}]
[{"$f":"INPUT!EU:EU","v":45219.810798611114},{"$f":"INPUT!FE1164","v":85.3},{"$f":"INPUT!FI1164","v":53.1},{"$f":"INPUT!GB1164","v":60},{"$f":"INPUT!GD1164","v":3.1}]
[{"$f":"INPUT!EU:EU","v":45219.81150462963},{"$f":"INPUT!FE1165","v":85.3},{"$f":"INPUT!FI1165","v":53.1},{"$f":"INPUT!GB1165","v":60},{"$f":"INPUT!GD1165","v":3.1}]
[{"$f":"INPUT!EU:EU","v":45219.812199074076},{"$f":"INPUT!FE1166","v":85.2},{"$f":"INPUT!FI1166","v":53.1},{"$f":"INPUT!GB1166","v":60},{"$f":"INPUT!GD1166","v":3.1}]
[{"$f":"INPUT!EU:EU","v":45219.812905092593},{"$f":"INPUT!FE1167","v":85.1},{"$f":"INPUT!FI1167","v":53.1},{"$f":"INPUT!GB1167","v":60},{"$f":"INPUT!GD1167","v":3}]
[{"$f":"INPUT!EU:EU","v":45219.813611111109},{"$f":"INPUT!FE1168","v":85.1},{"$f":"INPUT!FI1168","v":53.1},{"$f":"INPUT!GB1168","v":60},{"$f":"INPUT!GD1168","v":3}]
[{"$f":"INPUT!EU:EU","v":45219.814317129632},{"$f":"INPUT!FE1169","v":85},{"$f":"INPUT!FI1169","v":53.1},{"$f":"INPUT!GB1169","v":60},{"$f":"INPUT!GD1169","v":3}]
[{"$f":"INPUT!EU:EU","v":45219.815011574072},{"$f":"INPUT!FE1170","v":85},{"$f":"INPUT!FI1170","v":53.1},{"$f":"INPUT!GB1170","v":60},{"$f":"INPUT!GD1170","v":3}]
[{"$f":"INPUT!EU:EU","v":45219.815729166665},{"$f":"INPUT!FE1171","v":84.9},{"$f":"INPUT!FI1171","v":53.1},{"$f":"INPUT!GB1171","v":60},{"$f":"INPUT!GD1171","v":2.9}]
[{"$f":"INPUT!EU:EU","v":45219.816435185188},{"$f":"INPUT!FE1172","v":84.9},{"$f":"INPUT!FI1172","v":53.2},{"$f":"INPUT!GB1172","v":60},{"$f":"INPUT!GD1172","v":2.9}]
[{"$f":"INPUT!EU:EU","v":45219.817129629628},{"$f":"INPUT!FE1173","v":84.8},{"$f":"INPUT!FI1173","v":53.1},{"$f":"INPUT!GB1173","v":60},{"$f":"INPUT!GD1173","v":2.9}]
[{"$f":"INPUT!EU:EU","v":45219.817835648151},{"$f":"INPUT!FE1174","v":84.8},{"$f":"INPUT!FI1174","v":53.2},{"$f":"INPUT!GB1174","v":60},{"$f":"INPUT!GD1174","v":8.4}]
[{"$f":"INPUT!EU:EU","v":45219.818530092591},{"$f":"INPUT!FE1175","v":84.7},{"$f":"INPUT!FI1175","v":53},{"$f":"INPUT!GB1175","v":60},{"$f":"INPUT!GD1175","v":8.3000000000000007}]
[{"$f":"INPUT!EU:EU","v":45219.819236111114},{"$f":"INPUT!FE1176","v":84.6},{"$f":"INPUT!FI1176","v":53.1},{"$f":"INPUT!GB1176","v":60.1},{"$f":"INPUT!GD1176","v":8}]
[{"$f":"INPUT!EU:EU","v":45219.81994212963},{"$f":"INPUT!FE1177","v":84.6},{"$f":"INPUT!FI1177","v":53.2},{"$f":"INPUT!GB1177","v":60},{"$f":"INPUT!GD1177","v":2.9}]
[{"$f":"INPUT!EU:EU","v":45219.820648148147},{"$f":"INPUT!FE1178","v":84.5},{"$f":"INPUT!FI1178","v":53.2},{"$f":"INPUT!GB1178","v":60},{"$f":"INPUT!GD1178","v":2.9}]
[{"$f":"INPUT!EU:EU","v":45219.821342592593},{"$f":"INPUT!FE1179","v":84.5},{"$f":"INPUT!FI1179","v":53.2},{"$f":"INPUT!GB1179","v":60},{"$f":"INPUT!GD1179","v":2.9}]
[{"$f":"INPUT!EU:EU","v":45219.822048611109},{"$f":"INPUT!FE1180","v":84.4},{"$f":"INPUT!FI1180","v":53.2},{"$f":"INPUT!GB1180","v":60},{"$f":"INPUT!GD1180","v":3}]
[{"$f":"INPUT!EU:EU","v":45219.822777777779},{"$f":"INPUT!FE1181","v":84.4},{"$f":"INPUT!FI1181","v":53.2},{"$f":"INPUT!GB1181","v":60},{"$f":"INPUT!GD1181","v":2.9}]
[{"$f":"INPUT!EU:EU","v":45219.823483796295},{"$f":"INPUT!FE1182","v":84.4},{"$f":"INPUT!FI1182","v":53.2},{"$f":"INPUT!GB1182","v":60},{"$f":"INPUT!GD1182","v":2.8}]
[{"$f":"INPUT!EU:EU","v":45219.824178240742},{"$f":"INPUT!FE1183","v":84.3},{"$f":"INPUT!FI1183","v":53.2},{"$f":"INPUT!GB1183","v":60},{"$f":"INPUT!GD1183","v":2.8}]
[{"$f":"INPUT!EU:EU","v":45219.824884259258},{"$f":"INPUT!FE1184","v":84.3},{"$f":"INPUT!FI1184","v":53.2},{"$f":"INPUT!GB1184","v":60},{"$f":"INPUT!GD1184","v":3}]
[{"$f":"INPUT!EU:EU","v":45219.825590277775},{"$f":"INPUT!FE1185","v":84.2},{"$f":"INPUT!FI1185","v":53.2},{"$f":"INPUT!GB1185","v":60},{"$f":"INPUT!GD1185","v":2.9}]
[{"$f":"INPUT!EU:EU","v":45219.826296296298},{"$f":"INPUT!FE1186","v":84.2},{"$f":"INPUT!FI1186","v":53.2},{"$f":"INPUT!GB1186","v":60},{"$f":"INPUT!GD1186","v":2.9}]
[{"$f":"INPUT!EU:EU","v":45219.827002314814},{"$f":"INPUT!FE1187","v":84.1},{"$f":"INPUT!FI1187","v":53.2},{"$f":"INPUT!GB1187","v":60},{"$f":"INPUT!GD1187","v":2.9}]
[{"$f":"INPUT!EU:EU","v":45219.827708333331},{"$f":"INPUT!FE1188","v":84.1},{"$f":"INPUT!FI1188","v":53.2},{"$f":"INPUT!GB1188","v":60},{"$f":"INPUT!GD1188","v":2.9}]
[{"$f":"INPUT!EU:EU","v":45219.828402777777},{"$f":"INPUT!FE1189","v":84},{"$f":"INPUT!FI1189","v":53.2},{"$f":"INPUT!GB1189","v":60},{"$f":"INPUT!GD1189","v":2.9}]
[{"$f":"INPUT!EU:EU","v":45219.829108796293},{"$f":"INPUT!FE1190","v":84},{"$f":"INPUT!FI1190","v":53.2},{"$f":"INPUT!GB1190","v":60},{"$f":"INPUT!GD1190","v":2.8}]
[{"$f":"INPUT!EU:EU","v":45219.829826388886},{"$f":"INPUT!FE1191","v":84},{"$f":"INPUT!FI1191","v":53.2},{"$f":"INPUT!GB1191","v":60},{"$f":"INPUT!GD1191","v":2.9}]
[{"$f":"INPUT!EU:EU","v":45219.83053240741},{"$f":"INPUT!FE1192","v":83.9},{"$f":"INPUT!FI1192","v":53.2},{"$f":"INPUT!GB1192","v":60},{"$f":"INPUT!GD1192","v":2.9}]
[{"$f":"INPUT!EU:EU","v":45219.831238425926},{"$f":"INPUT!FE1193","v":83.9},{"$f":"INPUT!FI1193","v":53.2},{"$f":"INPUT!GB1193","v":60},{"$f":"INPUT!GD1193","v":2.9}]
[{"$f":"INPUT!EU:EU","v":45219.831932870373},{"$f":"INPUT!FE1194","v":83.8},{"$f":"INPUT!FI1194","v":53.2},{"$f":"INPUT!GB1194","v":60},{"$f":"INPUT!GD1194","v":2.9}]
[{"$f":"INPUT!EU:EU","v":45219.832638888889},{"$f":"INPUT!FE1195","v":83.8},{"$f":"INPUT!FI1195","v":53.2},{"$f":"INPUT!GB1195","v":60},{"$f":"INPUT!GD1195","v":2.9}]
[{"$f":"INPUT!EU:EU","v":45219.833333333336},{"$f":"INPUT!FE1196","v":83.7},{"$f":"INPUT!FI1196","v":53.2},{"$f":"INPUT!GB1196","v":60},{"$f":"INPUT!GD1196","v":2.9}]
[{"$f":"INPUT!EU:EU","v":45219.834039351852},{"$f":"INPUT!FE1197","v":83.7},{"$f":"INPUT!FI1197","v":53.2},{"$f":"INPUT!GB1197","v":60},{"$f":"INPUT!GD1197","v":2.9}]
[{"$f":"INPUT!EU:EU","v":45219.834733796299},{"$f":"INPUT!FE1198","v":83.7},{"$f":"INPUT!FI1198","v":53.2},{"$f":"INPUT!GB1198","v":60},{"$f":"INPUT!GD1198","v":2.8}]
[{"$f":"INPUT!EU:EU","v":45219.835439814815},{"$f":"INPUT!FE1199","v":83.6},{"$f":"INPUT!FI1199","v":53.2},{"$f":"INPUT!GB1199","v":60},{"$f":"INPUT!GD1199","v":2.9}]
[{"$f":"INPUT!EU:EU","v":45219.836145833331},{"$f":"INPUT!FE1200","v":83.6},{"$f":"INPUT!FI1200","v":53.2},{"$f":"INPUT!GB1200","v":60},{"$f":"INPUT!GD1200","v":2.9}]
[{"$f":"INPUT!EU:EU","v":45219.836863425924},{"$f":"INPUT!FE1201","v":83.5},{"$f":"INPUT!FI1201","v":53.2},{"$f":"INPUT!GB1201","v":60},{"$f":"INPUT!GD1201","v":2.9}]
[{"$f":"INPUT!EU:EU","v":45219.837557870371},{"$f":"INPUT!FE1202","v":83.5},{"$f":"INPUT!FI1202","v":53.2},{"$f":"INPUT!GB1202","v":60},{"$f":"INPUT!GD1202","v":2.9}]
[{"$f":"INPUT!EU:EU","v":45219.838263888887},{"$f":"INPUT!FE1203","v":83.4},{"$f":"INPUT!FI1203","v":53.2},{"$f":"INPUT!GB1203","v":60},{"$f":"INPUT!GD1203","v":2.9}]
[{"$f":"INPUT!EU:EU","v":45219.838969907411},{"$f":"INPUT!FE1204","v":83.4},{"$f":"INPUT!FI1204","v":53.2},{"$f":"INPUT!GB1204","v":60},{"$f":"INPUT!GD1204","v":2.9}]
[{"$f":"INPUT!EU:EU","v":45219.839675925927},{"$f":"INPUT!FE1205","v":83.4},{"$f":"INPUT!FI1205","v":53.2},{"$f":"INPUT!GB1205","v":60},{"$f":"INPUT!GD1205","v":2.8}]
[{"$f":"INPUT!EU:EU","v":45219.840370370373},{"$f":"INPUT!FE1206","v":83.3},{"$f":"INPUT!FI1206","v":53.2},{"$f":"INPUT!GB1206","v":60},{"$f":"INPUT!GD1206","v":2.9}]
[{"$f":"INPUT!EU:EU","v":45219.84107638889},{"$f":"INPUT!FE1207","v":83.3},{"$f":"INPUT!FI1207","v":53.2},{"$f":"INPUT!GB1207","v":60},{"$f":"INPUT!GD1207","v":2.9}]
[{"$f":"INPUT!EU:EU","v":45219.841782407406},{"$f":"INPUT!FE1208","v":83.2},{"$f":"INPUT!FI1208","v":53.2},{"$f":"INPUT!GB1208","v":60},{"$f":"INPUT!GD1208","v":2.9}]
[{"$f":"INPUT!EU:EU","v":45219.842476851853},{"$f":"INPUT!FE1209","v":83.2},{"$f":"INPUT!FI1209","v":53.2},{"$f":"INPUT!GB1209","v":60},{"$f":"INPUT!GD1209","v":2.9}]
[{"$f":"INPUT!EU:EU","v":45219.843182870369},{"$f":"INPUT!FE1210","v":83.1},{"$f":"INPUT!FI1210","v":53.2},{"$f":"INPUT!GB1210","v":60},{"$f":"INPUT!GD1210","v":2.9}]
[{"$f":"INPUT!EU:EU","v":45219.843900462962},{"$f":"INPUT!FE1211","v":83.1},{"$f":"INPUT!FI1211","v":53.2},{"$f":"INPUT!GB1211","v":60},{"$f":"INPUT!GD1211","v":2.9}]
[{"$f":"INPUT!EU:EU","v":45219.844594907408},{"$f":"INPUT!FE1212","v":83.1},{"$f":"INPUT!FI1212","v":53.2},{"$f":"INPUT!GB1212","v":60},{"$f":"INPUT!GD1212","v":2.9}]
[{"$f":"INPUT!EU:EU","v":45219.845300925925},{"$f":"INPUT!FE1213","v":83},{"$f":"INPUT!FI1213","v":53.2},{"$f":"INPUT!GB1213","v":60},{"$f":"INPUT!GD1213","v":2.9}]
[{"$f":"INPUT!EU:EU","v":45219.846006944441},{"$f":"INPUT!FE1214","v":83},{"$f":"INPUT!FI1214","v":53.2},{"$f":"INPUT!GB1214","v":60},{"$f":"INPUT!GD1214","v":2.9}]
[{"$f":"INPUT!EU:EU","v":45219.846701388888},{"$f":"INPUT!FE1215","v":82.9},{"$f":"INPUT!FI1215","v":53.2},{"$f":"INPUT!GB1215","v":60},{"$f":"INPUT!GD1215","v":3}]
[{"$f":"INPUT!EU:EU","v":45219.847407407404},{"$f":"INPUT!FE1216","v":82.9},{"$f":"INPUT!FI1216","v":53.2},{"$f":"INPUT!GB1216","v":60},{"$f":"INPUT!GD1216","v":2.9}]
[{"$f":"INPUT!EU:EU","v":45219.848101851851},{"$f":"INPUT!FE1217","v":82.8},{"$f":"INPUT!FI1217","v":53.2},{"$f":"INPUT!GB1217","v":60},{"$f":"INPUT!GD1217","v":2.9}]
[{"$f":"INPUT!EU:EU","v":45219.848807870374},{"$f":"INPUT!FE1218","v":82.8},{"$f":"INPUT!FI1218","v":53.2},{"$f":"INPUT!GB1218","v":60},{"$f":"INPUT!GD1218","v":2.9}]
[{"$f":"INPUT!EU:EU","v":45219.849502314813},{"$f":"INPUT!FE1219","v":82.8},{"$f":"INPUT!FI1219","v":53.2},{"$f":"INPUT!GB1219","v":60},{"$f":"INPUT!GD1219","v":2.8}]
[{"$f":"INPUT!EU:EU","v":45219.850208333337},{"$f":"INPUT!FE1220","v":82.7},{"$f":"INPUT!FI1220","v":53.2},{"$f":"INPUT!GB1220","v":60},{"$f":"INPUT!GD1220","v":2.9}]
[{"$f":"INPUT!EU:EU","v":45219.850925925923},{"$f":"INPUT!FE1221","v":82.7},{"$f":"INPUT!FI1221","v":53.2},{"$f":"INPUT!GB1221","v":60},{"$f":"INPUT!GD1221","v":2.9}]
[{"$f":"INPUT!EU:EU","v":45219.851631944446},{"$f":"INPUT!FE1222","v":82.6},{"$f":"INPUT!FI1222","v":53.2},{"$f":"INPUT!GB1222","v":60},{"$f":"INPUT!GD1222","v":2.9}]
[{"$f":"INPUT!EU:EU","v":45219.852337962962},{"$f":"INPUT!FE1223","v":82.6},{"$f":"INPUT!FI1223","v":53.2},{"$f":"INPUT!GB1223","v":60},{"$f":"INPUT!GD1223","v":2.9}]
[{"$f":"INPUT!EU:EU","v":45219.853043981479},{"$f":"INPUT!FE1224","v":82.5},{"$f":"INPUT!FI1224","v":53.2},{"$f":"INPUT!GB1224","v":60},{"$f":"INPUT!GD1224","v":2.9}]
[{"$f":"INPUT!EU:EU","v":45219.853738425925},{"$f":"INPUT!FE1225","v":82.5},{"$f":"INPUT!FI1225","v":53.2},{"$f":"INPUT!GB1225","v":60},{"$f":"INPUT!GD1225","v":3}]
[{"$f":"INPUT!EU:EU","v":45219.854444444441},{"$f":"INPUT!FE1226","v":82.4},{"$f":"INPUT!FI1226","v":53.1},{"$f":"INPUT!GB1226","v":60},{"$f":"INPUT!GD1226","v":3.1}]
[{"$f":"INPUT!EU:EU","v":45219.855150462965},{"$f":"INPUT!FE1227","v":82.4},{"$f":"INPUT!FI1227","v":53.2},{"$f":"INPUT!GB1227","v":60},{"$f":"INPUT!GD1227","v":3}]
[{"$f":"INPUT!EU:EU","v":45219.855844907404},{"$f":"INPUT!FE1228","v":82.3},{"$f":"INPUT!FI1228","v":53.2},{"$f":"INPUT!GB1228","v":60},{"$f":"INPUT!GD1228","v":3}]
[{"$f":"INPUT!EU:EU","v":45219.856550925928},{"$f":"INPUT!FE1229","v":82.3},{"$f":"INPUT!FI1229","v":53.1},{"$f":"INPUT!GB1229","v":60},{"$f":"INPUT!GD1229","v":3.3}]
[{"$f":"INPUT!EU:EU","v":45219.857256944444},{"$f":"INPUT!FE1230","v":82.2},{"$f":"INPUT!FI1230","v":53.1},{"$f":"INPUT!GB1230","v":60},{"$f":"INPUT!GD1230","v":3.7}]
[{"$f":"INPUT!EU:EU","v":45219.857974537037},{"$f":"INPUT!FE1231","v":82.1},{"$f":"INPUT!FI1231","v":53.1},{"$f":"INPUT!GB1231","v":60},{"$f":"INPUT!GD1231","v":3.4}]
[{"$f":"INPUT!EU:EU","v":45219.858680555553},{"$f":"INPUT!FE1232","v":82.1},{"$f":"INPUT!FI1232","v":53.1},{"$f":"INPUT!GB1232","v":60},{"$f":"INPUT!GD1232","v":3.2}]
[{"$f":"INPUT!EU:EU","v":45219.859375},{"$f":"INPUT!FE1233","v":82},{"$f":"INPUT!FI1233","v":53.1},{"$f":"INPUT!GB1233","v":60},{"$f":"INPUT!GD1233","v":3.4}]
[{"$f":"INPUT!EU:EU","v":45219.860081018516},{"$f":"INPUT!FE1234","v":82},{"$f":"INPUT!FI1234","v":53.1},{"$f":"INPUT!GB1234","v":60},{"$f":"INPUT!GD1234","v":3.1}]
[{"$f":"INPUT!EU:EU","v":45219.860775462963},{"$f":"INPUT!FE1235","v":81.900000000000006},{"$f":"INPUT!FI1235","v":53.1},{"$f":"INPUT!GB1235","v":60},{"$f":"INPUT!GD1235","v":3.3}]
[{"$f":"INPUT!EU:EU","v":45219.861481481479},{"$f":"INPUT!FE1236","v":81.900000000000006},{"$f":"INPUT!FI1236","v":53.1},{"$f":"INPUT!GB1236","v":60},{"$f":"INPUT!GD1236","v":3.3}]
[{"$f":"INPUT!EU:EU","v":45219.862187500003},{"$f":"INPUT!FE1237","v":81.8},{"$f":"INPUT!FI1237","v":53.1},{"$f":"INPUT!GB1237","v":60},{"$f":"INPUT!GD1237","v":3}]
[{"$f":"INPUT!EU:EU","v":45219.862893518519},{"$f":"INPUT!FE1238","v":81.8},{"$f":"INPUT!FI1238","v":53.1},{"$f":"INPUT!GB1238","v":60},{"$f":"INPUT!GD1238","v":3}]
[{"$f":"INPUT!EU:EU","v":45219.863587962966},{"$f":"INPUT!FE1239","v":81.7},{"$f":"INPUT!FI1239","v":53.1},{"$f":"INPUT!GB1239","v":60},{"$f":"INPUT!GD1239","v":3.1}]
[{"$f":"INPUT!EU:EU","v":45219.864305555559},{"$f":"INPUT!FE1240","v":81.7},{"$f":"INPUT!FI1240","v":53.1},{"$f":"INPUT!GB1240","v":60},{"$f":"INPUT!GD1240","v":3}]
[{"$f":"INPUT!EU:EU","v":45219.865011574075},{"$f":"INPUT!FE1241","v":81.599999999999994},{"$f":"INPUT!FI1241","v":53.1},{"$f":"INPUT!GB1241","v":60},{"$f":"INPUT!GD1241","v":3}]
[{"$f":"INPUT!EU:EU","v":45219.865717592591},{"$f":"INPUT!FE1242","v":81.599999999999994},{"$f":"INPUT!FI1242","v":53.1},{"$f":"INPUT!GB1242","v":60},{"$f":"INPUT!GD1242","v":3}]
[{"$f":"INPUT!EU:EU","v":45219.866412037038},{"$f":"INPUT!FE1243","v":81.5},{"$f":"INPUT!FI1243","v":53.1},{"$f":"INPUT!GB1243","v":60},{"$f":"INPUT!GD1243","v":3.1}]
[{"$f":"INPUT!EU:EU","v":45219.867118055554},{"$f":"INPUT!FE1244","v":81.5},{"$f":"INPUT!FI1244","v":53.1},{"$f":"INPUT!GB1244","v":60},{"$f":"INPUT!GD1244","v":3}]
[{"$f":"INPUT!EU:EU","v":45219.867824074077},{"$f":"INPUT!FE1245","v":81.400000000000006},{"$f":"INPUT!FI1245","v":53.1},{"$f":"INPUT!GB1245","v":60},{"$f":"INPUT!GD1245","v":3}]
[{"$f":"INPUT!EU:EU","v":45219.868518518517},{"$f":"INPUT!FE1246","v":81.400000000000006},{"$f":"INPUT!FI1246","v":53.1},{"$f":"INPUT!GB1246","v":60},{"$f":"INPUT!GD1246","v":3.1}]
[{"$f":"INPUT!EU:EU","v":45219.86922453704},{"$f":"INPUT!FE1247","v":81.3},{"$f":"INPUT!FI1247","v":53.1},{"$f":"INPUT!GB1247","v":60},{"$f":"INPUT!GD1247","v":3.1}]
[{"$f":"INPUT!EU:EU","v":45219.869930555556},{"$f":"INPUT!FE1248","v":81.3},{"$f":"INPUT!FI1248","v":53.1},{"$f":"INPUT!GB1248","v":60},{"$f":"INPUT!GD1248","v":3.1}]
[{"$f":"INPUT!EU:EU","v":45219.870625000003},{"$f":"INPUT!FE1249","v":81.2},{"$f":"INPUT!FI1249","v":53.1},{"$f":"INPUT!GB1249","v":60},{"$f":"INPUT!GD1249","v":3}]
[{"$f":"INPUT!EU:EU","v":45219.871354166666},{"$f":"INPUT!FE1250","v":81.2},{"$f":"INPUT!FI1250","v":53.1},{"$f":"INPUT!GB1250","v":60},{"$f":"INPUT!GD1250","v":3.1}]
[{"$f":"INPUT!EU:EU","v":45219.872048611112},{"$f":"INPUT!FE1251","v":81.099999999999994},{"$f":"INPUT!FI1251","v":53.1},{"$f":"INPUT!GB1251","v":60},{"$f":"INPUT!GD1251","v":3.1}]
[{"$f":"INPUT!EU:EU","v":45219.872754629629},{"$f":"INPUT!FE1252","v":81.099999999999994},{"$f":"INPUT!FI1252","v":53.1},{"$f":"INPUT!GB1252","v":60},{"$f":"INPUT!GD1252","v":3.1}]
[{"$f":"INPUT!EU:EU","v":45219.873460648145},{"$f":"INPUT!FE1253","v":81},{"$f":"INPUT!FI1253","v":53.1},{"$f":"INPUT!GB1253","v":60},{"$f":"INPUT!GD1253","v":3}]
[{"$f":"INPUT!EU:EU","v":45219.874166666668},{"$f":"INPUT!FE1254","v":81},{"$f":"INPUT!FI1254","v":53.1},{"$f":"INPUT!GB1254","v":60},{"$f":"INPUT!GD1254","v":3.1}]
[{"$f":"INPUT!EU:EU","v":45219.874861111108},{"$f":"INPUT!FE1255","v":80.900000000000006},{"$f":"INPUT!FI1255","v":53.1},{"$f":"INPUT!GB1255","v":60},{"$f":"INPUT!GD1255","v":3.1}]
[{"$f":"INPUT!EU:EU","v":45219.875567129631},{"$f":"INPUT!FE1256","v":80.900000000000006},{"$f":"INPUT!FI1256","v":53.1},{"$f":"INPUT!GB1256","v":60},{"$f":"INPUT!GD1256","v":3.1}]
[{"$f":"INPUT!EU:EU","v":45219.876273148147},{"$f":"INPUT!FE1257","v":80.8},{"$f":"INPUT!FI1257","v":53.1},{"$f":"INPUT!GB1257","v":60},{"$f":"INPUT!GD1257","v":3}]
[{"$f":"INPUT!EU:EU","v":45219.876979166664},{"$f":"INPUT!FE1258","v":80.8},{"$f":"INPUT!FI1258","v":53.1},{"$f":"INPUT!GB1258","v":60},{"$f":"INPUT!GD1258","v":3.1}]
[{"$f":"INPUT!EU:EU","v":45219.87767361111},{"$f":"INPUT!FE1259","v":80.7},{"$f":"INPUT!FI1259","v":53.1},{"$f":"INPUT!GB1259","v":60},{"$f":"INPUT!GD1259","v":3.1}]
[{"$f":"INPUT!EU:EU","v":45219.878391203703},{"$f":"INPUT!FE1260","v":80.7},{"$f":"INPUT!FI1260","v":53.1},{"$f":"INPUT!GB1260","v":60},{"$f":"INPUT!GD1260","v":3.1}]
[{"$f":"INPUT!EU:EU","v":45219.87909722222},{"$f":"INPUT!FE1261","v":80.599999999999994},{"$f":"INPUT!FI1261","v":53.1},{"$f":"INPUT!GB1261","v":60},{"$f":"INPUT!GD1261","v":3}]
[{"$f":"INPUT!EU:EU","v":45219.879791666666},{"$f":"INPUT!FE1262","v":80.599999999999994},{"$f":"INPUT!FI1262","v":53.1},{"$f":"INPUT!GB1262","v":60},{"$f":"INPUT!GD1262","v":3.1}]
[{"$f":"INPUT!EU:EU","v":45219.880497685182},{"$f":"INPUT!FE1263","v":80.5},{"$f":"INPUT!FI1263","v":53.1},{"$f":"INPUT!GB1263","v":60},{"$f":"INPUT!GD1263","v":3.1}]
[{"$f":"INPUT!EU:EU","v":45219.881203703706},{"$f":"INPUT!FE1264","v":80.5},{"$f":"INPUT!FI1264","v":53.1},{"$f":"INPUT!GB1264","v":60},{"$f":"INPUT!GD1264","v":3.1}]
[{"$f":"INPUT!EU:EU","v":45219.881909722222},{"$f":"INPUT!FE1265","v":80.400000000000006},{"$f":"INPUT!FI1265","v":53.1},{"$f":"INPUT!GB1265","v":60},{"$f":"INPUT!GD1265","v":2.9}]
[{"$f":"INPUT!EU:EU","v":45219.882604166669},{"$f":"INPUT!FE1266","v":80.400000000000006},{"$f":"INPUT!FI1266","v":53.1},{"$f":"INPUT!GB1266","v":60},{"$f":"INPUT!GD1266","v":3.1}]
[{"$f":"INPUT!EU:EU","v":45219.883310185185},{"$f":"INPUT!FE1267","v":80.3},{"$f":"INPUT!FI1267","v":53.1},{"$f":"INPUT!GB1267","v":60},{"$f":"INPUT!GD1267","v":3.1}]
[{"$f":"INPUT!EU:EU","v":45219.884016203701},{"$f":"INPUT!FE1268","v":80.3},{"$f":"INPUT!FI1268","v":53.1},{"$f":"INPUT!GB1268","v":60},{"$f":"INPUT!GD1268","v":3.1}]
[{"$f":"INPUT!EU:EU","v":45219.884710648148},{"$f":"INPUT!FE1269","v":80.2},{"$f":"INPUT!FI1269","v":53.1},{"$f":"INPUT!GB1269","v":60},{"$f":"INPUT!GD1269","v":3}]
[{"$f":"INPUT!EU:EU","v":45219.885428240741},{"$f":"INPUT!FE1270","v":80.2},{"$f":"INPUT!FI1270","v":53.1},{"$f":"INPUT!GB1270","v":60},{"$f":"INPUT!GD1270","v":3}]
[{"$f":"INPUT!EU:EU","v":45219.886134259257},{"$f":"INPUT!FE1271","v":80.099999999999994},{"$f":"INPUT!FI1271","v":53.1},{"$f":"INPUT!GB1271","v":60},{"$f":"INPUT!GD1271","v":3.1}]
[{"$f":"INPUT!EU:EU","v":45219.886840277781},{"$f":"INPUT!FE1272","v":80.099999999999994},{"$f":"INPUT!FI1272","v":53.1},{"$f":"INPUT!GB1272","v":60},{"$f":"INPUT!GD1272","v":3}]
[{"$f":"INPUT!EU:EU","v":45219.887546296297},{"$f":"INPUT!FE1273","v":80},{"$f":"INPUT!FI1273","v":53.1},{"$f":"INPUT!GB1273","v":60},{"$f":"INPUT!GD1273","v":3.1}]
[{"$f":"INPUT!EU:EU","v":45219.888240740744},{"$f":"INPUT!FE1274","v":80},{"$f":"INPUT!FI1274","v":53.1},{"$f":"INPUT!GB1274","v":60},{"$f":"INPUT!GD1274","v":3.1}]
[{"$f":"INPUT!EU:EU","v":45219.88894675926},{"$f":"INPUT!FE1275","v":79.900000000000006},{"$f":"INPUT!FI1275","v":53.1},{"$f":"INPUT!GB1275","v":60},{"$f":"INPUT!GD1275","v":3.1}]
[{"$f":"INPUT!EU:EU","v":45219.889652777776},{"$f":"INPUT!FE1276","v":79.900000000000006},{"$f":"INPUT!FI1276","v":53.1},{"$f":"INPUT!GB1276","v":60},{"$f":"INPUT!GD1276","v":3}]
[{"$f":"INPUT!EU:EU","v":45219.8903587963},{"$f":"INPUT!FE1277","v":79.8},{"$f":"INPUT!FI1277","v":53.1},{"$f":"INPUT!GB1277","v":60},{"$f":"INPUT!GD1277","v":3}]
[{"$f":"INPUT!EU:EU","v":45219.891053240739},{"$f":"INPUT!FE1278","v":79.8},{"$f":"INPUT!FI1278","v":53.1},{"$f":"INPUT!GB1278","v":60},{"$f":"INPUT!GD1278","v":3.1}]
[{"$f":"INPUT!EU:EU","v":45219.891747685186},{"$f":"INPUT!FE1279","v":79.7},{"$f":"INPUT!FI1279","v":53.1},{"$f":"INPUT!GB1279","v":60},{"$f":"INPUT!GD1279","v":3.1}]
[{"$f":"INPUT!EU:EU","v":45219.892465277779},{"$f":"INPUT!FE1280","v":79.7},{"$f":"INPUT!FI1280","v":53.1},{"$f":"INPUT!GB1280","v":60},{"$f":"INPUT!GD1280","v":3}]
[{"$f":"INPUT!EU:EU","v":45219.893171296295},{"$f":"INPUT!FE1281","v":79.599999999999994},{"$f":"INPUT!FI1281","v":53.1},{"$f":"INPUT!GB1281","v":60},{"$f":"INPUT!GD1281","v":3}]
[{"$f":"INPUT!EU:EU","v":45219.893865740742},{"$f":"INPUT!FE1282","v":79.599999999999994},{"$f":"INPUT!FI1282","v":53.1},{"$f":"INPUT!GB1282","v":60},{"$f":"INPUT!GD1282","v":3.1}]
[{"$f":"INPUT!EU:EU","v":45219.894571759258},{"$f":"INPUT!FE1283","v":79.5},{"$f":"INPUT!FI1283","v":53.1},{"$f":"INPUT!GB1283","v":60},{"$f":"INPUT!GD1283","v":3.1}]
[{"$f":"INPUT!EU:EU","v":45219.895277777781},{"$f":"INPUT!FE1284","v":79.5},{"$f":"INPUT!FI1284","v":53.1},{"$f":"INPUT!GB1284","v":60},{"$f":"INPUT!GD1284","v":3.1}]
[{"$f":"INPUT!EU:EU","v":45219.895972222221},{"$f":"INPUT!FE1285","v":79.400000000000006},{"$f":"INPUT!FI1285","v":53.1},{"$f":"INPUT!GB1285","v":60},{"$f":"INPUT!GD1285","v":3}]
[{"$f":"INPUT!EU:EU","v":45219.896678240744},{"$f":"INPUT!FE1286","v":79.400000000000006},{"$f":"INPUT!FI1286","v":53.1},{"$f":"INPUT!GB1286","v":60},{"$f":"INPUT!GD1286","v":3}]
[{"$f":"INPUT!EU:EU","v":45219.89738425926},{"$f":"INPUT!FE1287","v":79.3},{"$f":"INPUT!FI1287","v":53.1},{"$f":"INPUT!GB1287","v":60},{"$f":"INPUT!GD1287","v":3}]
[{"$f":"INPUT!EU:EU","v":45219.898090277777},{"$f":"INPUT!FE1288","v":79.3},{"$f":"INPUT!FI1288","v":53.1},{"$f":"INPUT!GB1288","v":60},{"$f":"INPUT!GD1288","v":3.1}]
[{"$f":"INPUT!EU:EU","v":45219.898784722223},{"$f":"INPUT!FE1289","v":79.3},{"$f":"INPUT!FI1289","v":53.1},{"$f":"INPUT!GB1289","v":60},{"$f":"INPUT!GD1289","v":3.1}]
[{"$f":"INPUT!EU:EU","v":45219.899513888886},{"$f":"INPUT!FE1290","v":79.2},{"$f":"INPUT!FI1290","v":53.1},{"$f":"INPUT!GB1290","v":60},{"$f":"INPUT!GD1290","v":3.1}]
[{"$f":"INPUT!EU:EU","v":45219.900208333333},{"$f":"INPUT!FE1291","v":79.2},{"$f":"INPUT!FI1291","v":53.1},{"$f":"INPUT!GB1291","v":60},{"$f":"INPUT!GD1291","v":3}]
[{"$f":"INPUT!EU:EU","v":45219.900914351849},{"$f":"INPUT!FE1292","v":79.099999999999994},{"$f":"INPUT!FI1292","v":53.1},{"$f":"INPUT!GB1292","v":60},{"$f":"INPUT!GD1292","v":3.1}]
[{"$f":"INPUT!EU:EU","v":45219.901620370372},{"$f":"INPUT!FE1293","v":79.099999999999994},{"$f":"INPUT!FI1293","v":53.1},{"$f":"INPUT!GB1293","v":60},{"$f":"INPUT!GD1293","v":3.1}]
[{"$f":"INPUT!EU:EU","v":45219.902314814812},{"$f":"INPUT!FE1294","v":79},{"$f":"INPUT!FI1294","v":53.1},{"$f":"INPUT!GB1294","v":60},{"$f":"INPUT!GD1294","v":3.1}]
[{"$f":"INPUT!EU:EU","v":45219.903020833335},{"$f":"INPUT!FE1295","v":79},{"$f":"INPUT!FI1295","v":53.1},{"$f":"INPUT!GB1295","v":60},{"$f":"INPUT!GD1295","v":3}]
[{"$f":"INPUT!EU:EU","v":45219.903726851851},{"$f":"INPUT!FE1296","v":78.900000000000006},{"$f":"INPUT!FI1296","v":53.1},{"$f":"INPUT!GB1296","v":60},{"$f":"INPUT!GD1296","v":3}]
[{"$f":"INPUT!EU:EU","v":45219.904421296298},{"$f":"INPUT!FE1297","v":78.900000000000006},{"$f":"INPUT!FI1297","v":53.1},{"$f":"INPUT!GB1297","v":60},{"$f":"INPUT!GD1297","v":3.1}]
[{"$f":"INPUT!EU:EU","v":45219.905127314814},{"$f":"INPUT!FE1298","v":78.8},{"$f":"INPUT!FI1298","v":53.1},{"$f":"INPUT!GB1298","v":60},{"$f":"INPUT!GD1298","v":3.1}]
[{"$f":"INPUT!EU:EU","v":45219.905833333331},{"$f":"INPUT!FE1299","v":78.8},{"$f":"INPUT!FI1299","v":53.1},{"$f":"INPUT!GB1299","v":60},{"$f":"INPUT!GD1299","v":3.1}]
[{"$f":"INPUT!EU:EU","v":45219.906550925924},{"$f":"INPUT!FE1300","v":78.7},{"$f":"INPUT!FI1300","v":53.1},{"$f":"INPUT!GB1300","v":60},{"$f":"INPUT!GD1300","v":3.1}]
[{"$f":"INPUT!EU:EU","v":45219.907256944447},{"$f":"INPUT!FE1301","v":78.7},{"$f":"INPUT!FI1301","v":53.1},{"$f":"INPUT!GB1301","v":60},{"$f":"INPUT!GD1301","v":3.1}]
[{"$f":"INPUT!EU:EU","v":45219.907962962963},{"$f":"INPUT!FE1302","v":78.599999999999994},{"$f":"INPUT!FI1302","v":53.1},{"$f":"INPUT!GB1302","v":60},{"$f":"INPUT!GD1302","v":3}]
[{"$f":"INPUT!EU:EU","v":45219.908668981479},{"$f":"INPUT!FE1303","v":78.599999999999994},{"$f":"INPUT!FI1303","v":53.1},{"$f":"INPUT!GB1303","v":60},{"$f":"INPUT!GD1303","v":3.1}]
[{"$f":"INPUT!EU:EU","v":45219.909363425926},{"$f":"INPUT!FE1304","v":78.5},{"$f":"INPUT!FI1304","v":53.1},{"$f":"INPUT!GB1304","v":60},{"$f":"INPUT!GD1304","v":3.1}]
[{"$f":"INPUT!EU:EU","v":45219.910069444442},{"$f":"INPUT!FE1305","v":78.5},{"$f":"INPUT!FI1305","v":53.1},{"$f":"INPUT!GB1305","v":60},{"$f":"INPUT!GD1305","v":3.1}]
[{"$f":"INPUT!EU:EU","v":45219.910775462966},{"$f":"INPUT!FE1306","v":78.400000000000006},{"$f":"INPUT!FI1306","v":53.1},{"$f":"INPUT!GB1306","v":60},{"$f":"INPUT!GD1306","v":3}]
[{"$f":"INPUT!EU:EU","v":45219.911469907405},{"$f":"INPUT!FE1307","v":78.400000000000006},{"$f":"INPUT!FI1307","v":53.1},{"$f":"INPUT!GB1307","v":60},{"$f":"INPUT!GD1307","v":6}]
[{"$f":"INPUT!EU:EU","v":45219.912175925929},{"$f":"INPUT!FE1308","v":78.3},{"$f":"INPUT!FI1308","v":53},{"$f":"INPUT!GB1308","v":60},{"$f":"INPUT!GD1308","v":6.1}]
[{"$f":"INPUT!EU:EU","v":45219.912893518522},{"$f":"INPUT!FE1309","v":78.2},{"$f":"INPUT!FI1309","v":53},{"$f":"INPUT!GB1309","v":60},{"$f":"INPUT!GD1309","v":5.9}]
[{"$f":"INPUT!EU:EU","v":45219.913599537038},{"$f":"INPUT!FE1310","v":78.099999999999994},{"$f":"INPUT!FI1310","v":53},{"$f":"INPUT!GB1310","v":60},{"$f":"INPUT!GD1310","v":5.6}]
[{"$f":"INPUT!EU:EU","v":45219.914293981485},{"$f":"INPUT!FE1311","v":78.099999999999994},{"$f":"INPUT!FI1311","v":53},{"$f":"INPUT!GB1311","v":60},{"$f":"INPUT!GD1311","v":5.7}]
[{"$f":"INPUT!EU:EU","v":45219.915000000001},{"$f":"INPUT!FE1312","v":78},{"$f":"INPUT!FI1312","v":53},{"$f":"INPUT!GB1312","v":60.1},{"$f":"INPUT!GD1312","v":5.6}]
[{"$f":"INPUT!EU:EU","v":45219.915706018517},{"$f":"INPUT!FE1313","v":77.900000000000006},{"$f":"INPUT!FI1313","v":53},{"$f":"INPUT!GB1313","v":60.1},{"$f":"INPUT!GD1313","v":5.6}]
[{"$f":"INPUT!EU:EU","v":45219.916412037041},{"$f":"INPUT!FE1314","v":77.8},{"$f":"INPUT!FI1314","v":53.1},{"$f":"INPUT!GB1314","v":60},{"$f":"INPUT!GD1314","v":2.8}]
[{"$f":"INPUT!EU:EU","v":45219.91710648148},{"$f":"INPUT!FE1315","v":77.8},{"$f":"INPUT!FI1315","v":53.1},{"$f":"INPUT!GB1315","v":60},{"$f":"INPUT!GD1315","v":2.9}]
[{"$f":"INPUT!EU:EU","v":45219.917812500003},{"$f":"INPUT!FE1316","v":77.7},{"$f":"INPUT!FI1316","v":53.1},{"$f":"INPUT!GB1316","v":60},{"$f":"INPUT!GD1316","v":2.9}]
[{"$f":"INPUT!EU:EU","v":45219.918506944443},{"$f":"INPUT!FE1317","v":77.7},{"$f":"INPUT!FI1317","v":53.1},{"$f":"INPUT!GB1317","v":60},{"$f":"INPUT!GD1317","v":2.8}]
[{"$f":"INPUT!EU:EU","v":45219.919212962966},{"$f":"INPUT!FE1318","v":77.7},{"$f":"INPUT!FI1318","v":53.1},{"$f":"INPUT!GB1318","v":60},{"$f":"INPUT!GD1318","v":2.8}]
[{"$f":"INPUT!EU:EU","v":45219.919918981483},{"$f":"INPUT!FE1319","v":77.599999999999994},{"$f":"INPUT!FI1319","v":53.1},{"$f":"INPUT!GB1319","v":60},{"$f":"INPUT!GD1319","v":2.9}]
[{"$f":"INPUT!EU:EU","v":45219.920624999999},{"$f":"INPUT!FE1320","v":77.599999999999994},{"$f":"INPUT!FI1320","v":53.1},{"$f":"INPUT!GB1320","v":60},{"$f":"INPUT!GD1320","v":3}]
[{"$f":"INPUT!EU:EU","v":45219.921331018515},{"$f":"INPUT!FE1321","v":77.5},{"$f":"INPUT!FI1321","v":53.1},{"$f":"INPUT!GB1321","v":60},{"$f":"INPUT!GD1321","v":2.9}]
[{"$f":"INPUT!EU:EU","v":45219.922037037039},{"$f":"INPUT!FE1322","v":77.5},{"$f":"INPUT!FI1322","v":53.1},{"$f":"INPUT!GB1322","v":60},{"$f":"INPUT!GD1322","v":2.8}]
[{"$f":"INPUT!EU:EU","v":45219.922743055555},{"$f":"INPUT!FE1323","v":77.400000000000006},{"$f":"INPUT!FI1323","v":53.1},{"$f":"INPUT!GB1323","v":60},{"$f":"INPUT!GD1323","v":2.9}]
[{"$f":"INPUT!EU:EU","v":45219.923437500001},{"$f":"INPUT!FE1324","v":77.400000000000006},{"$f":"INPUT!FI1324","v":53.1},{"$f":"INPUT!GB1324","v":60},{"$f":"INPUT!GD1324","v":2.9}]
[{"$f":"INPUT!EU:EU","v":45219.924143518518},{"$f":"INPUT!FE1325","v":77.3},{"$f":"INPUT!FI1325","v":53.1},{"$f":"INPUT!GB1325","v":60.1},{"$f":"INPUT!GD1325","v":5.8}]
[{"$f":"INPUT!EU:EU","v":45219.924849537034},{"$f":"INPUT!FE1326","v":77.2},{"$f":"INPUT!FI1326","v":53.1},{"$f":"INPUT!GB1326","v":60.1},{"$f":"INPUT!GD1326","v":5.7}]
[{"$f":"INPUT!EU:EU","v":45219.925555555557},{"$f":"INPUT!FE1327","v":77.2},{"$f":"INPUT!FI1327","v":53.1},{"$f":"INPUT!GB1327","v":60},{"$f":"INPUT!GD1327","v":2.9}]
[{"$f":"INPUT!EU:EU","v":45219.926261574074},{"$f":"INPUT!FE1328","v":77.099999999999994},{"$f":"INPUT!FI1328","v":53.1},{"$f":"INPUT!GB1328","v":60},{"$f":"INPUT!GD1328","v":2.9}]
[{"$f":"INPUT!EU:EU","v":45219.926979166667},{"$f":"INPUT!FE1329","v":77.099999999999994},{"$f":"INPUT!FI1329","v":53.1},{"$f":"INPUT!GB1329","v":60},{"$f":"INPUT!GD1329","v":2.9}]
[{"$f":"INPUT!EU:EU","v":45219.927685185183},{"$f":"INPUT!FE1330","v":77},{"$f":"INPUT!FI1330","v":53.1},{"$f":"INPUT!GB1330","v":60},{"$f":"INPUT!GD1330","v":2.9}]
[{"$f":"INPUT!EU:EU","v":45219.928379629629},{"$f":"INPUT!FE1331","v":77},{"$f":"INPUT!FI1331","v":53.1},{"$f":"INPUT!GB1331","v":60},{"$f":"INPUT!GD1331","v":2.9}]
[{"$f":"INPUT!EU:EU","v":45219.929085648146},{"$f":"INPUT!FE1332","v":76.900000000000006},{"$f":"INPUT!FI1332","v":53.1},{"$f":"INPUT!GB1332","v":60.1},{"$f":"INPUT!GD1332","v":5.9}]
[{"$f":"INPUT!EU:EU","v":45219.929791666669},{"$f":"INPUT!FE1333","v":76.900000000000006},{"$f":"INPUT!FI1333","v":53.1},{"$f":"INPUT!GB1333","v":60},{"$f":"INPUT!GD1333","v":2.8}]
[{"$f":"INPUT!EU:EU","v":45219.930486111109},{"$f":"INPUT!FE1334","v":76.8},{"$f":"INPUT!FI1334","v":53.1},{"$f":"INPUT!GB1334","v":60},{"$f":"INPUT!GD1334","v":2.9}]
[{"$f":"INPUT!EU:EU","v":45219.931192129632},{"$f":"INPUT!FE1335","v":76.8},{"$f":"INPUT!FI1335","v":53.1},{"$f":"INPUT!GB1335","v":60},{"$f":"INPUT!GD1335","v":2.9}]
[{"$f":"INPUT!EU:EU","v":45219.931898148148},{"$f":"INPUT!FE1336","v":76.7},{"$f":"INPUT!FI1336","v":53.1},{"$f":"INPUT!GB1336","v":60},{"$f":"INPUT!GD1336","v":2.9}]
[{"$f":"INPUT!EU:EU","v":45219.932604166665},{"$f":"INPUT!FE1337","v":76.7},{"$f":"INPUT!FI1337","v":53.1},{"$f":"INPUT!GB1337","v":60},{"$f":"INPUT!GD1337","v":2.9}]
[{"$f":"INPUT!EU:EU","v":45219.933310185188},{"$f":"INPUT!FE1338","v":76.7},{"$f":"INPUT!FI1338","v":53.1},{"$f":"INPUT!GB1338","v":60},{"$f":"INPUT!GD1338","v":2.8}]
[{"$f":"INPUT!EU:EU","v":45219.934016203704},{"$f":"INPUT!FE1339","v":76.599999999999994},{"$f":"INPUT!FI1339","v":53.1},{"$f":"INPUT!GB1339","v":60},{"$f":"INPUT!GD1339","v":2.9}]
[{"$f":"INPUT!EU:EU","v":45219.93472222222},{"$f":"INPUT!FE1340","v":76.599999999999994},{"$f":"INPUT!FI1340","v":53.1},{"$f":"INPUT!GB1340","v":60},{"$f":"INPUT!GD1340","v":2.9}]
[{"$f":"INPUT!EU:EU","v":45219.935428240744},{"$f":"INPUT!FE1341","v":76.5},{"$f":"INPUT!FI1341","v":53.1},{"$f":"INPUT!GB1341","v":60},{"$f":"INPUT!GD1341","v":2.8}]
[{"$f":"INPUT!EU:EU","v":45219.936122685183},{"$f":"INPUT!FE1342","v":76.5},{"$f":"INPUT!FI1342","v":53.1},{"$f":"INPUT!GB1342","v":60},{"$f":"INPUT!GD1342","v":2.8}]
[{"$f":"INPUT!EU:EU","v":45219.936828703707},{"$f":"INPUT!FE1343","v":76.400000000000006},{"$f":"INPUT!FI1343","v":53.1},{"$f":"INPUT!GB1343","v":60},{"$f":"INPUT!GD1343","v":2.8}]
[{"$f":"INPUT!EU:EU","v":45219.937534722223},{"$f":"INPUT!FE1344","v":76.400000000000006},{"$f":"INPUT!FI1344","v":53.1},{"$f":"INPUT!GB1344","v":60},{"$f":"INPUT!GD1344","v":2.9}]
[{"$f":"INPUT!EU:EU","v":45219.938240740739},{"$f":"INPUT!FE1345","v":76.3},{"$f":"INPUT!FI1345","v":53.1},{"$f":"INPUT!GB1345","v":60.1},{"$f":"INPUT!GD1345","v":5.8}]
[{"$f":"INPUT!EU:EU","v":45219.938946759263},{"$f":"INPUT!FE1346","v":76.3},{"$f":"INPUT!FI1346","v":53.1},{"$f":"INPUT!GB1346","v":60.1},{"$f":"INPUT!GD1346","v":5.8}]
[{"$f":"INPUT!EU:EU","v":45219.939641203702},{"$f":"INPUT!FE1347","v":76.2},{"$f":"INPUT!FI1347","v":53.1},{"$f":"INPUT!GB1347","v":60},{"$f":"INPUT!GD1347","v":2.9}]
[{"$f":"INPUT!EU:EU","v":45219.940347222226},{"$f":"INPUT!FE1348","v":76.2},{"$f":"INPUT!FI1348","v":53.1},{"$f":"INPUT!GB1348","v":60},{"$f":"INPUT!GD1348","v":2.9}]
[{"$f":"INPUT!EU:EU","v":45219.941064814811},{"$f":"INPUT!FE1349","v":76.099999999999994},{"$f":"INPUT!FI1349","v":53.1},{"$f":"INPUT!GB1349","v":60},{"$f":"INPUT!GD1349","v":2.8}]
[{"$f":"INPUT!EU:EU","v":45219.941770833335},{"$f":"INPUT!FE1350","v":76.099999999999994},{"$f":"INPUT!FI1350","v":53.1},{"$f":"INPUT!GB1350","v":60},{"$f":"INPUT!GD1350","v":2.8}]
[{"$f":"INPUT!EU:EU","v":45219.942465277774},{"$f":"INPUT!FE1351","v":76.099999999999994},{"$f":"INPUT!FI1351","v":53.1},{"$f":"INPUT!GB1351","v":60},{"$f":"INPUT!GD1351","v":2.5}]
[{"$f":"INPUT!EU:EU","v":45219.943171296298},{"$f":"INPUT!FE1352","v":76},{"$f":"INPUT!FI1352","v":53.1},{"$f":"INPUT!GB1352","v":60},{"$f":"INPUT!GD1352","v":2.6}]
[{"$f":"INPUT!EU:EU","v":45219.943877314814},{"$f":"INPUT!FE1353","v":76},{"$f":"INPUT!FI1353","v":53.1},{"$f":"INPUT!GB1353","v":60},{"$f":"INPUT!GD1353","v":2.5}]
[{"$f":"INPUT!EU:EU","v":45219.94458333333},{"$f":"INPUT!FE1354","v":75.900000000000006},{"$f":"INPUT!FI1354","v":53.1},{"$f":"INPUT!GB1354","v":60.1},{"$f":"INPUT!GD1354","v":6}]
[{"$f":"INPUT!EU:EU","v":45219.945289351854},{"$f":"INPUT!FE1355","v":75.8},{"$f":"INPUT!FI1355","v":53},{"$f":"INPUT!GB1355","v":60.1},{"$f":"INPUT!GD1355","v":6}]
[{"$f":"INPUT!EU:EU","v":45219.94599537037},{"$f":"INPUT!FE1356","v":75.8},{"$f":"INPUT!FI1356","v":53.1},{"$f":"INPUT!GB1356","v":60},{"$f":"INPUT!GD1356","v":2.6}]
[{"$f":"INPUT!EU:EU","v":45219.946701388886},{"$f":"INPUT!FE1357","v":75.8},{"$f":"INPUT!FI1357","v":53.1},{"$f":"INPUT!GB1357","v":60},{"$f":"INPUT!GD1357","v":2.6}]
[{"$f":"INPUT!EU:EU","v":45219.947395833333},{"$f":"INPUT!FE1358","v":75.7},{"$f":"INPUT!FI1358","v":53.1},{"$f":"INPUT!GB1358","v":60},{"$f":"INPUT!GD1358","v":2.6}]
[{"$f":"INPUT!EU:EU","v":45219.948113425926},{"$f":"INPUT!FE1359","v":75.7},{"$f":"INPUT!FI1359","v":53.1},{"$f":"INPUT!GB1359","v":60},{"$f":"INPUT!GD1359","v":2.5}]
[{"$f":"INPUT!EU:EU","v":45219.948819444442},{"$f":"INPUT!FE1360","v":75.599999999999994},{"$f":"INPUT!FI1360","v":53.1},{"$f":"INPUT!GB1360","v":60},{"$f":"INPUT!GD1360","v":2.5}]
[{"$f":"INPUT!EU:EU","v":45219.949525462966},{"$f":"INPUT!FE1361","v":75.599999999999994},{"$f":"INPUT!FI1361","v":53.1},{"$f":"INPUT!GB1361","v":60},{"$f":"INPUT!GD1361","v":2.6}]
[{"$f":"INPUT!EU:EU","v":45219.950219907405},{"$f":"INPUT!FE1362","v":75.5},{"$f":"INPUT!FI1362","v":53.1},{"$f":"INPUT!GB1362","v":60},{"$f":"INPUT!GD1362","v":2.8}]
[{"$f":"INPUT!EU:EU","v":45219.950925925928},{"$f":"INPUT!FE1363","v":75.5},{"$f":"INPUT!FI1363","v":53.1},{"$f":"INPUT!GB1363","v":60.1},{"$f":"INPUT!GD1363","v":5.8}]
[{"$f":"INPUT!EU:EU","v":45219.951631944445},{"$f":"INPUT!FE1364","v":75.400000000000006},{"$f":"INPUT!FI1364","v":53.1},{"$f":"INPUT!GB1364","v":60.1},{"$f":"INPUT!GD1364","v":5.7}]
[{"$f":"INPUT!EU:EU","v":45219.952337962961},{"$f":"INPUT!FE1365","v":75.400000000000006},{"$f":"INPUT!FI1365","v":53.1},{"$f":"INPUT!GB1365","v":60},{"$f":"INPUT!GD1365","v":2.9}]
[{"$f":"INPUT!EU:EU","v":45219.953043981484},{"$f":"INPUT!FE1366","v":75.3},{"$f":"INPUT!FI1366","v":53.1},{"$f":"INPUT!GB1366","v":60},{"$f":"INPUT!GD1366","v":2.9}]
[{"$f":"INPUT!EU:EU","v":45219.953750000001},{"$f":"INPUT!FE1367","v":75.3},{"$f":"INPUT!FI1367","v":53.1},{"$f":"INPUT!GB1367","v":60},{"$f":"INPUT!GD1367","v":2.9}]
[{"$f":"INPUT!EU:EU","v":45219.954456018517},{"$f":"INPUT!FE1368","v":75.2},{"$f":"INPUT!FI1368","v":53.1},{"$f":"INPUT!GB1368","v":60},{"$f":"INPUT!GD1368","v":2.8}]
[{"$f":"INPUT!EU:EU","v":45219.95517361111},{"$f":"INPUT!FE1369","v":75.2},{"$f":"INPUT!FI1369","v":53.1},{"$f":"INPUT!GB1369","v":60},{"$f":"INPUT!GD1369","v":2.9}]
[{"$f":"INPUT!EU:EU","v":45219.955879629626},{"$f":"INPUT!FE1370","v":75.2},{"$f":"INPUT!FI1370","v":53.1},{"$f":"INPUT!GB1370","v":60},{"$f":"INPUT!GD1370","v":2.9}]
[{"$f":"INPUT!EU:EU","v":45219.956585648149},{"$f":"INPUT!FE1371","v":75.099999999999994},{"$f":"INPUT!FI1371","v":53.1},{"$f":"INPUT!GB1371","v":60},{"$f":"INPUT!GD1371","v":5.8}]
[{"$f":"INPUT!EU:EU","v":45219.957291666666},{"$f":"INPUT!FE1372","v":75.099999999999994},{"$f":"INPUT!FI1372","v":53.1},{"$f":"INPUT!GB1372","v":60.1},{"$f":"INPUT!GD1372","v":5.8}]
[{"$f":"INPUT!EU:EU","v":45219.957997685182},{"$f":"INPUT!FE1373","v":75},{"$f":"INPUT!FI1373","v":53.1},{"$f":"INPUT!GB1373","v":60},{"$f":"INPUT!GD1373","v":2.9}]
[{"$f":"INPUT!EU:EU","v":45219.958692129629},{"$f":"INPUT!FE1374","v":75},{"$f":"INPUT!FI1374","v":53.1},{"$f":"INPUT!GB1374","v":60},{"$f":"INPUT!GD1374","v":2.9}]
[{"$f":"INPUT!EU:EU","v":45219.959398148145},{"$f":"INPUT!FE1375","v":74.900000000000006},{"$f":"INPUT!FI1375","v":53.1},{"$f":"INPUT!GB1375","v":60},{"$f":"INPUT!GD1375","v":2.8}]
[{"$f":"INPUT!EU:EU","v":45219.960104166668},{"$f":"INPUT!FE1376","v":74.900000000000006},{"$f":"INPUT!FI1376","v":53.1},{"$f":"INPUT!GB1376","v":60},{"$f":"INPUT!GD1376","v":2.9}]
[{"$f":"INPUT!EU:EU","v":45219.960810185185},{"$f":"INPUT!FE1377","v":74.8},{"$f":"INPUT!FI1377","v":53.1},{"$f":"INPUT!GB1377","v":60},{"$f":"INPUT!GD1377","v":2.9}]
[{"$f":"INPUT!EU:EU","v":45219.961527777778},{"$f":"INPUT!FE1378","v":74.8},{"$f":"INPUT!FI1378","v":53.1},{"$f":"INPUT!GB1378","v":60},{"$f":"INPUT!GD1378","v":2.9}]
[{"$f":"INPUT!EU:EU","v":45219.962233796294},{"$f":"INPUT!FE1379","v":74.8},{"$f":"INPUT!FI1379","v":53.1},{"$f":"INPUT!GB1379","v":60},{"$f":"INPUT!GD1379","v":5.8}]
[{"$f":"INPUT!EU:EU","v":45219.96292824074},{"$f":"INPUT!FE1380","v":74.7},{"$f":"INPUT!FI1380","v":53},{"$f":"INPUT!GB1380","v":60.1},{"$f":"INPUT!GD1380","v":5.8}]
[{"$f":"INPUT!EU:EU","v":45219.963634259257},{"$f":"INPUT!FE1381","v":74.599999999999994},{"$f":"INPUT!FI1381","v":53},{"$f":"INPUT!GB1381","v":60.1},{"$f":"INPUT!GD1381","v":5.7}]
[{"$f":"INPUT!EU:EU","v":45219.96434027778},{"$f":"INPUT!FE1382","v":74.599999999999994},{"$f":"INPUT!FI1382","v":53},{"$f":"INPUT!GB1382","v":60},{"$f":"INPUT!GD1382","v":2.9}]
[{"$f":"INPUT!EU:EU","v":45219.965046296296},{"$f":"INPUT!FE1383","v":74.5},{"$f":"INPUT!FI1383","v":53},{"$f":"INPUT!GB1383","v":60},{"$f":"INPUT!GD1383","v":2.9}]
[{"$f":"INPUT!EU:EU","v":45219.965752314813},{"$f":"INPUT!FE1384","v":74.5},{"$f":"INPUT!FI1384","v":53},{"$f":"INPUT!GB1384","v":60},{"$f":"INPUT!GD1384","v":2.9}]
[{"$f":"INPUT!EU:EU","v":45219.966458333336},{"$f":"INPUT!FE1385","v":74.5},{"$f":"INPUT!FI1385","v":53},{"$f":"INPUT!GB1385","v":60},{"$f":"INPUT!GD1385","v":2.9}]
[{"$f":"INPUT!EU:EU","v":45219.967164351852},{"$f":"INPUT!FE1386","v":74.400000000000006},{"$f":"INPUT!FI1386","v":53},{"$f":"INPUT!GB1386","v":60},{"$f":"INPUT!GD1386","v":2.8}]
[{"$f":"INPUT!EU:EU","v":45219.967858796299},{"$f":"INPUT!FE1387","v":74.400000000000006},{"$f":"INPUT!FI1387","v":53},{"$f":"INPUT!GB1387","v":60},{"$f":"INPUT!GD1387","v":2.8}]
[{"$f":"INPUT!EU:EU","v":45219.968576388892},{"$f":"INPUT!FE1388","v":74.3},{"$f":"INPUT!FI1388","v":53},{"$f":"INPUT!GB1388","v":60},{"$f":"INPUT!GD1388","v":2.9}]
[{"$f":"INPUT!EU:EU","v":45219.969282407408},{"$f":"INPUT!FE1389","v":74.3},{"$f":"INPUT!FI1389","v":53},{"$f":"INPUT!GB1389","v":60},{"$f":"INPUT!GD1389","v":3}]
[{"$f":"INPUT!EU:EU","v":45219.969988425924},{"$f":"INPUT!FE1390","v":74.2},{"$f":"INPUT!FI1390","v":53},{"$f":"INPUT!GB1390","v":60},{"$f":"INPUT!GD1390","v":2.9}]
[{"$f":"INPUT!EU:EU","v":45219.970694444448},{"$f":"INPUT!FE1391","v":74.2},{"$f":"INPUT!FI1391","v":53},{"$f":"INPUT!GB1391","v":60},{"$f":"INPUT!GD1391","v":2.8}]
[{"$f":"INPUT!EU:EU","v":45219.971400462964},{"$f":"INPUT!FE1392","v":74.099999999999994},{"$f":"INPUT!FI1392","v":53},{"$f":"INPUT!GB1392","v":60},{"$f":"INPUT!GD1392","v":2.9}]
[{"$f":"INPUT!EU:EU","v":45219.97210648148},{"$f":"INPUT!FE1393","v":74.099999999999994},{"$f":"INPUT!FI1393","v":53},{"$f":"INPUT!GB1393","v":60},{"$f":"INPUT!GD1393","v":2.9}]
[{"$f":"INPUT!EU:EU","v":45219.972800925927},{"$f":"INPUT!FE1394","v":74},{"$f":"INPUT!FI1394","v":53},{"$f":"INPUT!GB1394","v":60},{"$f":"INPUT!GD1394","v":2.9}]
[{"$f":"INPUT!EU:EU","v":45219.973506944443},{"$f":"INPUT!FE1395","v":74},{"$f":"INPUT!FI1395","v":53},{"$f":"INPUT!GB1395","v":60},{"$f":"INPUT!GD1395","v":2.8}]
[{"$f":"INPUT!EU:EU","v":45219.974212962959},{"$f":"INPUT!FE1396","v":73.900000000000006},{"$f":"INPUT!FI1396","v":53},{"$f":"INPUT!GB1396","v":60},{"$f":"INPUT!GD1396","v":2.8}]
[{"$f":"INPUT!EU:EU","v":45219.974918981483},{"$f":"INPUT!FE1397","v":73.900000000000006},{"$f":"INPUT!FI1397","v":53},{"$f":"INPUT!GB1397","v":60},{"$f":"INPUT!GD1397","v":2.8}]
[{"$f":"INPUT!EU:EU","v":45219.975636574076},{"$f":"INPUT!FE1398","v":73.8},{"$f":"INPUT!FI1398","v":53},{"$f":"INPUT!GB1398","v":60},{"$f":"INPUT!GD1398","v":2.8}]
[{"$f":"INPUT!EU:EU","v":45219.976342592592},{"$f":"INPUT!FE1399","v":73.8},{"$f":"INPUT!FI1399","v":53},{"$f":"INPUT!GB1399","v":60},{"$f":"INPUT!GD1399","v":2.9}]
[{"$f":"INPUT!EU:EU","v":45219.977037037039},{"$f":"INPUT!FE1400","v":73.7},{"$f":"INPUT!FI1400","v":53},{"$f":"INPUT!GB1400","v":60},{"$f":"INPUT!GD1400","v":2.9}]
[{"$f":"INPUT!EU:EU","v":45219.977743055555},{"$f":"INPUT!FE1401","v":73.7},{"$f":"INPUT!FI1401","v":53},{"$f":"INPUT!GB1401","v":60},{"$f":"INPUT!GD1401","v":2.8}]
[{"$f":"INPUT!EU:EU","v":45219.978449074071},{"$f":"INPUT!FE1402","v":73.599999999999994},{"$f":"INPUT!FI1402","v":53},{"$f":"INPUT!GB1402","v":60},{"$f":"INPUT!GD1402","v":2.8}]
[{"$f":"INPUT!EU:EU","v":45219.979155092595},{"$f":"INPUT!FE1403","v":73.599999999999994},{"$f":"INPUT!FI1403","v":53},{"$f":"INPUT!GB1403","v":60},{"$f":"INPUT!GD1403","v":2.9}]
[{"$f":"INPUT!EU:EU","v":45219.979861111111},{"$f":"INPUT!FE1404","v":73.5},{"$f":"INPUT!FI1404","v":53},{"$f":"INPUT!GB1404","v":60},{"$f":"INPUT!GD1404","v":2.9}]
[{"$f":"INPUT!EU:EU","v":45219.980567129627},{"$f":"INPUT!FE1405","v":73.5},{"$f":"INPUT!FI1405","v":53},{"$f":"INPUT!GB1405","v":60},{"$f":"INPUT!GD1405","v":2.9}]
[{"$f":"INPUT!EU:EU","v":45219.981261574074},{"$f":"INPUT!FE1406","v":73.400000000000006},{"$f":"INPUT!FI1406","v":53},{"$f":"INPUT!GB1406","v":60},{"$f":"INPUT!GD1406","v":2.7}]
[{"$f":"INPUT!EU:EU","v":45219.981956018521},{"$f":"INPUT!FE1407","v":73.400000000000006},{"$f":"INPUT!FI1407","v":53},{"$f":"INPUT!GB1407","v":60},{"$f":"INPUT!GD1407","v":2.9}]
[{"$f":"INPUT!EU:EU","v":45219.982673611114},{"$f":"INPUT!FE1408","v":73.3},{"$f":"INPUT!FI1408","v":53},{"$f":"INPUT!GB1408","v":60},{"$f":"INPUT!GD1408","v":2.9}]
[{"$f":"INPUT!EU:EU","v":45219.98337962963},{"$f":"INPUT!FE1409","v":73.3},{"$f":"INPUT!FI1409","v":53},{"$f":"INPUT!GB1409","v":60},{"$f":"INPUT!GD1409","v":2.9}]
[{"$f":"INPUT!EU:EU","v":45219.984085648146},{"$f":"INPUT!FE1410","v":73.2},{"$f":"INPUT!FI1410","v":53},{"$f":"INPUT!GB1410","v":60},{"$f":"INPUT!GD1410","v":2.8}]
[{"$f":"INPUT!EU:EU","v":45219.984791666669},{"$f":"INPUT!FE1411","v":73.2},{"$f":"INPUT!FI1411","v":53},{"$f":"INPUT!GB1411","v":60},{"$f":"INPUT!GD1411","v":2.9}]
[{"$f":"INPUT!EU:EU","v":45219.985497685186},{"$f":"INPUT!FE1412","v":73.099999999999994},{"$f":"INPUT!FI1412","v":53},{"$f":"INPUT!GB1412","v":60},{"$f":"INPUT!GD1412","v":2.9}]
[{"$f":"INPUT!EU:EU","v":45219.986192129632},{"$f":"INPUT!FE1413","v":73.099999999999994},{"$f":"INPUT!FI1413","v":53},{"$f":"INPUT!GB1413","v":60},{"$f":"INPUT!GD1413","v":2.9}]
[{"$f":"INPUT!EU:EU","v":45219.986898148149},{"$f":"INPUT!FE1414","v":73},{"$f":"INPUT!FI1414","v":53},{"$f":"INPUT!GB1414","v":60},{"$f":"INPUT!GD1414","v":2.8}]
[{"$f":"INPUT!EU:EU","v":45219.987592592595},{"$f":"INPUT!FE1415","v":73},{"$f":"INPUT!FI1415","v":53},{"$f":"INPUT!GB1415","v":60},{"$f":"INPUT!GD1415","v":2.9}]
[{"$f":"INPUT!EU:EU","v":45219.988298611112},{"$f":"INPUT!FE1416","v":72.900000000000006},{"$f":"INPUT!FI1416","v":53},{"$f":"INPUT!GB1416","v":60},{"$f":"INPUT!GD1416","v":2.8}]
[{"$f":"INPUT!EU:EU","v":45219.988993055558},{"$f":"INPUT!FE1417","v":72.900000000000006},{"$f":"INPUT!FI1417","v":53},{"$f":"INPUT!GB1417","v":60},{"$f":"INPUT!GD1417","v":2.8}]
[{"$f":"INPUT!EU:EU","v":45219.989710648151},{"$f":"INPUT!FE1418","v":72.8},{"$f":"INPUT!FI1418","v":53},{"$f":"INPUT!GB1418","v":60},{"$f":"INPUT!GD1418","v":2.8}]
[{"$f":"INPUT!EU:EU","v":45219.990416666667},{"$f":"INPUT!FE1419","v":72.8},{"$f":"INPUT!FI1419","v":53},{"$f":"INPUT!GB1419","v":60},{"$f":"INPUT!GD1419","v":2.9}]
[{"$f":"INPUT!EU:EU","v":45219.991111111114},{"$f":"INPUT!FE1420","v":72.8},{"$f":"INPUT!FI1420","v":53},{"$f":"INPUT!GB1420","v":60},{"$f":"INPUT!GD1420","v":2.9}]
[{"$f":"INPUT!EU:EU","v":45219.99181712963},{"$f":"INPUT!FE1421","v":72.7},{"$f":"INPUT!FI1421","v":53},{"$f":"INPUT!GB1421","v":60},{"$f":"INPUT!GD1421","v":2.9}]
[{"$f":"INPUT!EU:EU","v":45219.992511574077},{"$f":"INPUT!FE1422","v":72.7},{"$f":"INPUT!FI1422","v":53},{"$f":"INPUT!GB1422","v":60},{"$f":"INPUT!GD1422","v":2.8}]
[{"$f":"INPUT!EU:EU","v":45219.993217592593},{"$f":"INPUT!FE1423","v":72.599999999999994},{"$f":"INPUT!FI1423","v":53},{"$f":"INPUT!GB1423","v":60},{"$f":"INPUT!GD1423","v":2.9}]
[{"$f":"INPUT!EU:EU","v":45219.993923611109},{"$f":"INPUT!FE1424","v":72.599999999999994},{"$f":"INPUT!FI1424","v":52.9},{"$f":"INPUT!GB1424","v":60},{"$f":"INPUT!GD1424","v":2.9}]
[{"$f":"INPUT!EU:EU","v":45219.994629629633},{"$f":"INPUT!FE1425","v":72.5},{"$f":"INPUT!FI1425","v":52.9},{"$f":"INPUT!GB1425","v":60},{"$f":"INPUT!GD1425","v":2.9}]
[{"$f":"INPUT!EU:EU","v":45219.995324074072},{"$f":"INPUT!FE1426","v":72.5},{"$f":"INPUT!FI1426","v":53},{"$f":"INPUT!GB1426","v":60},{"$f":"INPUT!GD1426","v":2.8}]
[{"$f":"INPUT!EU:EU","v":45219.996030092596},{"$f":"INPUT!FE1427","v":72.400000000000006},{"$f":"INPUT!FI1427","v":53},{"$f":"INPUT!GB1427","v":60},{"$f":"INPUT!GD1427","v":2.8}]
[{"$f":"INPUT!EU:EU","v":45219.996747685182},{"$f":"INPUT!FE1428","v":72.400000000000006},{"$f":"INPUT!FI1428","v":52.9},{"$f":"INPUT!GB1428","v":60},{"$f":"INPUT!GD1428","v":2.9}]
[{"$f":"INPUT!EU:EU","v":45219.997453703705},{"$f":"INPUT!FE1429","v":72.3},{"$f":"INPUT!FI1429","v":52.9},{"$f":"INPUT!GB1429","v":60},{"$f":"INPUT!GD1429","v":2.9}]
[{"$f":"INPUT!EU:EU","v":45219.998159722221},{"$f":"INPUT!FE1430","v":72.3},{"$f":"INPUT!FI1430","v":52.9},{"$f":"INPUT!GB1430","v":60},{"$f":"INPUT!GD1430","v":2.9}]
[{"$f":"INPUT!EU:EU","v":45219.998865740738},{"$f":"INPUT!FE1431","v":72.3},{"$f":"INPUT!FI1431","v":52.9},{"$f":"INPUT!GB1431","v":60},{"$f":"INPUT!GD1431","v":2.9}]
[{"$f":"INPUT!EU:EU","v":45219.999571759261},{"$f":"INPUT!FE1432","v":72.2},{"$f":"INPUT!FI1432","v":52.9},{"$f":"INPUT!GB1432","v":60},{"$f":"INPUT!GD1432","v":2.8}]
[{"$f":"INPUT!EU:EU","v":45176.999293981484},{"$f":"INPUT!FE1433","v":82.6},{"$f":"INPUT!FI1433","v":49.7},{"$f":"INPUT!GB1433","v":59},{"$f":"INPUT!GD1433","v":4.5}]

{"sheet":"Sheet3","index":3,"n_rows":0,"n_cols":0,"rows_kept":0,"cut":false,"hidden":false,"merged":[]}